BEGIN:VCALENDAR
VERSION:2.0
PRODID:-//The Pressbox - ECPv6.15.19//NONSGML v1.0//EN
CALSCALE:GREGORIAN
METHOD:PUBLISH
X-ORIGINAL-URL:https://thepressboxlts.com
X-WR-CALDESC:Events for The Pressbox
REFRESH-INTERVAL;VALUE=DURATION:PT1H
X-Robots-Tag:noindex
X-PUBLISHED-TTL:PT1H
BEGIN:VTIMEZONE
TZID:America/Kentucky/Louisville
BEGIN:DAYLIGHT
TZOFFSETFROM:-0500
TZOFFSETTO:-0400
TZNAME:EDT
DTSTART:20250309T070000
END:DAYLIGHT
BEGIN:STANDARD
TZOFFSETFROM:-0400
TZOFFSETTO:-0500
TZNAME:EST
DTSTART:20251102T060000
END:STANDARD
BEGIN:DAYLIGHT
TZOFFSETFROM:-0500
TZOFFSETTO:-0400
TZNAME:EDT
DTSTART:20260308T070000
END:DAYLIGHT
BEGIN:STANDARD
TZOFFSETFROM:-0400
TZOFFSETTO:-0500
TZNAME:EST
DTSTART:20261101T060000
END:STANDARD
BEGIN:DAYLIGHT
TZOFFSETFROM:-0500
TZOFFSETTO:-0400
TZNAME:EDT
DTSTART:20270314T070000
END:DAYLIGHT
BEGIN:STANDARD
TZOFFSETFROM:-0400
TZOFFSETTO:-0500
TZNAME:EST
DTSTART:20271107T060000
END:STANDARD
END:VTIMEZONE
BEGIN:VEVENT
DTSTART;TZID=America/Kentucky/Louisville:20260221T123000
DTEND;TZID=America/Kentucky/Louisville:20260221T183000
DTSTAMP:20260419T143717
CREATED:20260215T174431Z
LAST-MODIFIED:20260215T174431Z
UID:77911-1771677000-1771698600@thepressboxlts.com
SUMMARY:Fair Grounds Winter / Spring Meet
DESCRIPTION:First Post: 12:45 p.m. CT \nPhoto by Hodges Photography & Courtesy of the Fair Grounds
URL:https://thepressboxlts.com/event/fair-grounds-winter-spring-meet-121/
LOCATION:Fair Grounds\, New Orleans\, LA\, United States
ATTACH;FMTTYPE=image/jpeg:https://thepressboxlts.com/wp-content/uploads/2024/03/Behemah-Star_12-9-2023-f-sm-2.jpg
END:VEVENT
BEGIN:VEVENT
DTSTART;TZID=America/Kentucky/Louisville:20260221T173000
DTEND;TZID=America/Kentucky/Louisville:20260221T223000
DTSTAMP:20260419T143717
CREATED:20260215T173540Z
LAST-MODIFIED:20260215T173540Z
UID:77901-1771695000-1771713000@thepressboxlts.com
SUMMARY:Turfway Park Winter / Spring Meet
DESCRIPTION:First Post: 5:50 p.m. ET \nPhoto by Coady Media
URL:https://thepressboxlts.com/event/turfway-park-winter-spring-meet-143/
LOCATION:Turfway Park\, Florence\, KY\, United States
ATTACH;FMTTYPE=image/jpeg:https://thepressboxlts.com/wp-content/uploads/2026/02/HONOR-MARIE-The-Dust-Commander-35th-Running-02-14-26-R09-Turfway-Park-Winners-Circle-01-scaled.jpg
END:VEVENT
END:VCALENDAR