BEGIN:VCALENDAR
VERSION:2.0
PRODID:-//The Pressbox - ECPv6.15.19//NONSGML v1.0//EN
CALSCALE:GREGORIAN
METHOD:PUBLISH
X-ORIGINAL-URL:https://thepressboxlts.com
X-WR-CALDESC:Events for The Pressbox
REFRESH-INTERVAL;VALUE=DURATION:PT1H
X-Robots-Tag:noindex
X-PUBLISHED-TTL:PT1H
BEGIN:VTIMEZONE
TZID:America/Kentucky/Louisville
BEGIN:DAYLIGHT
TZOFFSETFROM:-0500
TZOFFSETTO:-0400
TZNAME:EDT
DTSTART:20250309T070000
END:DAYLIGHT
BEGIN:STANDARD
TZOFFSETFROM:-0400
TZOFFSETTO:-0500
TZNAME:EST
DTSTART:20251102T060000
END:STANDARD
BEGIN:DAYLIGHT
TZOFFSETFROM:-0500
TZOFFSETTO:-0400
TZNAME:EDT
DTSTART:20260308T070000
END:DAYLIGHT
BEGIN:STANDARD
TZOFFSETFROM:-0400
TZOFFSETTO:-0500
TZNAME:EST
DTSTART:20261101T060000
END:STANDARD
BEGIN:DAYLIGHT
TZOFFSETFROM:-0500
TZOFFSETTO:-0400
TZNAME:EDT
DTSTART:20270314T070000
END:DAYLIGHT
BEGIN:STANDARD
TZOFFSETFROM:-0400
TZOFFSETTO:-0500
TZNAME:EST
DTSTART:20271107T060000
END:STANDARD
END:VTIMEZONE
BEGIN:VEVENT
DTSTART;TZID=America/Kentucky/Louisville:20260307T123000
DTEND;TZID=America/Kentucky/Louisville:20260307T183000
DTSTAMP:20260419T123311
CREATED:20260303T154344Z
LAST-MODIFIED:20260303T154344Z
UID:78172-1772886600-1772908200@thepressboxlts.com
SUMMARY:Fair Grounds Winter / Spring Meet
DESCRIPTION:First Post: 12:45 p.m. CT \nPhoto by Hodges Photography & Courtesy of the Fair Grounds
URL:https://thepressboxlts.com/event/fair-grounds-winter-spring-meet-138/
LOCATION:Fair Grounds\, New Orleans\, LA\, United States
ATTACH;FMTTYPE=image/jpeg:https://thepressboxlts.com/wp-content/uploads/2026/02/Paladin-outside-defeats-Chip-Honcho-in-Risen-Star-pan-credit-Fair-Grounds-2026-scaled.jpg
END:VEVENT
BEGIN:VEVENT
DTSTART;TZID=America/Kentucky/Louisville:20260307T173000
DTEND;TZID=America/Kentucky/Louisville:20260307T223000
DTSTAMP:20260419T123311
CREATED:20260303T153829Z
LAST-MODIFIED:20260303T153829Z
UID:78166-1772904600-1772922600@thepressboxlts.com
SUMMARY:Turfway Park Winter / Spring Meet
DESCRIPTION:First Post: 5:50 p.m. ET \nPhoto by Coady Media
URL:https://thepressboxlts.com/event/turfway-park-winter-spring-meet-151/
LOCATION:Turfway Park\, Florence\, KY\, United States
ATTACH;FMTTYPE=image/jpeg:https://thepressboxlts.com/wp-content/uploads/2026/02/GREAT-WHITE-The-John-Battaglia-Memorial-44th-Running-02-21-26-R09-Turfway-Park-Start-01-Kurtis-Coady-scaled.jpg
END:VEVENT
END:VCALENDAR