BEGIN:VCALENDAR
VERSION:2.0
PRODID:-//The Pressbox - ECPv6.15.19//NONSGML v1.0//EN
CALSCALE:GREGORIAN
METHOD:PUBLISH
X-WR-CALNAME:The Pressbox
X-ORIGINAL-URL:https://thepressboxlts.com
X-WR-CALDESC:Events for The Pressbox
REFRESH-INTERVAL;VALUE=DURATION:PT1H
X-Robots-Tag:noindex
X-PUBLISHED-TTL:PT1H
BEGIN:VTIMEZONE
TZID:America/Kentucky/Louisville
BEGIN:DAYLIGHT
TZOFFSETFROM:-0500
TZOFFSETTO:-0400
TZNAME:EDT
DTSTART:20250309T070000
END:DAYLIGHT
BEGIN:STANDARD
TZOFFSETFROM:-0400
TZOFFSETTO:-0500
TZNAME:EST
DTSTART:20251102T060000
END:STANDARD
BEGIN:DAYLIGHT
TZOFFSETFROM:-0500
TZOFFSETTO:-0400
TZNAME:EDT
DTSTART:20260308T070000
END:DAYLIGHT
BEGIN:STANDARD
TZOFFSETFROM:-0400
TZOFFSETTO:-0500
TZNAME:EST
DTSTART:20261101T060000
END:STANDARD
BEGIN:DAYLIGHT
TZOFFSETFROM:-0500
TZOFFSETTO:-0400
TZNAME:EDT
DTSTART:20270314T070000
END:DAYLIGHT
BEGIN:STANDARD
TZOFFSETFROM:-0400
TZOFFSETTO:-0500
TZNAME:EST
DTSTART:20271107T060000
END:STANDARD
END:VTIMEZONE
BEGIN:VEVENT
DTSTART;TZID=America/Kentucky/Louisville:20260201T123000
DTEND;TZID=America/Kentucky/Louisville:20260201T183000
DTSTAMP:20260419T144059
CREATED:20260125T191101Z
LAST-MODIFIED:20260125T191101Z
UID:77445-1769949000-1769970600@thepressboxlts.com
SUMMARY:Fair Grounds Winter / Spring Meet
DESCRIPTION:First Post: 12:45 p.m. CT \nPhoto by Hughes Photography & Courtesy of the Fair Grounds
URL:https://thepressboxlts.com/event/fair-grounds-winter-spring-meet-111/
LOCATION:Fair Grounds\, New Orleans\, LA\, United States
ATTACH;FMTTYPE=image/jpeg:https://thepressboxlts.com/wp-content/uploads/2025/12/CATCHINGFREEDOM.jpeg
END:VEVENT
BEGIN:VEVENT
DTSTART;TZID=America/Kentucky/Louisville:20260204T173000
DTEND;TZID=America/Kentucky/Louisville:20260204T223000
DTSTAMP:20260419T144059
CREATED:20260201T171005Z
LAST-MODIFIED:20260201T171005Z
UID:77634-1770226200-1770244200@thepressboxlts.com
SUMMARY:Turfway Park Winter / Spring Meet
DESCRIPTION:First Post: 5:55 p.m. ET \nPhoto by Coady Media
URL:https://thepressboxlts.com/event/turfway-park-winter-spring-meet-132/
LOCATION:Turfway Park\, Florence\, KY\, United States
ATTACH;FMTTYPE=image/jpeg:https://thepressboxlts.com/wp-content/uploads/2026/01/STREET-BEAST-The-Leonatus-Stakes-01-17-26-R08-Turfway-Park-Come-Back-03-Renee-Torbit-scaled.jpg
END:VEVENT
BEGIN:VEVENT
DTSTART;TZID=America/Kentucky/Louisville:20260205T123000
DTEND;TZID=America/Kentucky/Louisville:20260205T183000
DTSTAMP:20260419T144059
CREATED:20260201T171726Z
LAST-MODIFIED:20260201T171726Z
UID:77643-1770294600-1770316200@thepressboxlts.com
SUMMARY:Fair Grounds Winter / Spring Meet
DESCRIPTION:First Post: 12:45 p.m. CT \nPhoto by Hughes Photography & Courtesy of the Fair Grounds
URL:https://thepressboxlts.com/event/fair-grounds-winter-spring-meet-112/
LOCATION:Fair Grounds\, New Orleans\, LA\, United States
ATTACH;FMTTYPE=image/png:https://thepressboxlts.com/wp-content/uploads/2025/12/fairgrounds-racing-homepage-1.png
END:VEVENT
BEGIN:VEVENT
DTSTART;TZID=America/Kentucky/Louisville:20260205T173000
DTEND;TZID=America/Kentucky/Louisville:20260205T223000
DTSTAMP:20260419T144059
CREATED:20260201T171125Z
LAST-MODIFIED:20260201T171125Z
UID:77636-1770312600-1770330600@thepressboxlts.com
SUMMARY:Turfway Park Winter / Spring Meet
DESCRIPTION:First Post: 5:55 p.m. ET \nPhoto by Coady Media
URL:https://thepressboxlts.com/event/turfway-park-winter-spring-meet-133/
LOCATION:Turfway Park\, Florence\, KY\, United States
ATTACH;FMTTYPE=image/jpeg:https://thepressboxlts.com/wp-content/uploads/2026/01/STREET-BEAST-The-Leonatus-Stakes-01-17-26-R08-Turfway-Park-Come-Back-01-Renee-Torbit-scaled.jpg
END:VEVENT
BEGIN:VEVENT
DTSTART;TZID=America/Kentucky/Louisville:20260206T123000
DTEND;TZID=America/Kentucky/Louisville:20260206T183000
DTSTAMP:20260419T144059
CREATED:20260201T171836Z
LAST-MODIFIED:20260201T171836Z
UID:77645-1770381000-1770402600@thepressboxlts.com
SUMMARY:Fair Grounds Winter / Spring Meet
DESCRIPTION:First Post: 12:45 p.m. CT \nPhoto by Hughes Photography & Courtesy of the Fair Grounds
URL:https://thepressboxlts.com/event/fair-grounds-winter-spring-meet-113/
LOCATION:Fair Grounds\, New Orleans\, LA\, United States
ATTACH;FMTTYPE=image/jpeg:https://thepressboxlts.com/wp-content/uploads/2025/12/FGNO-41529-WebGraphicResizes_1120x610_6-2.jpg
END:VEVENT
BEGIN:VEVENT
DTSTART;TZID=America/Kentucky/Louisville:20260206T173000
DTEND;TZID=America/Kentucky/Louisville:20260206T223000
DTSTAMP:20260419T144059
CREATED:20260201T171254Z
LAST-MODIFIED:20260201T171254Z
UID:77639-1770399000-1770417000@thepressboxlts.com
SUMMARY:Turfway Park Winter / Spring Meet
DESCRIPTION:First Post: 5:55 p.m. ET \nPhoto by Coady Media
URL:https://thepressboxlts.com/event/turfway-park-winter-spring-meet-134/
LOCATION:Turfway Park\, Florence\, KY\, United States
ATTACH;FMTTYPE=image/jpeg:https://thepressboxlts.com/wp-content/uploads/2026/01/STREET-BEAST-The-Leonatus-Stakes-01-17-26-R08-Turfway-Park-Start-01-Renee-Torbit-scaled.jpg
END:VEVENT
BEGIN:VEVENT
DTSTART;TZID=America/Kentucky/Louisville:20260207T123000
DTEND;TZID=America/Kentucky/Louisville:20260207T183000
DTSTAMP:20260419T144059
CREATED:20260201T172001Z
LAST-MODIFIED:20260201T172001Z
UID:77647-1770467400-1770489000@thepressboxlts.com
SUMMARY:Fair Grounds Winter / Spring Meet
DESCRIPTION:First Post: 12:45 p.m. CT \nPhoto by Hughes Photography & Courtesy of the Fair Grounds
URL:https://thepressboxlts.com/event/fair-grounds-winter-spring-meet-114/
LOCATION:Fair Grounds\, New Orleans\, LA\, United States
ATTACH;FMTTYPE=image/jpeg:https://thepressboxlts.com/wp-content/uploads/2024/02/Pretty-Mischievous-F_2-18-2023.jpg
END:VEVENT
BEGIN:VEVENT
DTSTART;TZID=America/Kentucky/Louisville:20260207T173000
DTEND;TZID=America/Kentucky/Louisville:20260207T223000
DTSTAMP:20260419T144059
CREATED:20260201T171434Z
LAST-MODIFIED:20260201T171434Z
UID:77641-1770485400-1770503400@thepressboxlts.com
SUMMARY:Turfway Park Winter / Spring Meet
DESCRIPTION:First Post: 5:55 p.m. ET \nPhoto by Coady Media
URL:https://thepressboxlts.com/event/turfway-park-winter-spring-meet-135/
LOCATION:Turfway Park\, Florence\, KY\, United States
ATTACH;FMTTYPE=image/jpeg:https://thepressboxlts.com/wp-content/uploads/2026/01/STREET-BEAST-The-Leonatus-Stakes-01-17-26-R08-Turfway-Park-Finish-02-Renee-Torbit-scaled.jpg
END:VEVENT
BEGIN:VEVENT
DTSTART;TZID=America/Kentucky/Louisville:20260211T173000
DTEND;TZID=America/Kentucky/Louisville:20260211T223000
DTSTAMP:20260419T144059
CREATED:20260208T162708Z
LAST-MODIFIED:20260208T162708Z
UID:77793-1770831000-1770849000@thepressboxlts.com
SUMMARY:Turfway Park Winter / Spring Meet
DESCRIPTION:First Post: 5:55 p.m. ET \nPhoto by Coady Media
URL:https://thepressboxlts.com/event/turfway-park-winter-spring-meet-136/
LOCATION:Turfway Park\, Florence\, KY\, United States
ATTACH;FMTTYPE=image/jpeg:https://thepressboxlts.com/wp-content/uploads/2026/02/COCO-CONNECT-The-Valdale-39th-Running-02-07-26-R08-Turfway-Park-Paddock-01-scaled.jpg
END:VEVENT
BEGIN:VEVENT
DTSTART;TZID=America/Kentucky/Louisville:20260212T123000
DTEND;TZID=America/Kentucky/Louisville:20260212T183000
DTSTAMP:20260419T144059
CREATED:20260208T163420Z
LAST-MODIFIED:20260208T163420Z
UID:77801-1770899400-1770921000@thepressboxlts.com
SUMMARY:Fair Grounds Winter /  Spring Meet
DESCRIPTION:First Post: 12:45 p.m. CT \nPhoto by Hodges Photography & Courtesy of the Fair Grounds
URL:https://thepressboxlts.com/event/fair-grounds-winter-spring-meet-115/
LOCATION:Fair Grounds\, New Orleans\, LA\, United States
ATTACH;FMTTYPE=image/jpeg:https://thepressboxlts.com/wp-content/uploads/2026/02/Taken-By-The-Wind-F_1-17-26-2-scaled.jpg
END:VEVENT
BEGIN:VEVENT
DTSTART;TZID=America/Kentucky/Louisville:20260212T173000
DTEND;TZID=America/Kentucky/Louisville:20260212T223000
DTSTAMP:20260419T144059
CREATED:20260208T162836Z
LAST-MODIFIED:20260208T162836Z
UID:77795-1770917400-1770935400@thepressboxlts.com
SUMMARY:Turfway Park Winter / Spring Meet
DESCRIPTION:First Post: 5:55 p.m. ET \nPhoto by Coady Media
URL:https://thepressboxlts.com/event/turfway-park-winter-spring-meet-137/
LOCATION:Turfway Park\, Florence\, KY\, United States
ATTACH;FMTTYPE=image/jpeg:https://thepressboxlts.com/wp-content/uploads/2026/02/MS-TART-The-Wishing-Well-33rd-Running-02-06-26-R08-Turfway-Park-Comeback-01-scaled.jpg
END:VEVENT
BEGIN:VEVENT
DTSTART;TZID=America/Kentucky/Louisville:20260213T123000
DTEND;TZID=America/Kentucky/Louisville:20260213T183000
DTSTAMP:20260419T144059
CREATED:20260208T163547Z
LAST-MODIFIED:20260208T163547Z
UID:77803-1770985800-1771007400@thepressboxlts.com
SUMMARY:Fair Grounds Winter /  Spring Meet
DESCRIPTION:First Post: 12:45 p.m. CT \nPhoto by Hodges Photography & Courtesy of the Fair Grounds
URL:https://thepressboxlts.com/event/fair-grounds-winter-spring-meet-116/
LOCATION:Fair Grounds\, New Orleans\, LA\, United States
ATTACH;FMTTYPE=image/jpeg:https://thepressboxlts.com/wp-content/uploads/2026/02/Golden-Tempo-F_1-17-26-Large.jpeg
END:VEVENT
BEGIN:VEVENT
DTSTART;TZID=America/Kentucky/Louisville:20260213T173000
DTEND;TZID=America/Kentucky/Louisville:20260213T223000
DTSTAMP:20260419T144059
CREATED:20260208T162959Z
LAST-MODIFIED:20260208T162959Z
UID:77797-1771003800-1771021800@thepressboxlts.com
SUMMARY:Turfway Park Winter / Spring Meet
DESCRIPTION:First Post: 5:55 p.m. ET \nPhoto by Coady Media
URL:https://thepressboxlts.com/event/turfway-park-winter-spring-meet-138/
LOCATION:Turfway Park\, Florence\, KY\, United States
ATTACH;FMTTYPE=image/jpeg:https://thepressboxlts.com/wp-content/uploads/2026/02/MS-TART-The-Wishing-Well-33rd-Running-02-06-26-R08-Turfway-Park-Upthetrack-01-scaled.jpg
END:VEVENT
BEGIN:VEVENT
DTSTART;TZID=America/Kentucky/Louisville:20260214T120000
DTEND;TZID=America/Kentucky/Louisville:20260214T190000
DTSTAMP:20260419T144059
CREATED:20260208T163809Z
LAST-MODIFIED:20260208T163809Z
UID:77805-1771070400-1771095600@thepressboxlts.com
SUMMARY:Fair Grounds Winter /  Spring Meet -- Louisiana Derby Preview Day
DESCRIPTION:First Post: 12 Noon CT \n 
URL:https://thepressboxlts.com/event/fair-grounds-winter-spring-meet-louisiana-derby-preview-day/
LOCATION:Fair Grounds\, New Orleans\, LA\, United States
ATTACH;FMTTYPE=image/png:https://thepressboxlts.com/wp-content/uploads/2025/12/fairgrounds-racing-homepage-1.png
END:VEVENT
BEGIN:VEVENT
DTSTART;TZID=America/Kentucky/Louisville:20260214T173000
DTEND;TZID=America/Kentucky/Louisville:20260214T223000
DTSTAMP:20260419T144059
CREATED:20260208T163146Z
LAST-MODIFIED:20260208T163146Z
UID:77799-1771090200-1771108200@thepressboxlts.com
SUMMARY:Turfway Park Winter / Spring Meet
DESCRIPTION:First Post: 5:55 p.m. ET \nPhoto by Coady Media
URL:https://thepressboxlts.com/event/turfway-park-winter-spring-meet-139/
LOCATION:Turfway Park\, Florence\, KY\, United States
ATTACH;FMTTYPE=image/jpeg:https://thepressboxlts.com/wp-content/uploads/2026/02/COCO-CONNECT-The-Valdale-39th-Running-02-07-26-R08-Turfway-Park-Presentation-01-scaled.jpg
END:VEVENT
BEGIN:VEVENT
DTSTART;TZID=America/Kentucky/Louisville:20260216T123000
DTEND;TZID=America/Kentucky/Louisville:20260216T183000
DTSTAMP:20260419T144059
CREATED:20260215T173737Z
LAST-MODIFIED:20260215T173737Z
UID:77903-1771245000-1771266600@thepressboxlts.com
SUMMARY:Fair Grounds Winter / Spring Meet
DESCRIPTION:First Post: 12:45 p.m. CT \nPhoto by Hodges Photography & Courtesy of the Fair Grounds
URL:https://thepressboxlts.com/event/fair-grounds-winter-spring-meet-117/
LOCATION:Fair Grounds\, New Orleans\, LA\, United States
ATTACH;FMTTYPE=image/jpeg:https://thepressboxlts.com/wp-content/uploads/2026/02/Paladin_2-14-26_F-scaled.jpg
END:VEVENT
BEGIN:VEVENT
DTSTART;TZID=America/Kentucky/Louisville:20260217T123000
DTEND;TZID=America/Kentucky/Louisville:20260217T183000
DTSTAMP:20260419T144059
CREATED:20260215T173902Z
LAST-MODIFIED:20260215T173902Z
UID:77905-1771331400-1771353000@thepressboxlts.com
SUMMARY:Fair Grounds Winter / Spring Meet
DESCRIPTION:First Post: 12:45 p.m. CT \nPhoto by Hodges Photography & Courtesy of the Fair Grounds
URL:https://thepressboxlts.com/event/fair-grounds-winter-spring-meet-118/
LOCATION:Fair Grounds\, New Orleans\, LA\, United States
ATTACH;FMTTYPE=image/jpeg:https://thepressboxlts.com/wp-content/uploads/2026/02/Bella-Ballerina_2-14-26_F-scaled.jpg
END:VEVENT
BEGIN:VEVENT
DTSTART;TZID=America/Kentucky/Louisville:20260218T173000
DTEND;TZID=America/Kentucky/Louisville:20260218T223000
DTSTAMP:20260419T144059
CREATED:20260215T173114Z
LAST-MODIFIED:20260215T173114Z
UID:77895-1771435800-1771453800@thepressboxlts.com
SUMMARY:Turfway Park Winter / Spring Meet
DESCRIPTION:First Post: 5:50 p.m. ET \nPhoto by Coady Media
URL:https://thepressboxlts.com/event/turfway-park-winter-spring-meet-140/
LOCATION:Turfway Park\, Florence\, KY\, United States
ATTACH;FMTTYPE=image/jpeg:https://thepressboxlts.com/wp-content/uploads/2026/02/HONOR-MARIE-The-Dust-Commander-35th-Running-02-14-26-R09-Turfway-Park-Comeback-01-scaled.jpg
END:VEVENT
BEGIN:VEVENT
DTSTART;TZID=America/Kentucky/Louisville:20260219T123000
DTEND;TZID=America/Kentucky/Louisville:20260219T183000
DTSTAMP:20260419T144059
CREATED:20260215T174127Z
LAST-MODIFIED:20260215T174127Z
UID:77907-1771504200-1771525800@thepressboxlts.com
SUMMARY:Fair Grounds Winter / Spring Meet
DESCRIPTION:First Post: 12:45 p.m. CT \nPhoto by Hodges Photography & Courtesy of the Fair Grounds \n 
URL:https://thepressboxlts.com/event/fair-grounds-winter-spring-meet-119/
LOCATION:Fair Grounds\, New Orleans\, LA\, United States
ATTACH;FMTTYPE=image/png:https://thepressboxlts.com/wp-content/uploads/2025/12/fairgrounds-racing-homepage-1.png
END:VEVENT
BEGIN:VEVENT
DTSTART;TZID=America/Kentucky/Louisville:20260219T173000
DTEND;TZID=America/Kentucky/Louisville:20260219T223000
DTSTAMP:20260419T144059
CREATED:20260215T173236Z
LAST-MODIFIED:20260215T173236Z
UID:77897-1771522200-1771540200@thepressboxlts.com
SUMMARY:Turfway Park Winter / Spring Meet
DESCRIPTION:First Post: 5:50 p.m. ET \nPhoto by Coady Media
URL:https://thepressboxlts.com/event/turfway-park-winter-spring-meet-141/
LOCATION:Turfway Park\, Florence\, KY\, United States
ATTACH;FMTTYPE=image/jpeg:https://thepressboxlts.com/wp-content/uploads/2026/02/HONOR-MARIE-The-Dust-Commander-35th-Running-02-14-26-R09-Turfway-Park-Finish-01-scaled.jpg
END:VEVENT
BEGIN:VEVENT
DTSTART;TZID=America/Kentucky/Louisville:20260220T123000
DTEND;TZID=America/Kentucky/Louisville:20260220T183000
DTSTAMP:20260419T144059
CREATED:20260215T174301Z
LAST-MODIFIED:20260215T174301Z
UID:77909-1771590600-1771612200@thepressboxlts.com
SUMMARY:Fair Grounds Winter / Spring Meet
DESCRIPTION:First Post: 12:45 p.m. CT \nPhoto by Hodges Photography & Courtesy of the Fair Grounds
URL:https://thepressboxlts.com/event/fair-grounds-winter-spring-meet-120/
LOCATION:Fair Grounds\, New Orleans\, LA\, United States
ATTACH;FMTTYPE=image/jpeg:https://thepressboxlts.com/wp-content/uploads/2024/02/Pretty-Mischievous-F_2-18-2023.jpg
END:VEVENT
BEGIN:VEVENT
DTSTART;TZID=America/Kentucky/Louisville:20260220T173000
DTEND;TZID=America/Kentucky/Louisville:20260220T223000
DTSTAMP:20260419T144059
CREATED:20260215T173411Z
LAST-MODIFIED:20260215T173411Z
UID:77899-1771608600-1771626600@thepressboxlts.com
SUMMARY:Turfway Park Winter / Spring Meet
DESCRIPTION:First Post: 5:50 p.m. ET \nPhoto by Coady Media
URL:https://thepressboxlts.com/event/turfway-park-winter-spring-meet-142/
LOCATION:Turfway Park\, Florence\, KY\, United States
ATTACH;FMTTYPE=image/jpeg:https://thepressboxlts.com/wp-content/uploads/2026/02/HONOR-MARIE-The-Dust-Commander-35th-Running-02-14-26-R09-Turfway-Park-Presentation-01-scaled.jpg
END:VEVENT
BEGIN:VEVENT
DTSTART;TZID=America/Kentucky/Louisville:20260221T123000
DTEND;TZID=America/Kentucky/Louisville:20260221T183000
DTSTAMP:20260419T144059
CREATED:20260215T174431Z
LAST-MODIFIED:20260215T174431Z
UID:77911-1771677000-1771698600@thepressboxlts.com
SUMMARY:Fair Grounds Winter / Spring Meet
DESCRIPTION:First Post: 12:45 p.m. CT \nPhoto by Hodges Photography & Courtesy of the Fair Grounds
URL:https://thepressboxlts.com/event/fair-grounds-winter-spring-meet-121/
LOCATION:Fair Grounds\, New Orleans\, LA\, United States
ATTACH;FMTTYPE=image/jpeg:https://thepressboxlts.com/wp-content/uploads/2024/03/Behemah-Star_12-9-2023-f-sm-2.jpg
END:VEVENT
BEGIN:VEVENT
DTSTART;TZID=America/Kentucky/Louisville:20260221T173000
DTEND;TZID=America/Kentucky/Louisville:20260221T223000
DTSTAMP:20260419T144059
CREATED:20260215T173540Z
LAST-MODIFIED:20260215T173540Z
UID:77901-1771695000-1771713000@thepressboxlts.com
SUMMARY:Turfway Park Winter / Spring Meet
DESCRIPTION:First Post: 5:50 p.m. ET \nPhoto by Coady Media
URL:https://thepressboxlts.com/event/turfway-park-winter-spring-meet-143/
LOCATION:Turfway Park\, Florence\, KY\, United States
ATTACH;FMTTYPE=image/jpeg:https://thepressboxlts.com/wp-content/uploads/2026/02/HONOR-MARIE-The-Dust-Commander-35th-Running-02-14-26-R09-Turfway-Park-Winners-Circle-01-scaled.jpg
END:VEVENT
BEGIN:VEVENT
DTSTART;TZID=America/Kentucky/Louisville:20260222T123000
DTEND;TZID=America/Kentucky/Louisville:20260222T183000
DTSTAMP:20260419T144059
CREATED:20260215T174651Z
LAST-MODIFIED:20260215T174651Z
UID:77913-1771763400-1771785000@thepressboxlts.com
SUMMARY:Fair Grounds Winter / Spring Meet
DESCRIPTION:First Post: 12:45 p.m. CT \nPhoto by Hodges Photography & Courtesy of the Fair Grounds
URL:https://thepressboxlts.com/event/fair-grounds-winter-spring-meet-122/
LOCATION:Fair Grounds\, New Orleans\, LA\, United States
ATTACH;FMTTYPE=image/png:https://thepressboxlts.com/wp-content/uploads/2025/12/fairgrounds-racing-homepage-1.png
END:VEVENT
BEGIN:VEVENT
DTSTART;TZID=America/Kentucky/Louisville:20260225T173000
DTEND;TZID=America/Kentucky/Louisville:20260225T223000
DTSTAMP:20260419T144059
CREATED:20260223T172536Z
LAST-MODIFIED:20260223T172536Z
UID:78008-1772040600-1772058600@thepressboxlts.com
SUMMARY:Turfway Park Winter / Spring Meet
DESCRIPTION:First Post: 5:55 p.m. ET \nPhoto by Coady Media
URL:https://thepressboxlts.com/event/turfway-park-winter-spring-meet-144/
LOCATION:Turfway Park\, Florence\, KY\, United States
ATTACH;FMTTYPE=image/jpeg:https://thepressboxlts.com/wp-content/uploads/2026/02/RESPLENDENCE-The-Cincinnati-Trophy-44th-Running-02-20-26-R09-Turfway-Park-Inside-Finish-01-Cady-Coulardot-scaled.jpg
END:VEVENT
BEGIN:VEVENT
DTSTART;TZID=America/Kentucky/Louisville:20260226T123000
DTEND;TZID=America/Kentucky/Louisville:20260226T183000
DTSTAMP:20260419T144059
CREATED:20260223T173150Z
LAST-MODIFIED:20260223T173150Z
UID:78016-1772109000-1772130600@thepressboxlts.com
SUMMARY:Fair Grounds Winter / Spring Meet
DESCRIPTION:First Post: 12:45 p.m. CT \nPhoto by Hodges Photography & Courtesy of the Fair Grounds
URL:https://thepressboxlts.com/event/fair-grounds-winter-spring-meet-123/
LOCATION:Fair Grounds\, New Orleans\, LA\, United States
ATTACH;FMTTYPE=image/jpeg:https://thepressboxlts.com/wp-content/uploads/2026/02/Paladin_2-14-26_F-scaled.jpg
END:VEVENT
BEGIN:VEVENT
DTSTART;TZID=America/Kentucky/Louisville:20260226T173000
DTEND;TZID=America/Kentucky/Louisville:20260226T223000
DTSTAMP:20260419T144059
CREATED:20260223T172712Z
LAST-MODIFIED:20260223T172712Z
UID:78010-1772127000-1772145000@thepressboxlts.com
SUMMARY:Turfway Park Winter / Spring Meet
DESCRIPTION:First Post: 5:55 p.m. ET \nPhoto by Coady Media
URL:https://thepressboxlts.com/event/turfway-park-winter-spring-meet-145/
LOCATION:Turfway Park\, Florence\, KY\, United States
ATTACH;FMTTYPE=image/jpeg:https://thepressboxlts.com/wp-content/uploads/2026/02/GREAT-WHITE-The-John-Battaglia-Memorial-44th-Running-02-21-26-R09-Turfway-Park-Paddock-02-Ashley-Phillips-scaled.jpg
END:VEVENT
BEGIN:VEVENT
DTSTART;TZID=America/Kentucky/Louisville:20260227T123000
DTEND;TZID=America/Kentucky/Louisville:20260227T183000
DTSTAMP:20260419T144059
CREATED:20260223T173310Z
LAST-MODIFIED:20260223T173310Z
UID:78018-1772195400-1772217000@thepressboxlts.com
SUMMARY:Fair Grounds Winter / Spring Meet
DESCRIPTION:First Post: 12:45 p.m. CT \nPhoto by Hodges Photography & Courtesy of the Fair Grounds
URL:https://thepressboxlts.com/event/fair-grounds-winter-spring-meet-133/
LOCATION:Fair Grounds\, New Orleans\, LA\, United States
ATTACH;FMTTYPE=image/jpeg:https://thepressboxlts.com/wp-content/uploads/2026/02/Bella-Ballerina_2-14-26_F-scaled.jpg
END:VEVENT
BEGIN:VEVENT
DTSTART;TZID=America/Kentucky/Louisville:20260227T173000
DTEND;TZID=America/Kentucky/Louisville:20260227T223000
DTSTAMP:20260419T144059
CREATED:20260223T172814Z
LAST-MODIFIED:20260223T172814Z
UID:78012-1772213400-1772231400@thepressboxlts.com
SUMMARY:Turfway Park Winter / Spring Meet
DESCRIPTION:First Post: 5:55 p.m. ET \nPhoto by Coady Media
URL:https://thepressboxlts.com/event/turfway-park-winter-spring-meet-146/
LOCATION:Turfway Park\, Florence\, KY\, United States
ATTACH;FMTTYPE=image/jpeg:https://thepressboxlts.com/wp-content/uploads/2026/02/GREAT-WHITE-The-John-Battaglia-Memorial-44th-Running-02-21-26-R09-Turfway-Park-Alex-Achard-03-Ashley-Phillips-scaled.jpg
END:VEVENT
END:VCALENDAR