BEGIN:VCALENDAR
VERSION:2.0
PRODID:-//The Pressbox - ECPv6.15.19//NONSGML v1.0//EN
CALSCALE:GREGORIAN
METHOD:PUBLISH
X-WR-CALNAME:The Pressbox
X-ORIGINAL-URL:https://thepressboxlts.com
X-WR-CALDESC:Events for The Pressbox
REFRESH-INTERVAL;VALUE=DURATION:PT1H
X-Robots-Tag:noindex
X-PUBLISHED-TTL:PT1H
BEGIN:VTIMEZONE
TZID:America/Kentucky/Louisville
BEGIN:DAYLIGHT
TZOFFSETFROM:-0500
TZOFFSETTO:-0400
TZNAME:EDT
DTSTART:20240310T070000
END:DAYLIGHT
BEGIN:STANDARD
TZOFFSETFROM:-0400
TZOFFSETTO:-0500
TZNAME:EST
DTSTART:20241103T060000
END:STANDARD
BEGIN:DAYLIGHT
TZOFFSETFROM:-0500
TZOFFSETTO:-0400
TZNAME:EDT
DTSTART:20250309T070000
END:DAYLIGHT
BEGIN:STANDARD
TZOFFSETFROM:-0400
TZOFFSETTO:-0500
TZNAME:EST
DTSTART:20251102T060000
END:STANDARD
BEGIN:DAYLIGHT
TZOFFSETFROM:-0500
TZOFFSETTO:-0400
TZNAME:EDT
DTSTART:20260308T070000
END:DAYLIGHT
BEGIN:STANDARD
TZOFFSETFROM:-0400
TZOFFSETTO:-0500
TZNAME:EST
DTSTART:20261101T060000
END:STANDARD
END:VTIMEZONE
BEGIN:VEVENT
DTSTART;TZID=America/Kentucky/Louisville:20250720T123000
DTEND;TZID=America/Kentucky/Louisville:20250720T183000
DTSTAMP:20260420T125152
CREATED:20250718T140218Z
LAST-MODIFIED:20250718T140218Z
UID:73714-1753014600-1753036200@thepressboxlts.com
SUMMARY:Ellis Park Summer Meet
DESCRIPTION:First Post: 12:45 p.m. CT \nPhoto by Coady Media
URL:https://thepressboxlts.com/event/ellis-park-summer-meet-81/
LOCATION:Ellis Park\, Henderson\, KY\, United States
ATTACH;FMTTYPE=image/png:https://thepressboxlts.com/wp-content/uploads/2025/06/Ellis-Park_logo.png
END:VEVENT
BEGIN:VEVENT
DTSTART;TZID=America/Kentucky/Louisville:20250719T123000
DTEND;TZID=America/Kentucky/Louisville:20250719T190000
DTSTAMP:20260420T125152
CREATED:20250714T012653Z
LAST-MODIFIED:20250714T012653Z
UID:73682-1752928200-1752951600@thepressboxlts.com
SUMMARY:Colonial Downs Summer Meet
DESCRIPTION:First Post: 12:30 p.m. ET \nPhoto by Coady Media
URL:https://thepressboxlts.com/event/colonial-downs-summer-meet-22/
LOCATION:Colonial Downs
ATTACH;FMTTYPE=image/jpeg:https://thepressboxlts.com/wp-content/uploads/2025/07/WINFINITY-The-Miss-Disco-Stakes-07-12-25-R05-Colonial-Downs-Inside-Finish-01-scaled.jpg
END:VEVENT
BEGIN:VEVENT
DTSTART;TZID=America/Kentucky/Louisville:20250719T123000
DTEND;TZID=America/Kentucky/Louisville:20250719T183000
DTSTAMP:20260420T125152
CREATED:20250718T140024Z
LAST-MODIFIED:20250718T140024Z
UID:73712-1752928200-1752949800@thepressboxlts.com
SUMMARY:Ellis Park Summer Meet
DESCRIPTION:First Post: 12:45 p.m. ET \nPhoto by Coady Media
URL:https://thepressboxlts.com/event/ellis-park-summer-meet-80/
LOCATION:Ellis Park\, Henderson\, KY\, United States
ATTACH;FMTTYPE=image/jpeg:https://thepressboxlts.com/wp-content/uploads/2025/07/TROUBLESHOOTING-The-Dade-Park-Dash-07-04-25-R08-Ellis-Park-Come-Back-01-Madison-Becker-scaled.jpg
END:VEVENT
BEGIN:VEVENT
DTSTART;TZID=America/Kentucky/Louisville:20250719T103000
DTEND;TZID=America/Kentucky/Louisville:20250719T143000
DTSTAMP:20260420T125152
CREATED:20250714T012058Z
LAST-MODIFIED:20250714T012058Z
UID:73674-1752921000-1752935400@thepressboxlts.com
SUMMARY:Horseshoe Indianapolis Summer Meet: Quarter Horse Day
DESCRIPTION:First Post: 10:45 a.m. ET \nPhoto by Coady Media
URL:https://thepressboxlts.com/event/horseshoe-indianapolis-summer-meet-quarter-horse-day-2/
LOCATION:IN
ATTACH;FMTTYPE=image/jpeg:https://thepressboxlts.com/wp-content/uploads/2025/07/WILLY-DS-Michael-G-Schaefer-Memorial-07-05-25-R09-Horseshoe-Indiana-Start-01-Samantha-Pagels-scaled.jpg
END:VEVENT
BEGIN:VEVENT
DTSTART;TZID=America/Kentucky/Louisville:20250718T160000
DTEND;TZID=America/Kentucky/Louisville:20250718T210000
DTSTAMP:20260420T125152
CREATED:20250714T012451Z
LAST-MODIFIED:20250714T012451Z
UID:73680-1752854400-1752872400@thepressboxlts.com
SUMMARY:Colonial Downs Summer Meet
DESCRIPTION:First Post: 4:00 p.m. ET \n 
URL:https://thepressboxlts.com/event/colonial-downs-summer-meet-21/
LOCATION:IN
ATTACH;FMTTYPE=image/jpeg:https://thepressboxlts.com/wp-content/uploads/2025/07/Colonial-Downs_web-1-e1678889817555-1.jpg
END:VEVENT
BEGIN:VEVENT
DTSTART;TZID=America/Kentucky/Louisville:20250717T140000
DTEND;TZID=America/Kentucky/Louisville:20250717T170000
DTSTAMP:20260420T125152
CREATED:20250714T012003Z
LAST-MODIFIED:20250714T012003Z
UID:73672-1752760800-1752771600@thepressboxlts.com
SUMMARY:Horseshoe Indianapolis Summer Meet
DESCRIPTION:First Post: 2:10 p.m. ET \nPhoto by Coady Media
URL:https://thepressboxlts.com/event/horseshoe-indianapolis-summer-meet-151/
LOCATION:Horseshoe Indianapolis\, Shelbyville\, IN\, United States
ATTACH;FMTTYPE=image/jpeg:https://thepressboxlts.com/wp-content/uploads/2025/07/TIP-TOP-THOMAS-Indiana-Derby-G3-07-05-25-R12-Horseshoe-Indiana-Finish-01-Samantha-Pagels-scaled.jpg
END:VEVENT
BEGIN:VEVENT
DTSTART;TZID=America/Kentucky/Louisville:20250717T103000
DTEND;TZID=America/Kentucky/Louisville:20250717T170000
DTSTAMP:20260420T125152
CREATED:20250714T012405Z
LAST-MODIFIED:20250714T012405Z
UID:73678-1752748200-1752771600@thepressboxlts.com
SUMMARY:Colonial Downs Summer Meet
DESCRIPTION:First Post: 10:45 p.m. ET \n 
URL:https://thepressboxlts.com/event/colonial-downs-summer-meet-20/
LOCATION:Colonial Downs
ATTACH;FMTTYPE=image/jpeg:https://thepressboxlts.com/wp-content/uploads/2025/07/Colonial-Downs_web-1-e1678889817555-1.jpg
END:VEVENT
BEGIN:VEVENT
DTSTART;TZID=America/Kentucky/Louisville:20250716T140000
DTEND;TZID=America/Kentucky/Louisville:20250716T190000
DTSTAMP:20260420T125152
CREATED:20250714T011854Z
LAST-MODIFIED:20250714T011854Z
UID:73670-1752674400-1752692400@thepressboxlts.com
SUMMARY:Horseshoe Indianapolis Summer Meet
DESCRIPTION:First Post: 2:10 p.m. ET \nPhoto by Coady Media
URL:https://thepressboxlts.com/event/horseshoe-indianapolis-summer-meet-150/
LOCATION:IN
ATTACH;FMTTYPE=image/jpeg:https://thepressboxlts.com/wp-content/uploads/2025/07/TIP-TOP-THOMAS-Indiana-Derby-G3-07-05-25-R12-Horseshoe-Indiana-Tight-Finish-01-Eli-Davis-scaled.jpg
END:VEVENT
BEGIN:VEVENT
DTSTART;TZID=America/Kentucky/Louisville:20250716T123000
DTEND;TZID=America/Kentucky/Louisville:20250716T190000
DTSTAMP:20260420T125152
CREATED:20250714T012256Z
LAST-MODIFIED:20250714T012256Z
UID:73676-1752669000-1752692400@thepressboxlts.com
SUMMARY:Colonial Downs Summer Meet
DESCRIPTION:First Post: 12:30 p.m. ET \n 
URL:https://thepressboxlts.com/event/colonial-downs-summer-meet-19/
LOCATION:Colonial Downs
ATTACH;FMTTYPE=image/jpeg:https://thepressboxlts.com/wp-content/uploads/2025/07/Colonial-Downs_web-1-e1678889817555-1.jpg
END:VEVENT
BEGIN:VEVENT
DTSTART;TZID=America/Kentucky/Louisville:20250715T140000
DTEND;TZID=America/Kentucky/Louisville:20250715T190000
DTSTAMP:20260420T125152
CREATED:20250714T011803Z
LAST-MODIFIED:20250714T011803Z
UID:73668-1752588000-1752606000@thepressboxlts.com
SUMMARY:Horseshoe Indianapolis Summer Meet
DESCRIPTION:First Post: 2:10 p.m. ET \nPhoto by Coady Media
URL:https://thepressboxlts.com/event/horseshoe-indianapolis-summer-meet-149/
LOCATION:IN
ATTACH;FMTTYPE=image/jpeg:https://thepressboxlts.com/wp-content/uploads/2025/07/TIP-TOP-THOMAS-Indiana-Derby-G3-07-05-25-R12-Horseshoe-Indiana-Paddock-03-Ashleigh-Schlitt-scaled.jpg
END:VEVENT
BEGIN:VEVENT
DTSTART;TZID=America/Kentucky/Louisville:20250714T140000
DTEND;TZID=America/Kentucky/Louisville:20250714T190000
DTSTAMP:20260420T125152
CREATED:20250714T011710Z
LAST-MODIFIED:20250714T011710Z
UID:73666-1752501600-1752519600@thepressboxlts.com
SUMMARY:Horseshoe Indianapolis Summer Meet
DESCRIPTION:First Post: 2:10 p.m. ET \nPhoto by Coady Media \n 
URL:https://thepressboxlts.com/event/horseshoe-indianapolis-summer-meet-148/
LOCATION:Horseshoe Indianapolis\, Shelbyville\, IN\, United States
ATTACH;FMTTYPE=image/jpeg:https://thepressboxlts.com/wp-content/uploads/2025/07/TIP-TOP-THOMAS-Indiana-Derby-G3-07-05-25-R12-Horseshoe-Indiana-Presentation-01-Samantha-Pagels-scaled.jpg
END:VEVENT
BEGIN:VEVENT
DTSTART;TZID=America/Kentucky/Louisville:20250714T123000
DTEND;TZID=America/Kentucky/Louisville:20250714T190000
DTSTAMP:20260420T125152
CREATED:20250706T143513Z
LAST-MODIFIED:20250706T143513Z
UID:73611-1752496200-1752519600@thepressboxlts.com
SUMMARY:Ellis Park Summer Meet
DESCRIPTION:First Post: 12:45 p.m. CT \nPhoto by Coady Media
URL:https://thepressboxlts.com/event/ellis-park-summer-meet-79/
LOCATION:Ellis Park\, Henderson\, KY\, United States
ATTACH;FMTTYPE=image/jpeg:https://thepressboxlts.com/wp-content/uploads/2025/07/TROUBLESHOOTING-The-Dade-Park-Dash-07-04-25-R08-Ellis-Park-Finish-01-scaled.jpg
END:VEVENT
BEGIN:VEVENT
DTSTART;TZID=America/Kentucky/Louisville:20250713T123000
DTEND;TZID=America/Kentucky/Louisville:20250713T190000
DTSTAMP:20260420T125152
CREATED:20250706T143405Z
LAST-MODIFIED:20250706T143405Z
UID:73609-1752409800-1752433200@thepressboxlts.com
SUMMARY:Ellis Park Summer Meet
DESCRIPTION:First Post: 12:45 p.m. CT \nPhoto by Coady Media
URL:https://thepressboxlts.com/event/ellis-park-summer-meet-78/
LOCATION:Ellis Park\, Henderson\, KY\, United States
ATTACH;FMTTYPE=image/jpeg:https://thepressboxlts.com/wp-content/uploads/2025/07/TROUBLESHOOTING-The-Dade-Park-Dash-07-04-25-R08-Ellis-Park-Paddock-01-scaled.jpg
END:VEVENT
BEGIN:VEVENT
DTSTART;TZID=America/Kentucky/Louisville:20250712T170000
DTEND;TZID=America/Kentucky/Louisville:20250712T223000
DTSTAMP:20260420T125152
CREATED:20250706T142757Z
LAST-MODIFIED:20250706T142757Z
UID:73604-1752339600-1752359400@thepressboxlts.com
SUMMARY:Horseshoe Indianapolis Summer Meet
DESCRIPTION:First Post: 5:15 p.m. ET \nPhoto by Coady Media
URL:https://thepressboxlts.com/event/horseshoe-indianapolis-summer-meet-147/
LOCATION:Horseshoe Indianapolis\, Shelbyville\, IN\, United States
ATTACH;FMTTYPE=image/jpeg:https://thepressboxlts.com/wp-content/uploads/2025/07/ENCINO-Jonathan-B-Schuster-Memorial-07-05-25-R08-Horseshoe-Indiana-Turn-01-Kurtis-Coady-scaled.jpg
END:VEVENT
BEGIN:VEVENT
DTSTART;TZID=America/Kentucky/Louisville:20250712T123000
DTEND;TZID=America/Kentucky/Louisville:20250712T190000
DTSTAMP:20260420T125152
CREATED:20250710T135013Z
LAST-MODIFIED:20250710T135013Z
UID:73646-1752323400-1752346800@thepressboxlts.com
SUMMARY:Colonial Downs Summer Meet
DESCRIPTION:First Post: 12:30 p.m. ET \nPhoto by Coady Media
URL:https://thepressboxlts.com/event/colonial-downs-summer-meet-18/
LOCATION:Colonial Downs
ATTACH;FMTTYPE=image/jpeg:https://thepressboxlts.com/wp-content/uploads/2025/07/Colonial-Downs_web-1-e1678889817555-1.jpg
END:VEVENT
BEGIN:VEVENT
DTSTART;TZID=America/Kentucky/Louisville:20250712T123000
DTEND;TZID=America/Kentucky/Louisville:20250712T190000
DTSTAMP:20260420T125152
CREATED:20250706T143308Z
LAST-MODIFIED:20250706T143308Z
UID:73607-1752323400-1752346800@thepressboxlts.com
SUMMARY:Ellis Park Summer Meet
DESCRIPTION:First Post: 12:45 p.m. CT \nPhoto by Coady Media
URL:https://thepressboxlts.com/event/ellis-park-summer-meet-77/
LOCATION:Ellis Park\, Henderson\, KY\, United States
ATTACH;FMTTYPE=image/jpeg:https://thepressboxlts.com/wp-content/uploads/2025/07/TROUBLESHOOTING-The-Dade-Park-Dash-07-04-25-R08-Ellis-Park-Come-Back-01-Madison-Becker-scaled.jpg
END:VEVENT
BEGIN:VEVENT
DTSTART;TZID=America/Kentucky/Louisville:20250711T160000
DTEND;TZID=America/Kentucky/Louisville:20250711T210000
DTSTAMP:20260420T125152
CREATED:20250710T134927Z
LAST-MODIFIED:20250710T134927Z
UID:73643-1752249600-1752267600@thepressboxlts.com
SUMMARY:Colonial Downs Summer Meet
DESCRIPTION:First Post: 4:00 p.m. ET \n 
URL:https://thepressboxlts.com/event/colonial-downs-summer-meet-17/
LOCATION:IN
ATTACH;FMTTYPE=image/jpeg:https://thepressboxlts.com/wp-content/uploads/2025/07/Colonial-Downs_web-1-e1678889817555-1.jpg
END:VEVENT
BEGIN:VEVENT
DTSTART;TZID=America/Kentucky/Louisville:20250710T140000
DTEND;TZID=America/Kentucky/Louisville:20250710T200000
DTSTAMP:20260420T125152
CREATED:20250706T142653Z
LAST-MODIFIED:20250706T142653Z
UID:73602-1752156000-1752177600@thepressboxlts.com
SUMMARY:Horseshoe Indianapolis Summer Meet
DESCRIPTION:First Post: 2:10 p.m. ET \nPhoto by Coady Media
URL:https://thepressboxlts.com/event/horseshoe-indianapolis-summer-meet-146/
LOCATION:Horseshoe Indianapolis\, Shelbyville\, IN\, United States
ATTACH;FMTTYPE=image/jpeg:https://thepressboxlts.com/wp-content/uploads/2025/07/ENCINO-Jonathan-B-Schuster-Memorial-07-05-25-R08-Horseshoe-Indiana-Tight-Turn-01-Kurtis-Coady-scaled.jpg
END:VEVENT
BEGIN:VEVENT
DTSTART;TZID=America/Kentucky/Louisville:20250710T123000
DTEND;TZID=America/Kentucky/Louisville:20250710T190000
DTSTAMP:20260420T125152
CREATED:20250710T134823Z
LAST-MODIFIED:20250710T134823Z
UID:73641-1752150600-1752174000@thepressboxlts.com
SUMMARY:Colonial Downs Summer Meet
DESCRIPTION:First Post: 12:30 p.m. ET \nPhoto by Coady Media
URL:https://thepressboxlts.com/event/colonial-downs-summer-meet-16/
LOCATION:Colonial Downs
ATTACH;FMTTYPE=image/jpeg:https://thepressboxlts.com/wp-content/uploads/2025/07/WINFINITY-The-Keswick-Stakes-08-03-24-R05-Colonial-Downs-001-1-1.jpg
END:VEVENT
BEGIN:VEVENT
DTSTART;TZID=America/Kentucky/Louisville:20250709T140000
DTEND;TZID=America/Kentucky/Louisville:20250709T200000
DTSTAMP:20260420T125152
CREATED:20250706T142551Z
LAST-MODIFIED:20250706T142551Z
UID:73600-1752069600-1752091200@thepressboxlts.com
SUMMARY:Horseshoe Indianapolis Summer Meet
DESCRIPTION:First Post: 2:10 p.m. ET \nPhoto by Coady Media
URL:https://thepressboxlts.com/event/horseshoe-indianapolis-summer-meet-145/
LOCATION:Horseshoe Indianapolis\, Shelbyville\, IN\, United States
ATTACH;FMTTYPE=image/jpeg:https://thepressboxlts.com/wp-content/uploads/2025/07/WILLY-DS-Michael-G-Schaefer-Memorial-07-05-25-R09-Horseshoe-Indiana-Start-01-Samantha-Pagels-scaled.jpg
END:VEVENT
BEGIN:VEVENT
DTSTART;TZID=America/Kentucky/Louisville:20250708T140000
DTEND;TZID=America/Kentucky/Louisville:20250708T200000
DTSTAMP:20260420T125152
CREATED:20250706T142449Z
LAST-MODIFIED:20250706T142449Z
UID:73598-1751983200-1752004800@thepressboxlts.com
SUMMARY:Horseshoe Indianapolis Summer Meet
DESCRIPTION:First Post: 2:10 p.m. ET \nPhoto by Coady Media
URL:https://thepressboxlts.com/event/horseshoe-indianapolis-summer-meet-144/
LOCATION:Horseshoe Indianapolis\, Shelbyville\, IN\, United States
ATTACH;FMTTYPE=image/jpeg:https://thepressboxlts.com/wp-content/uploads/2025/07/CLICQUOT-Daily-Racing-Form-Indiana-Oaks-G3-07-05-25-R11-Horseshoe-Indiana-Edgar-Morales-03-Kurtis-Coady-scaled.jpg
END:VEVENT
BEGIN:VEVENT
DTSTART;TZID=America/Kentucky/Louisville:20250706T123000
DTEND;TZID=America/Kentucky/Louisville:20250706T200000
DTSTAMP:20260420T125152
CREATED:20250630T164623Z
LAST-MODIFIED:20250630T164623Z
UID:73435-1751805000-1751832000@thepressboxlts.com
SUMMARY:Ellis Park Summer Meet
DESCRIPTION:First Post: 12:45 p.m. CT \nPhoto by Holly M. Smith
URL:https://thepressboxlts.com/event/ellis-park-summer-meet-76/
LOCATION:Ellis Park\, Henderson\, KY\, United States
END:VEVENT
BEGIN:VEVENT
DTSTART;TZID=America/Kentucky/Louisville:20250705T123000
DTEND;TZID=America/Kentucky/Louisville:20250705T210000
DTSTAMP:20260420T125152
CREATED:20250630T164517Z
LAST-MODIFIED:20250630T164517Z
UID:73433-1751718600-1751749200@thepressboxlts.com
SUMMARY:Ellis Park Summer Meet
DESCRIPTION:First Post: 12:45 p.m. CT \nPhoto by Coady Media
URL:https://thepressboxlts.com/event/ellis-park-summer-meet-75/
LOCATION:Ellis Park\, Henderson\, KY\, United States
ATTACH;FMTTYPE=image/jpeg:https://thepressboxlts.com/wp-content/uploads/2024/07/Scenics-Fans-and-Ponies-Ellis-Park-07-21-24-001-Renee-Torbit-scaled.jpg
END:VEVENT
BEGIN:VEVENT
DTSTART;TZID=America/Kentucky/Louisville:20250705T120000
DTEND;TZID=America/Kentucky/Louisville:20250705T200000
DTSTAMP:20260420T125152
CREATED:20250630T163921Z
LAST-MODIFIED:20250630T163921Z
UID:73427-1751716800-1751745600@thepressboxlts.com
SUMMARY:Horseshoe Indianapolis Summer Meet -- G3 Indiana Oaks & Derby Day
DESCRIPTION:First Post: 12 noon ET \nDragoon Guard / Photo by Holly M. Smith
URL:https://thepressboxlts.com/event/horseshoe-indianapolis-summer-meet-g3-indiana-oaks-derby-day/
LOCATION:Horseshoe Indianapolis\, Shelbyville\, IN\, United States
ATTACH;FMTTYPE=image/jpeg:https://thepressboxlts.com/wp-content/uploads/2025/04/HMS_3579-dragoon-guard-scaled.jpg
END:VEVENT
BEGIN:VEVENT
DTSTART;TZID=America/Kentucky/Louisville:20250704T123000
DTEND;TZID=America/Kentucky/Louisville:20250704T203000
DTSTAMP:20260420T125152
CREATED:20250630T164414Z
LAST-MODIFIED:20250702T154702Z
UID:73431-1751632200-1751661000@thepressboxlts.com
SUMMARY:Ellis Park Summer Meet
DESCRIPTION:First Post: 12:45 p.m. CT \nPhoto by Coady Media
URL:https://thepressboxlts.com/event/ellis-park-summer-meet-74/
LOCATION:Ellis Park\, Henderson\, KY\, United States
ATTACH;FMTTYPE=image/png:https://thepressboxlts.com/wp-content/uploads/2025/06/Ellis-Park_logo.png
END:VEVENT
BEGIN:VEVENT
DTSTART;TZID=America/Kentucky/Louisville:20250704T120000
DTEND;TZID=America/Kentucky/Louisville:20250704T200000
DTSTAMP:20260420T125152
CREATED:20250630T163750Z
LAST-MODIFIED:20250630T163750Z
UID:73425-1751630400-1751659200@thepressboxlts.com
SUMMARY:Horseshoe Indianapolis Summer Meet
DESCRIPTION:First Post: 12 noon ET \nPhoto by Coady Media
URL:https://thepressboxlts.com/event/horseshoe-indianapolis-summer-meet-143/
LOCATION:Horseshoe Indianapolis\, Shelbyville\, IN\, United States
ATTACH;FMTTYPE=image/jpeg:https://thepressboxlts.com/wp-content/uploads/2024/07/DRAGOON-GAURD-Indiana-Derby-30th-Running-G3-07-06-24-R12-Horseshoe-Indiana-Start-02-Renee-Torbit-scaled.jpg
END:VEVENT
BEGIN:VEVENT
DTSTART;TZID=America/Kentucky/Louisville:20250703T140000
DTEND;TZID=America/Kentucky/Louisville:20250703T200000
DTSTAMP:20260420T125152
CREATED:20250630T163637Z
LAST-MODIFIED:20250630T163637Z
UID:73423-1751551200-1751572800@thepressboxlts.com
SUMMARY:Horseshoe Indianapolis Summer Meet
DESCRIPTION:First Post: 2:10 p.m. ET \nPhoto by Coady Media
URL:https://thepressboxlts.com/event/horseshoe-indianapolis-summer-meet-142/
LOCATION:Horseshoe Indianapolis\, Shelbyville\, IN\, United States
ATTACH;FMTTYPE=image/jpeg:https://thepressboxlts.com/wp-content/uploads/2025/02/DRAGOON-GAURD-Indiana-Derby-30th-Running-G3-07-06-24-R12-Horseshoe-Indiana-Finish-02-Renee-Torbit-scaled.jpg
END:VEVENT
BEGIN:VEVENT
DTSTART;TZID=America/Kentucky/Louisville:20250703T123000
DTEND;TZID=America/Kentucky/Louisville:20250703T200000
DTSTAMP:20260420T125152
CREATED:20250630T164305Z
LAST-MODIFIED:20250630T164305Z
UID:73429-1751545800-1751572800@thepressboxlts.com
SUMMARY:Ellis Park Summer Meet
DESCRIPTION:First Post: 12:45 p.m. CT \n 
URL:https://thepressboxlts.com/event/ellis-park-summer-meet-73/
LOCATION:Ellis Park\, Henderson\, KY\, United States
ATTACH;FMTTYPE=image/png:https://thepressboxlts.com/wp-content/uploads/2025/06/Ellis-Park_logo.png
END:VEVENT
BEGIN:VEVENT
DTSTART;TZID=America/Kentucky/Louisville:20250702T140000
DTEND;TZID=America/Kentucky/Louisville:20250702T200000
DTSTAMP:20260420T125152
CREATED:20250630T163529Z
LAST-MODIFIED:20250630T163529Z
UID:73421-1751464800-1751486400@thepressboxlts.com
SUMMARY:Horseshoe Indianapolis Summer Meet
DESCRIPTION:First Post: 2:10 p.m. ET \nPhoto by Coady Media
URL:https://thepressboxlts.com/event/horseshoe-indianapolis-summer-meet-141/
LOCATION:Horseshoe Indianapolis\, Shelbyville\, IN\, United States
ATTACH;FMTTYPE=image/jpeg:https://thepressboxlts.com/wp-content/uploads/2025/05/SMOKEN-BOY-Caesars-20th-Running-05-14-25-R08-Horseshoe-Indiana-Tight-Finish-01-Eve-Granitz-scaled.jpg
END:VEVENT
BEGIN:VEVENT
DTSTART;TZID=America/Kentucky/Louisville:20250701T140000
DTEND;TZID=America/Kentucky/Louisville:20250701T200000
DTSTAMP:20260420T125152
CREATED:20250630T163421Z
LAST-MODIFIED:20250630T163421Z
UID:73419-1751378400-1751400000@thepressboxlts.com
SUMMARY:Horseshoe Indianapolis Summer Meet
DESCRIPTION:First Post: 2:10 p.m. ET \nPhoto by Coady Media
URL:https://thepressboxlts.com/event/horseshoe-indianapolis-summer-meet-140/
LOCATION:IN
ATTACH;FMTTYPE=image/jpeg:https://thepressboxlts.com/wp-content/uploads/2025/06/LATIGO-The-Nobody-Listens-29th-Running-06-25-25-R08-Horseshoe-Indiana-Finish-02-Sammantha-Pagels-scaled.jpg
END:VEVENT
END:VCALENDAR