BEGIN:VCALENDAR
VERSION:2.0
PRODID:-//The Pressbox - ECPv6.15.19//NONSGML v1.0//EN
CALSCALE:GREGORIAN
METHOD:PUBLISH
X-WR-CALNAME:The Pressbox
X-ORIGINAL-URL:https://thepressboxlts.com
X-WR-CALDESC:Events for The Pressbox
REFRESH-INTERVAL;VALUE=DURATION:PT1H
X-Robots-Tag:noindex
X-PUBLISHED-TTL:PT1H
BEGIN:VTIMEZONE
TZID:America/Kentucky/Louisville
BEGIN:DAYLIGHT
TZOFFSETFROM:-0500
TZOFFSETTO:-0400
TZNAME:EDT
DTSTART:20240310T070000
END:DAYLIGHT
BEGIN:STANDARD
TZOFFSETFROM:-0400
TZOFFSETTO:-0500
TZNAME:EST
DTSTART:20241103T060000
END:STANDARD
BEGIN:DAYLIGHT
TZOFFSETFROM:-0500
TZOFFSETTO:-0400
TZNAME:EDT
DTSTART:20250309T070000
END:DAYLIGHT
BEGIN:STANDARD
TZOFFSETFROM:-0400
TZOFFSETTO:-0500
TZNAME:EST
DTSTART:20251102T060000
END:STANDARD
BEGIN:DAYLIGHT
TZOFFSETFROM:-0500
TZOFFSETTO:-0400
TZNAME:EDT
DTSTART:20260308T070000
END:DAYLIGHT
BEGIN:STANDARD
TZOFFSETFROM:-0400
TZOFFSETTO:-0500
TZNAME:EST
DTSTART:20261101T060000
END:STANDARD
END:VTIMEZONE
BEGIN:VEVENT
DTSTART;TZID=America/Kentucky/Louisville:20250706T123000
DTEND;TZID=America/Kentucky/Louisville:20250706T200000
DTSTAMP:20260420T125228
CREATED:20250630T164623Z
LAST-MODIFIED:20250630T164623Z
UID:73435-1751805000-1751832000@thepressboxlts.com
SUMMARY:Ellis Park Summer Meet
DESCRIPTION:First Post: 12:45 p.m. CT \nPhoto by Holly M. Smith
URL:https://thepressboxlts.com/event/ellis-park-summer-meet-76/
LOCATION:Ellis Park\, Henderson\, KY\, United States
END:VEVENT
BEGIN:VEVENT
DTSTART;TZID=America/Kentucky/Louisville:20250705T123000
DTEND;TZID=America/Kentucky/Louisville:20250705T210000
DTSTAMP:20260420T125228
CREATED:20250630T164517Z
LAST-MODIFIED:20250630T164517Z
UID:73433-1751718600-1751749200@thepressboxlts.com
SUMMARY:Ellis Park Summer Meet
DESCRIPTION:First Post: 12:45 p.m. CT \nPhoto by Coady Media
URL:https://thepressboxlts.com/event/ellis-park-summer-meet-75/
LOCATION:Ellis Park\, Henderson\, KY\, United States
ATTACH;FMTTYPE=image/jpeg:https://thepressboxlts.com/wp-content/uploads/2024/07/Scenics-Fans-and-Ponies-Ellis-Park-07-21-24-001-Renee-Torbit-scaled.jpg
END:VEVENT
BEGIN:VEVENT
DTSTART;TZID=America/Kentucky/Louisville:20250705T120000
DTEND;TZID=America/Kentucky/Louisville:20250705T200000
DTSTAMP:20260420T125228
CREATED:20250630T163921Z
LAST-MODIFIED:20250630T163921Z
UID:73427-1751716800-1751745600@thepressboxlts.com
SUMMARY:Horseshoe Indianapolis Summer Meet -- G3 Indiana Oaks & Derby Day
DESCRIPTION:First Post: 12 noon ET \nDragoon Guard / Photo by Holly M. Smith
URL:https://thepressboxlts.com/event/horseshoe-indianapolis-summer-meet-g3-indiana-oaks-derby-day/
LOCATION:Horseshoe Indianapolis\, Shelbyville\, IN\, United States
ATTACH;FMTTYPE=image/jpeg:https://thepressboxlts.com/wp-content/uploads/2025/04/HMS_3579-dragoon-guard-scaled.jpg
END:VEVENT
BEGIN:VEVENT
DTSTART;TZID=America/Kentucky/Louisville:20250704T123000
DTEND;TZID=America/Kentucky/Louisville:20250704T203000
DTSTAMP:20260420T125228
CREATED:20250630T164414Z
LAST-MODIFIED:20250702T154702Z
UID:73431-1751632200-1751661000@thepressboxlts.com
SUMMARY:Ellis Park Summer Meet
DESCRIPTION:First Post: 12:45 p.m. CT \nPhoto by Coady Media
URL:https://thepressboxlts.com/event/ellis-park-summer-meet-74/
LOCATION:Ellis Park\, Henderson\, KY\, United States
ATTACH;FMTTYPE=image/png:https://thepressboxlts.com/wp-content/uploads/2025/06/Ellis-Park_logo.png
END:VEVENT
BEGIN:VEVENT
DTSTART;TZID=America/Kentucky/Louisville:20250704T120000
DTEND;TZID=America/Kentucky/Louisville:20250704T200000
DTSTAMP:20260420T125228
CREATED:20250630T163750Z
LAST-MODIFIED:20250630T163750Z
UID:73425-1751630400-1751659200@thepressboxlts.com
SUMMARY:Horseshoe Indianapolis Summer Meet
DESCRIPTION:First Post: 12 noon ET \nPhoto by Coady Media
URL:https://thepressboxlts.com/event/horseshoe-indianapolis-summer-meet-143/
LOCATION:Horseshoe Indianapolis\, Shelbyville\, IN\, United States
ATTACH;FMTTYPE=image/jpeg:https://thepressboxlts.com/wp-content/uploads/2024/07/DRAGOON-GAURD-Indiana-Derby-30th-Running-G3-07-06-24-R12-Horseshoe-Indiana-Start-02-Renee-Torbit-scaled.jpg
END:VEVENT
BEGIN:VEVENT
DTSTART;TZID=America/Kentucky/Louisville:20250703T140000
DTEND;TZID=America/Kentucky/Louisville:20250703T200000
DTSTAMP:20260420T125228
CREATED:20250630T163637Z
LAST-MODIFIED:20250630T163637Z
UID:73423-1751551200-1751572800@thepressboxlts.com
SUMMARY:Horseshoe Indianapolis Summer Meet
DESCRIPTION:First Post: 2:10 p.m. ET \nPhoto by Coady Media
URL:https://thepressboxlts.com/event/horseshoe-indianapolis-summer-meet-142/
LOCATION:Horseshoe Indianapolis\, Shelbyville\, IN\, United States
ATTACH;FMTTYPE=image/jpeg:https://thepressboxlts.com/wp-content/uploads/2025/02/DRAGOON-GAURD-Indiana-Derby-30th-Running-G3-07-06-24-R12-Horseshoe-Indiana-Finish-02-Renee-Torbit-scaled.jpg
END:VEVENT
BEGIN:VEVENT
DTSTART;TZID=America/Kentucky/Louisville:20250703T123000
DTEND;TZID=America/Kentucky/Louisville:20250703T200000
DTSTAMP:20260420T125228
CREATED:20250630T164305Z
LAST-MODIFIED:20250630T164305Z
UID:73429-1751545800-1751572800@thepressboxlts.com
SUMMARY:Ellis Park Summer Meet
DESCRIPTION:First Post: 12:45 p.m. CT \n 
URL:https://thepressboxlts.com/event/ellis-park-summer-meet-73/
LOCATION:Ellis Park\, Henderson\, KY\, United States
ATTACH;FMTTYPE=image/png:https://thepressboxlts.com/wp-content/uploads/2025/06/Ellis-Park_logo.png
END:VEVENT
BEGIN:VEVENT
DTSTART;TZID=America/Kentucky/Louisville:20250702T140000
DTEND;TZID=America/Kentucky/Louisville:20250702T200000
DTSTAMP:20260420T125228
CREATED:20250630T163529Z
LAST-MODIFIED:20250630T163529Z
UID:73421-1751464800-1751486400@thepressboxlts.com
SUMMARY:Horseshoe Indianapolis Summer Meet
DESCRIPTION:First Post: 2:10 p.m. ET \nPhoto by Coady Media
URL:https://thepressboxlts.com/event/horseshoe-indianapolis-summer-meet-141/
LOCATION:Horseshoe Indianapolis\, Shelbyville\, IN\, United States
ATTACH;FMTTYPE=image/jpeg:https://thepressboxlts.com/wp-content/uploads/2025/05/SMOKEN-BOY-Caesars-20th-Running-05-14-25-R08-Horseshoe-Indiana-Tight-Finish-01-Eve-Granitz-scaled.jpg
END:VEVENT
BEGIN:VEVENT
DTSTART;TZID=America/Kentucky/Louisville:20250701T140000
DTEND;TZID=America/Kentucky/Louisville:20250701T200000
DTSTAMP:20260420T125228
CREATED:20250630T163421Z
LAST-MODIFIED:20250630T163421Z
UID:73419-1751378400-1751400000@thepressboxlts.com
SUMMARY:Horseshoe Indianapolis Summer Meet
DESCRIPTION:First Post: 2:10 p.m. ET \nPhoto by Coady Media
URL:https://thepressboxlts.com/event/horseshoe-indianapolis-summer-meet-140/
ATTACH;FMTTYPE=image/jpeg:https://thepressboxlts.com/wp-content/uploads/2025/06/LATIGO-The-Nobody-Listens-29th-Running-06-25-25-R08-Horseshoe-Indiana-Finish-02-Sammantha-Pagels-scaled.jpg
END:VEVENT
BEGIN:VEVENT
DTSTART;TZID=America/Kentucky/Louisville:20250629T123000
DTEND;TZID=America/Kentucky/Louisville:20250629T190000
DTSTAMP:20260420T125228
CREATED:20250626T135437Z
LAST-MODIFIED:20250626T135437Z
UID:73219-1751200200-1751223600@thepressboxlts.com
SUMMARY:Churchill Downs Summer Meet
DESCRIPTION:First Post: 12:45 p.m. ET \nPhoto by Holly M. Smith
URL:https://thepressboxlts.com/event/churchill-downs-summer-meet-27/
LOCATION:Churchill Downs\, Louisville\, KY\, United States
ATTACH;FMTTYPE=image/jpeg:https://thepressboxlts.com/wp-content/uploads/2025/06/HMS_4457-iradortiz-scaled.jpg
END:VEVENT
BEGIN:VEVENT
DTSTART;TZID=America/Kentucky/Louisville:20250628T123000
DTEND;TZID=America/Kentucky/Louisville:20250628T190000
DTSTAMP:20260420T125228
CREATED:20250626T135343Z
LAST-MODIFIED:20250626T135343Z
UID:73217-1751113800-1751137200@thepressboxlts.com
SUMMARY:Churchill Downs Summer Meet
DESCRIPTION:First Post: 12:45 p.m. ET \nPhoto by Holly M. Smith
URL:https://thepressboxlts.com/event/churchill-downs-summer-meet-26/
LOCATION:Churchill Downs\, Louisville\, KY\, United States
ATTACH;FMTTYPE=image/jpeg:https://thepressboxlts.com/wp-content/uploads/2025/06/HMS_2777-scaled.jpg
END:VEVENT
BEGIN:VEVENT
DTSTART;TZID=America/Kentucky/Louisville:20250627T123000
DTEND;TZID=America/Kentucky/Louisville:20250627T190000
DTSTAMP:20260420T125228
CREATED:20250626T135236Z
LAST-MODIFIED:20250626T135236Z
UID:73215-1751027400-1751050800@thepressboxlts.com
SUMMARY:Churchill Downs Summer Meet
DESCRIPTION:First Post: 12:45 p.m. ET \nPhoto by Holly M. Smith
URL:https://thepressboxlts.com/event/churchill-downs-summer-meet-25/
LOCATION:Churchill Downs\, Louisville\, KY\, United States
ATTACH;FMTTYPE=image/jpeg:https://thepressboxlts.com/wp-content/uploads/2025/06/HMS_4290-scaled.jpg
END:VEVENT
BEGIN:VEVENT
DTSTART;TZID=America/Kentucky/Louisville:20250626T170000
DTEND;TZID=America/Kentucky/Louisville:20250626T220000
DTSTAMP:20260420T125228
CREATED:20250626T135137Z
LAST-MODIFIED:20250626T135137Z
UID:73213-1750957200-1750975200@thepressboxlts.com
SUMMARY:Churchill Downs Summer Meet
DESCRIPTION:First Post: 5 p.m. ET \nPhoto by Holly M. Smith
URL:https://thepressboxlts.com/event/churchill-downs-summer-meet-24/
LOCATION:Churchill Downs\, Louisville\, KY\, United States
ATTACH;FMTTYPE=image/jpeg:https://thepressboxlts.com/wp-content/uploads/2025/06/HMS_2626-scaled.jpg
END:VEVENT
BEGIN:VEVENT
DTSTART;TZID=America/Kentucky/Louisville:20250626T140000
DTEND;TZID=America/Kentucky/Louisville:20250626T200000
DTSTAMP:20260420T125228
CREATED:20250626T135650Z
LAST-MODIFIED:20250626T135650Z
UID:73221-1750946400-1750968000@thepressboxlts.com
SUMMARY:Horseshoe Indianapolis Summer Meet
DESCRIPTION:First Post: 2:10 p.m. ET \nPhoto by Coady Media
URL:https://thepressboxlts.com/event/horseshoe-indianapolis-summer-meet-139/
LOCATION:Horseshoe Indianapolis\, Shelbyville\, IN\, United States
ATTACH;FMTTYPE=image/jpeg:https://thepressboxlts.com/wp-content/uploads/2025/06/LATIGO-The-Nobody-Listens-29th-Running-06-25-25-R08-Horseshoe-Indiana-Finish-02-Sammantha-Pagels-scaled.jpg
END:VEVENT
BEGIN:VEVENT
DTSTART;TZID=America/Kentucky/Louisville:20250622T123000
DTEND;TZID=America/Kentucky/Louisville:20250622T190000
DTSTAMP:20260420T125228
CREATED:20250617T193640Z
LAST-MODIFIED:20250617T193640Z
UID:73075-1750595400-1750618800@thepressboxlts.com
SUMMARY:Churchill Downs Summer Meet
DESCRIPTION:First Post: 12:45 p.m. ET \nPhoto by Holly M. Smith
URL:https://thepressboxlts.com/event/churchill-downs-summer-meet-23/
LOCATION:Churchill Downs\, Louisville\, KY\, United States
ATTACH;FMTTYPE=image/jpeg:https://thepressboxlts.com/wp-content/uploads/2025/06/HMS_9113-fionn-scaled.jpg
END:VEVENT
BEGIN:VEVENT
DTSTART;TZID=America/Kentucky/Louisville:20250621T180000
DTEND;TZID=America/Kentucky/Louisville:20250621T230000
DTSTAMP:20260420T125228
CREATED:20250617T193525Z
LAST-MODIFIED:20250617T193525Z
UID:73073-1750528800-1750546800@thepressboxlts.com
SUMMARY:Churchill Downs Summer Meet -- "Downs After Dark"
DESCRIPTION:First Post: 6:00 p.m. ET \nPhoto by Holly M. Smith
URL:https://thepressboxlts.com/event/churchill-downs-summer-meet-downs-after-dark-2/
LOCATION:Churchill Downs\, Louisville\, KY\, United States
ATTACH;FMTTYPE=image/jpeg:https://thepressboxlts.com/wp-content/uploads/2025/06/HMS_9121-cox-asst.co-owner-Trace-Messina-scaled.jpg
END:VEVENT
BEGIN:VEVENT
DTSTART;TZID=America/Kentucky/Louisville:20250620T123000
DTEND;TZID=America/Kentucky/Louisville:20250620T190000
DTSTAMP:20260420T125228
CREATED:20250617T193306Z
LAST-MODIFIED:20250617T193306Z
UID:73071-1750422600-1750446000@thepressboxlts.com
SUMMARY:Churchill Downs Summer Meet
DESCRIPTION:First Post: 12:45 p.m. ET \nPhoto by Holly M. Smith \n 
URL:https://thepressboxlts.com/event/churchill-downs-summer-meet-22/
LOCATION:Churchill Downs\, Louisville\, KY\, United States
ATTACH;FMTTYPE=image/jpeg:https://thepressboxlts.com/wp-content/uploads/2025/06/HMS_9619-pin-up-better-1-scaled.jpg
END:VEVENT
BEGIN:VEVENT
DTSTART;TZID=America/Kentucky/Louisville:20250619T170000
DTEND;TZID=America/Kentucky/Louisville:20250619T220000
DTSTAMP:20260420T125228
CREATED:20250617T193204Z
LAST-MODIFIED:20250617T193204Z
UID:73069-1750352400-1750370400@thepressboxlts.com
SUMMARY:Churchill Downs Summer Meet
DESCRIPTION:First Post: 5:00 p.m. ET \nPhoto by Holly M. Smith
URL:https://thepressboxlts.com/event/churchill-downs-summer-meet-21/
LOCATION:Churchill Downs\, Louisville\, KY\, United States
ATTACH;FMTTYPE=image/jpeg:https://thepressboxlts.com/wp-content/uploads/2025/06/HMS_9646-luis-saez-1-scaled.jpg
END:VEVENT
BEGIN:VEVENT
DTSTART;TZID=America/Kentucky/Louisville:20250619T140000
DTEND;TZID=America/Kentucky/Louisville:20250619T190000
DTSTAMP:20260420T125228
CREATED:20250617T191043Z
LAST-MODIFIED:20250617T191043Z
UID:73065-1750341600-1750359600@thepressboxlts.com
SUMMARY:Horseshoe Indianapolis Summer Meet
DESCRIPTION:First Post: 2:10 p.m. \nPhoto by Coady Media
URL:https://thepressboxlts.com/event/horseshoe-indianapolis-summer-meet-138/
LOCATION:Horseshoe Indianapolis\, Shelbyville\, IN\, United States
ATTACH;FMTTYPE=image/jpeg:https://thepressboxlts.com/wp-content/uploads/2025/06/SIR-BAHJY-Hoosier-Breeders-Sophomore-Handicap-17th-Running-06-11-25-R08-Horseshoe-Indiana-Finish-02-Sammantha-Pagels-scaled.jpg
END:VEVENT
BEGIN:VEVENT
DTSTART;TZID=America/Kentucky/Louisville:20250618T140000
DTEND;TZID=America/Kentucky/Louisville:20250618T190000
DTSTAMP:20260420T125228
CREATED:20250617T190930Z
LAST-MODIFIED:20250617T194018Z
UID:73063-1750255200-1750273200@thepressboxlts.com
SUMMARY:Horseshoe Indianapolis Summer Meet
DESCRIPTION:First Post: 2:10 p.m. ET \nPhoto by Coady Media
URL:https://thepressboxlts.com/event/horseshoe-indianapolis-summer-meet-137/
LOCATION:Horseshoe Indianapolis\, Shelbyville\, IN\, United States
ATTACH;FMTTYPE=image/jpeg:https://thepressboxlts.com/wp-content/uploads/2025/06/C-JS-STORM-William-Henry-Harrison-22nd-Running-06-04-25-R08-Horseshoe-Indiana-Post-Parade-02-Sammantha-Pagels-scaled.jpg
END:VEVENT
BEGIN:VEVENT
DTSTART;TZID=America/Kentucky/Louisville:20250618T123000
DTEND;TZID=America/Kentucky/Louisville:20250618T193000
DTSTAMP:20260420T125228
CREATED:20250617T193047Z
LAST-MODIFIED:20250617T193047Z
UID:73067-1750249800-1750275000@thepressboxlts.com
SUMMARY:Churchill Downs Summer Meet
DESCRIPTION:First Post: 12:45 p.m. ET \nPhoto by Holly M. Smith \n 
URL:https://thepressboxlts.com/event/churchill-downs-summer-meet-20/
LOCATION:Churchill Downs\, Louisville\, KY\, United States
ATTACH;FMTTYPE=image/jpeg:https://thepressboxlts.com/wp-content/uploads/2025/06/HMS_9736-harley-scaled.jpg
END:VEVENT
BEGIN:VEVENT
DTSTART;TZID=America/Kentucky/Louisville:20250617T140000
DTEND;TZID=America/Kentucky/Louisville:20250617T190000
DTSTAMP:20260420T125228
CREATED:20250617T190827Z
LAST-MODIFIED:20250617T190827Z
UID:73061-1750168800-1750186800@thepressboxlts.com
SUMMARY:Horseshoe Indianapolis Summer Meet
DESCRIPTION:First Post: 2:10 p.m. ET \nPhoto by Coady Media
URL:https://thepressboxlts.com/event/horseshoe-indianapolis-summer-meet-136/
LOCATION:Horseshoe Indianapolis\, Shelbyville\, IN\, United States
ATTACH;FMTTYPE=image/jpeg:https://thepressboxlts.com/wp-content/uploads/2025/05/SMOKEN-BOY-Caesars-20th-Running-05-14-25-R08-Horseshoe-Indiana-Finish-02-Sammantha-Pagels-scaled.jpg
END:VEVENT
BEGIN:VEVENT
DTSTART;TZID=America/Kentucky/Louisville:20250615T123000
DTEND;TZID=America/Kentucky/Louisville:20250615T193000
DTSTAMP:20260420T125228
CREATED:20250610T160952Z
LAST-MODIFIED:20250610T160952Z
UID:72906-1749990600-1750015800@thepressboxlts.com
SUMMARY:Churchill Downs Spring /  Summer Meet
DESCRIPTION:First Post: 12:45 p.m. ET \nPhoto by Holly M. Smith
URL:https://thepressboxlts.com/event/churchill-downs-spring-summer-meet-73/
LOCATION:Churchill Downs\, Louisville\, KY\, United States
ATTACH;FMTTYPE=image/jpeg:https://thepressboxlts.com/wp-content/uploads/2025/06/HMS_9150-immersive-scaled.jpg
END:VEVENT
BEGIN:VEVENT
DTSTART;TZID=America/Kentucky/Louisville:20250614T170000
DTEND;TZID=America/Kentucky/Louisville:20250614T223000
DTSTAMP:20260420T125228
CREATED:20250610T164453Z
LAST-MODIFIED:20250610T164453Z
UID:72912-1749920400-1749940200@thepressboxlts.com
SUMMARY:Horseshoe Indianapolis Summer Meet -- Saturday Night Live Style
DESCRIPTION:First Post: 5:10 p.m. ET \nPhoto by Coady Media
URL:https://thepressboxlts.com/event/horseshoe-indianapolis-summer-meet-saturday-night-live-style/
ATTACH;FMTTYPE=image/jpeg:https://thepressboxlts.com/wp-content/uploads/2024/07/DRAGOON-GAURD-Indiana-Derby-30th-Running-G3-07-06-24-R12-Horseshoe-Indiana-Start-02-Renee-Torbit-scaled.jpg
END:VEVENT
BEGIN:VEVENT
DTSTART;TZID=America/Kentucky/Louisville:20250614T123000
DTEND;TZID=America/Kentucky/Louisville:20250614T193000
DTSTAMP:20260420T125228
CREATED:20250610T160833Z
LAST-MODIFIED:20250610T160833Z
UID:72904-1749904200-1749929400@thepressboxlts.com
SUMMARY:Churchill Downs Spring /  Summer Meet
DESCRIPTION:First Post: 12:45 p.m. ET \nPhoto by Holly M. Smith
URL:https://thepressboxlts.com/event/churchill-downs-spring-summer-meet-72/
LOCATION:Churchill Downs\, Louisville\, KY\, United States
ATTACH;FMTTYPE=image/jpeg:https://thepressboxlts.com/wp-content/uploads/2025/06/HMS_7992-post-time-scaled.jpg
END:VEVENT
BEGIN:VEVENT
DTSTART;TZID=America/Kentucky/Louisville:20250613T123000
DTEND;TZID=America/Kentucky/Louisville:20250613T193000
DTSTAMP:20260420T125228
CREATED:20250610T160708Z
LAST-MODIFIED:20250610T160708Z
UID:72902-1749817800-1749843000@thepressboxlts.com
SUMMARY:Churchill Downs Spring /  Summer Meet
DESCRIPTION:First Post: 12:45 p.m. ET \nPhoto by Holly M. Smith
URL:https://thepressboxlts.com/event/churchill-downs-spring-summer-meet-71/
LOCATION:Churchill Downs\, Louisville\, KY\, United States
ATTACH;FMTTYPE=image/jpeg:https://thepressboxlts.com/wp-content/uploads/2025/06/HMS_8758-mercante-scaled.jpg
END:VEVENT
BEGIN:VEVENT
DTSTART;TZID=America/Kentucky/Louisville:20250612T170000
DTEND;TZID=America/Kentucky/Louisville:20250612T223000
DTSTAMP:20260420T125228
CREATED:20250610T160555Z
LAST-MODIFIED:20250610T160555Z
UID:72900-1749747600-1749767400@thepressboxlts.com
SUMMARY:Churchill Downs Spring /  Summer Meet
DESCRIPTION:First Post: 5:00 p.m. ET \nPhoto by Holly M. Smith
URL:https://thepressboxlts.com/event/churchill-downs-spring-summer-meet-70/
LOCATION:Churchill Downs\, Louisville\, KY\, United States
ATTACH;FMTTYPE=image/jpeg:https://thepressboxlts.com/wp-content/uploads/2025/06/HMS_8830-mystik-dan-scaled.jpg
END:VEVENT
BEGIN:VEVENT
DTSTART;TZID=America/Kentucky/Louisville:20250612T140000
DTEND;TZID=America/Kentucky/Louisville:20250612T200000
DTSTAMP:20260420T125228
CREATED:20250610T160158Z
LAST-MODIFIED:20250610T160158Z
UID:72896-1749736800-1749758400@thepressboxlts.com
SUMMARY:Horseshoe Indianapolis Spring / Summer Meet
DESCRIPTION:First Post: 2:10 p.m. ET \nPhoto by Coady Media
URL:https://thepressboxlts.com/event/horseshoe-indianapolis-spring-summer-meet-37/
LOCATION:Horseshoe Indianapolis\, Shelbyville\, IN\, United States
ATTACH;FMTTYPE=image/jpeg:https://thepressboxlts.com/wp-content/uploads/2025/06/geeze-wally-finish-Horseshoe-Indianapolis-scaled.jpg
END:VEVENT
BEGIN:VEVENT
DTSTART;TZID=America/Kentucky/Louisville:20250612T140000
DTEND;TZID=America/Kentucky/Louisville:20250612T200000
DTSTAMP:20260420T125228
CREATED:20250610T160057Z
LAST-MODIFIED:20250610T160057Z
UID:72894-1749736800-1749758400@thepressboxlts.com
SUMMARY:Horseshoe Indianapolis Spring / Summer Meet
DESCRIPTION:First Post: 2:10 p.m. ET \nPhoto by Coady Media
URL:https://thepressboxlts.com/event/horseshoe-indianapolis-spring-summer-meet-36/
LOCATION:Horseshoe Indianapolis\, Shelbyville\, IN\, United States
ATTACH;FMTTYPE=image/jpeg:https://thepressboxlts.com/wp-content/uploads/2024/07/DRAGOON-GAURD-Indiana-Derby-30th-Running-G3-07-06-24-R12-Horseshoe-Indiana-Paddock-02-Samantha-Pagels-scaled.jpg
END:VEVENT
BEGIN:VEVENT
DTSTART;TZID=America/Kentucky/Louisville:20250611T140000
DTEND;TZID=America/Kentucky/Louisville:20250611T190000
DTSTAMP:20260420T125228
CREATED:20250610T155925Z
LAST-MODIFIED:20250610T155925Z
UID:72892-1749650400-1749668400@thepressboxlts.com
SUMMARY:Horseshoe Indianapolis Spring / Summer Meet
DESCRIPTION:First Post: 2:10 p.m. ET \nPhoto by Coady Media
URL:https://thepressboxlts.com/event/horseshoe-indianapolis-spring-summer-meet-35/
LOCATION:Horseshoe Indianapolis\, Shelbyville\, IN\, United States
ATTACH;FMTTYPE=image/jpeg:https://thepressboxlts.com/wp-content/uploads/2025/06/C-JS-STORM-William-Henry-Harrison-22nd-Running-06-04-25-R08-Horseshoe-Indiana-Finish-02-Eli-Davis-scaled.jpg
END:VEVENT
END:VCALENDAR