BEGIN:VCALENDAR
VERSION:2.0
PRODID:-//The Pressbox - ECPv6.15.19//NONSGML v1.0//EN
CALSCALE:GREGORIAN
METHOD:PUBLISH
X-WR-CALNAME:The Pressbox
X-ORIGINAL-URL:https://thepressboxlts.com
X-WR-CALDESC:Events for The Pressbox
REFRESH-INTERVAL;VALUE=DURATION:PT1H
X-Robots-Tag:noindex
X-PUBLISHED-TTL:PT1H
BEGIN:VTIMEZONE
TZID:America/Kentucky/Louisville
BEGIN:DAYLIGHT
TZOFFSETFROM:-0500
TZOFFSETTO:-0400
TZNAME:EDT
DTSTART:20240310T070000
END:DAYLIGHT
BEGIN:STANDARD
TZOFFSETFROM:-0400
TZOFFSETTO:-0500
TZNAME:EST
DTSTART:20241103T060000
END:STANDARD
BEGIN:DAYLIGHT
TZOFFSETFROM:-0500
TZOFFSETTO:-0400
TZNAME:EDT
DTSTART:20250309T070000
END:DAYLIGHT
BEGIN:STANDARD
TZOFFSETFROM:-0400
TZOFFSETTO:-0500
TZNAME:EST
DTSTART:20251102T060000
END:STANDARD
BEGIN:DAYLIGHT
TZOFFSETFROM:-0500
TZOFFSETTO:-0400
TZNAME:EDT
DTSTART:20260308T070000
END:DAYLIGHT
BEGIN:STANDARD
TZOFFSETFROM:-0400
TZOFFSETTO:-0500
TZNAME:EST
DTSTART:20261101T060000
END:STANDARD
END:VTIMEZONE
BEGIN:VEVENT
DTSTART;TZID=America/Kentucky/Louisville:20250423T140000
DTEND;TZID=America/Kentucky/Louisville:20250423T193000
DTSTAMP:20260420T171008
CREATED:20250421T135612Z
LAST-MODIFIED:20250421T135612Z
UID:71198-1745416800-1745436600@thepressboxlts.com
SUMMARY:Horseshoe Indianapolis Spring Meet
DESCRIPTION:First Post: 2:10 p.m. ET \nPhoto by Coady Media
URL:https://thepressboxlts.com/event/horseshoe-indianapolis-spring-meet-3/
LOCATION:Horseshoe Indianapolis\, Shelbyville\, IN\, United States
ATTACH;FMTTYPE=image/jpeg:https://thepressboxlts.com/wp-content/uploads/2024/07/DRAGOON-GAURD-Indiana-Derby-30th-Running-G3-07-06-24-R12-Horseshoe-Indiana-Start-02-Renee-Torbit-scaled.jpg
END:VEVENT
BEGIN:VEVENT
DTSTART;TZID=America/Kentucky/Louisville:20250423T130000
DTEND;TZID=America/Kentucky/Louisville:20250423T183000
DTSTAMP:20260420T171008
CREATED:20250422T140313Z
LAST-MODIFIED:20250422T140313Z
UID:71257-1745413200-1745433000@thepressboxlts.com
SUMMARY:Keeneland Spring Meet
DESCRIPTION:First Post: 1:00 p.m. ET \nPhoto by Coady Media
URL:https://thepressboxlts.com/event/keeneland-spring-meet-25/
LOCATION:Keeneland Race Course\, KY\, United States
ATTACH;FMTTYPE=image/jpeg:https://thepressboxlts.com/wp-content/uploads/2025/04/GIN-GIN-The-Baird-Doubledogdare-G3-04-18-25-R09-Keeneland-Race-Course-Jose-Ortiz-01-Madison-Becker-scaled.jpg
END:VEVENT
BEGIN:VEVENT
DTSTART;TZID=America/Kentucky/Louisville:20250422T140000
DTEND;TZID=America/Kentucky/Louisville:20250422T193000
DTSTAMP:20260420T171008
CREATED:20250421T135504Z
LAST-MODIFIED:20250421T135504Z
UID:71196-1745330400-1745350200@thepressboxlts.com
SUMMARY:Horseshoe Indianapolis Spring Meet
DESCRIPTION:First Post: 2:10 p.m. ET \nPhoto by Coady Media
URL:https://thepressboxlts.com/event/horseshoe-indianapolis-spring-meet-2/
LOCATION:Horseshoe Indianapolis\, Shelbyville\, IN\, United States
ATTACH;FMTTYPE=image/jpeg:https://thepressboxlts.com/wp-content/uploads/2024/10/JAZZOLE-Circle-City-24th-Running-10-02-24-R11-Horseshoe-Indiana-Celebration-01-Ronald-Hisby-scaled.jpg
END:VEVENT
BEGIN:VEVENT
DTSTART;TZID=America/Kentucky/Louisville:20250420T130000
DTEND;TZID=America/Kentucky/Louisville:20250420T183000
DTSTAMP:20260420T171008
CREATED:20250415T151355Z
LAST-MODIFIED:20250415T151355Z
UID:71004-1745154000-1745173800@thepressboxlts.com
SUMMARY:Keeneland Spring Meet
DESCRIPTION:First Post: 1:00 p.m. ET \nPhoto by Coady Media
URL:https://thepressboxlts.com/event/keeneland-spring-meet-24/
LOCATION:Keeneland Race Course\, KY\, United States
ATTACH;FMTTYPE=image/jpeg:https://thepressboxlts.com/wp-content/uploads/2025/04/BURNHAM-SQUARE-The-Toyota-Blue-Grass-G1-04-08-25-R10-Keeneland-Race-Course-Winners-Circle-01-Renee-Torbit.jpg
END:VEVENT
BEGIN:VEVENT
DTSTART;TZID=America/Kentucky/Louisville:20250419T130000
DTEND;TZID=America/Kentucky/Louisville:20250419T183000
DTSTAMP:20260420T171008
CREATED:20250415T151229Z
LAST-MODIFIED:20250415T151229Z
UID:71002-1745067600-1745087400@thepressboxlts.com
SUMMARY:Keeneland Spring Meet
DESCRIPTION:First Post: 1 p.m. ET \nPhoto by Coady Media
URL:https://thepressboxlts.com/event/keeneland-spring-meet-23/
LOCATION:Keeneland Race Course\, KY\, United States
ATTACH;FMTTYPE=image/jpeg:https://thepressboxlts.com/wp-content/uploads/2025/04/BURNHAM-SQUARE-The-Toyota-Blue-Grass-G1-04-08-25-R10-Keeneland-Race-Course-Saddle-Towel-01-Renee-Torbit.jpg
END:VEVENT
BEGIN:VEVENT
DTSTART;TZID=America/Kentucky/Louisville:20250418T130000
DTEND;TZID=America/Kentucky/Louisville:20250418T183000
DTSTAMP:20260420T171008
CREATED:20250415T151129Z
LAST-MODIFIED:20250415T151129Z
UID:71000-1744981200-1745001000@thepressboxlts.com
SUMMARY:Keeneland Spring Meet
DESCRIPTION:First Post: 1:00 p.m. ET \nPhoto by Coady Media
URL:https://thepressboxlts.com/event/keeneland-spring-meet-13/
LOCATION:Keeneland Race Course\, KY\, United States
ATTACH;FMTTYPE=image/jpeg:https://thepressboxlts.com/wp-content/uploads/2025/04/CARL-SPACKLER-The-Makers-Mark-Mile-G1-37th-Running-04-11-25-R09-Keeneland-Race-Course-Finish-02-Lauren-Johnson-scaled.jpg
END:VEVENT
BEGIN:VEVENT
DTSTART;TZID=America/Kentucky/Louisville:20250417T130000
DTEND;TZID=America/Kentucky/Louisville:20250417T183000
DTSTAMP:20260420T171008
CREATED:20250415T151032Z
LAST-MODIFIED:20250415T151032Z
UID:70998-1744894800-1744914600@thepressboxlts.com
SUMMARY:Keeneland Spring Meet
DESCRIPTION:First Post: 1:00 p.m. ET \nPhoto by Coady Media
URL:https://thepressboxlts.com/event/keeneland-spring-meet-12/
LOCATION:Keeneland Race Course\, KY\, United States
ATTACH;FMTTYPE=image/jpeg:https://thepressboxlts.com/wp-content/uploads/2025/04/SHISOSPICY-FanDual-Limestone-6th-Running-04-11-25-R07-Keeneland-Race-Course-Inside-Finish-01-John-Gallagher-scaled.jpg
END:VEVENT
BEGIN:VEVENT
DTSTART;TZID=America/Kentucky/Louisville:20250416T140000
DTEND;TZID=America/Kentucky/Louisville:20250416T190000
DTSTAMP:20260420T171008
CREATED:20250415T144156Z
LAST-MODIFIED:20250415T144156Z
UID:70994-1744812000-1744830000@thepressboxlts.com
SUMMARY:Horseshoe Indianapolis Spring Meet
DESCRIPTION:First Post: 2:10 p.m. ET \nPhoto by Coady Media
URL:https://thepressboxlts.com/event/horseshoe-indianapolis-spring-meet/
LOCATION:Horseshoe Indianapolis\, Shelbyville\, IN\, United States
ATTACH;FMTTYPE=image/jpeg:https://thepressboxlts.com/wp-content/uploads/2024/10/JAZZOLE-Circle-City-24th-Running-10-02-24-R11-Horseshoe-Indiana-Celebration-01-Ronald-Hisby-scaled.jpg
END:VEVENT
BEGIN:VEVENT
DTSTART;TZID=America/Kentucky/Louisville:20250416T130000
DTEND;TZID=America/Kentucky/Louisville:20250416T183000
DTSTAMP:20260420T171008
CREATED:20250415T150920Z
LAST-MODIFIED:20250415T150920Z
UID:70996-1744808400-1744828200@thepressboxlts.com
SUMMARY:Keeneland Spring Meet
DESCRIPTION:First Post: 1:00 p.m. ET \nPhoto by Coady Media
URL:https://thepressboxlts.com/event/keeneland-spring-meet-11/
LOCATION:Keeneland Race Course\, KY\, United States
ATTACH;FMTTYPE=image/jpeg:https://thepressboxlts.com/wp-content/uploads/2025/04/Race-09-GOSGER-041225-Keeneland-Race-Course-Turn-01-Cathy-Allinikov-scaled.jpg
END:VEVENT
BEGIN:VEVENT
DTSTART;TZID=America/Kentucky/Louisville:20250415T140000
DTEND;TZID=America/Kentucky/Louisville:20250415T190000
DTSTAMP:20260420T171008
CREATED:20250415T143805Z
LAST-MODIFIED:20250415T143805Z
UID:70992-1744725600-1744743600@thepressboxlts.com
SUMMARY:Horseshoe Indianapolis Opening Day
DESCRIPTION:First Post: 2:10 p.m. ET \nPhoto by Coady Media
URL:https://thepressboxlts.com/event/horseshoe-indianapolis-opening-day/
LOCATION:Horseshoe Indianapolis\, Shelbyville\, IN\, United States
ATTACH;FMTTYPE=image/jpeg:https://thepressboxlts.com/wp-content/uploads/2025/02/DRAGOON-GAURD-Indiana-Derby-30th-Running-G3-07-06-24-R12-Horseshoe-Indiana-Finish-02-Renee-Torbit-scaled.jpg
END:VEVENT
BEGIN:VEVENT
DTSTART;TZID=America/Kentucky/Louisville:20250413T130000
DTEND;TZID=America/Kentucky/Louisville:20250413T183000
DTSTAMP:20260420T171008
CREATED:20250407T123551Z
LAST-MODIFIED:20250407T123551Z
UID:70744-1744549200-1744569000@thepressboxlts.com
SUMMARY:Keeneland Spring Meet
DESCRIPTION:First Post: 1 p.m. ET \nPhoto by Coady Media
URL:https://thepressboxlts.com/event/keeneland-spring-meet-10/
LOCATION:Keeneland Race Course\, KY\, United States
END:VEVENT
BEGIN:VEVENT
DTSTART;TZID=America/Kentucky/Louisville:20250412T130000
DTEND;TZID=America/Kentucky/Louisville:20250412T183000
DTSTAMP:20260420T171008
CREATED:20250407T123302Z
LAST-MODIFIED:20250407T123302Z
UID:70742-1744462800-1744482600@thepressboxlts.com
SUMMARY:Keeneland Spring Meet
DESCRIPTION:First Post: 1 p.m. ET \nPhoto by Coady Media
URL:https://thepressboxlts.com/event/keeneland-spring-meet-9/
LOCATION:Keeneland Race Course\, KY\, United States
ATTACH;FMTTYPE=image/jpeg:https://thepressboxlts.com/wp-content/uploads/2024/10/BRILLIANT-BERTI-The-Bryan-Station-G3-10-26-24-R09-Keeneland-Race-Course-Start-02-Kurtis-Coady-scaled.jpg
END:VEVENT
BEGIN:VEVENT
DTSTART;TZID=America/Kentucky/Louisville:20250411T130000
DTEND;TZID=America/Kentucky/Louisville:20250411T183000
DTSTAMP:20260420T171008
CREATED:20250407T123145Z
LAST-MODIFIED:20250407T123145Z
UID:70740-1744376400-1744396200@thepressboxlts.com
SUMMARY:Keeneland Spring Meet
DESCRIPTION:First Post: 1 p.m. ET \nPhoto by Coady Media
URL:https://thepressboxlts.com/event/keeneland-spring-meet-8/
LOCATION:Keeneland Race Course\, KY\, United States
ATTACH;FMTTYPE=image/jpeg:https://thepressboxlts.com/wp-content/uploads/2025/04/NORMANDY-The-Palisades-04-06-25-R08-Keeneland-Race-Course-Aerial-Finish-01-Maddy-Becker-scaled.jpg
END:VEVENT
BEGIN:VEVENT
DTSTART;TZID=America/Kentucky/Louisville:20250410T130000
DTEND;TZID=America/Kentucky/Louisville:20250410T183000
DTSTAMP:20260420T171008
CREATED:20250407T123033Z
LAST-MODIFIED:20250407T123033Z
UID:70738-1744290000-1744309800@thepressboxlts.com
SUMMARY:Keeneland Spring Meet
DESCRIPTION:First Post: 1 p.m. ET \nPhoto by Coady Media
URL:https://thepressboxlts.com/event/keeneland-spring-meet-7/
LOCATION:KY
ATTACH;FMTTYPE=image/jpeg:https://thepressboxlts.com/wp-content/uploads/2025/04/VERITY-The-MiddleGround-Capital-Beaumont-G2-04-06-25-R09-Keeneland-Race-Course-Inside-Finish-01-John-Gallagher-scaled.jpg
END:VEVENT
BEGIN:VEVENT
DTSTART;TZID=America/Kentucky/Louisville:20250409T130000
DTEND;TZID=America/Kentucky/Louisville:20250409T183000
DTSTAMP:20260420T171008
CREATED:20250407T122923Z
LAST-MODIFIED:20250407T122923Z
UID:70736-1744203600-1744223400@thepressboxlts.com
SUMMARY:Keeneland Spring Meet
DESCRIPTION:First Post: 1 p.m. ET \nPhoto by Coady Media
URL:https://thepressboxlts.com/event/keeneland-spring-meet-6/
LOCATION:Keeneland Race Course\, KY\, United States
ATTACH;FMTTYPE=image/jpeg:https://thepressboxlts.com/wp-content/uploads/2025/04/VERITY-The-MiddleGround-Capital-Beaumont-G2-04-06-25-R09-Keeneland-Race-Course-Under-Rail-01-John-Gallagher-scaled.jpg
END:VEVENT
BEGIN:VEVENT
DTSTART;TZID=America/Kentucky/Louisville:20250408T130000
DTEND;TZID=America/Kentucky/Louisville:20250408T183000
DTSTAMP:20260420T171008
CREATED:20250402T213447Z
LAST-MODIFIED:20250402T213447Z
UID:70591-1744117200-1744137000@thepressboxlts.com
SUMMARY:Keeneland Spring Meet -- Blue Grass Stakes & Saturday Card Moved to Tuesday
DESCRIPTION:First Post: 1 p.m. ET \nPhoto by Coady Media
URL:https://thepressboxlts.com/event/keeneland-spring-meet-blue-grass-stakes-saturday-card-moved-to-tuesday/
LOCATION:Keeneland Race Course\, KY\, United States
ATTACH;FMTTYPE=image/jpeg:https://thepressboxlts.com/wp-content/uploads/2024/10/HIT-SHOW-The-Hagyard-Fayette-G2-10-26-24-R08-Keeneland-Race-Course-Come-Back-03-Renee-Torbit-scaled.jpg
END:VEVENT
BEGIN:VEVENT
DTSTART;TZID=America/Kentucky/Louisville:20250407T130000
DTEND;TZID=America/Kentucky/Louisville:20250407T183000
DTSTAMP:20260420T171008
CREATED:20250402T213317Z
LAST-MODIFIED:20250402T213317Z
UID:70589-1744030800-1744050600@thepressboxlts.com
SUMMARY:Keeneland Spring Meet -- Friday's Card Now Moved to Monday
DESCRIPTION:First Post: 1 p.m. \nPhoto by Coady Media
URL:https://thepressboxlts.com/event/keeneland-spring-meet-fridays-card-now-moved-to-monday/
LOCATION:Keeneland Race Course\, KY\, United States
ATTACH;FMTTYPE=image/jpeg:https://thepressboxlts.com/wp-content/uploads/2024/10/BRILLIANT-BERTI-The-Bryan-Station-G3-10-26-24-R09-Keeneland-Race-Course-Come-Back-03-Renee-Torbit-scaled.jpg
END:VEVENT
BEGIN:VEVENT
DTSTART;TZID=America/Kentucky/Louisville:20250406T130000
DTEND;TZID=America/Kentucky/Louisville:20250406T183000
DTSTAMP:20260420T171008
CREATED:20250401T161624Z
LAST-MODIFIED:20250401T161624Z
UID:70560-1743944400-1743964200@thepressboxlts.com
SUMMARY:Keeneland Spring Meet
DESCRIPTION:First Post: 1 p.m. ET \nPhoto by Coady Media
URL:https://thepressboxlts.com/event/keeneland-spring-meet-5/
LOCATION:Keeneland Race Course\, KY\, United States
ATTACH;FMTTYPE=image/jpeg:https://thepressboxlts.com/wp-content/uploads/2024/10/HIT-SHOW-The-Hagyard-Fayette-G2-10-26-24-R08-Keeneland-Race-Course-Start-01-Renee-Torbit-scaled.jpg
END:VEVENT
BEGIN:VEVENT
DTSTART;TZID=America/Kentucky/Louisville:20250405T130000
DTEND;TZID=America/Kentucky/Louisville:20250405T183000
DTSTAMP:20260420T171008
CREATED:20250401T161502Z
LAST-MODIFIED:20250401T161502Z
UID:70558-1743858000-1743877800@thepressboxlts.com
SUMMARY:Keeneland Spring Meet -- G1 Blue Grass Stakes Day
DESCRIPTION:First Post: 1 p.m. ET \nPhoto by Coady Media
URL:https://thepressboxlts.com/event/keeneland-spring-meet-g1-blue-grass-stakes-day/
LOCATION:Keeneland Race Course\, KY\, United States
ATTACH;FMTTYPE=image/jpeg:https://thepressboxlts.com/wp-content/uploads/2024/10/BRILLIANT-BERTI-The-Bryan-Station-G3-10-26-24-R09-Keeneland-Race-Course-Start-02-Kurtis-Coady-scaled.jpg
END:VEVENT
BEGIN:VEVENT
DTSTART;TZID=America/Kentucky/Louisville:20250404T130000
DTEND;TZID=America/Kentucky/Louisville:20250404T183000
DTSTAMP:20260420T171008
CREATED:20250401T161345Z
LAST-MODIFIED:20250401T161345Z
UID:70556-1743771600-1743791400@thepressboxlts.com
SUMMARY:Keeneland Spring Meet
DESCRIPTION:First Post: 1 p.m. ET \nPhoto by Coady Media
URL:https://thepressboxlts.com/event/keeneland-spring-meet-4/
LOCATION:Keeneland Race Course\, KY\, United States
ATTACH;FMTTYPE=image/jpeg:https://thepressboxlts.com/wp-content/uploads/2024/10/BRILLIANT-BERTI-The-Bryan-Station-G3-10-26-24-R09-Keeneland-Race-Course-Start-01-John-Gallagher-scaled.jpg
END:VEVENT
BEGIN:VEVENT
DTSTART;TZID=America/Kentucky/Louisville:20250329T173000
DTEND;TZID=America/Kentucky/Louisville:20250329T223000
DTSTAMP:20260420T171008
CREATED:20250323T134208Z
LAST-MODIFIED:20250323T134208Z
UID:70400-1743269400-1743287400@thepressboxlts.com
SUMMARY:Turfway Park's Final Week of Racing
DESCRIPTION:First Post: 5:55 p.m. ET \nPhoto by Coady Media
URL:https://thepressboxlts.com/event/turfway-parks-final-week-of-racing-4/
LOCATION:Turfway Park\, Florence\, KY\, United States
ATTACH;FMTTYPE=image/jpeg:https://thepressboxlts.com/wp-content/uploads/2025/03/FINAL-GAMBIT-Jeff-Ruby-Steaks-54th-Running-03-22-25-R12-Turfway-Park-Celebration-01-Lauren-Johnson-scaled.jpg
END:VEVENT
BEGIN:VEVENT
DTSTART;TZID=America/Kentucky/Louisville:20250328T173000
DTEND;TZID=America/Kentucky/Louisville:20250328T220000
DTSTAMP:20260420T171008
CREATED:20250323T134041Z
LAST-MODIFIED:20250323T134041Z
UID:70398-1743183000-1743199200@thepressboxlts.com
SUMMARY:Turfway Park's Final Week of Racing
DESCRIPTION:First Post: 5:55 p.m. ET \nPhoto by Coady Media
URL:https://thepressboxlts.com/event/turfway-parks-final-week-of-racing-3/
LOCATION:Turfway Park\, Florence\, KY\, United States
ATTACH;FMTTYPE=image/jpeg:https://thepressboxlts.com/wp-content/uploads/2025/03/FINAL-GAMBIT-Jeff-Ruby-Steaks-54th-Running-03-22-25-R12-Turfway-Park-Luan-Machado-02-Lauren-Johnson-scaled.jpg
END:VEVENT
BEGIN:VEVENT
DTSTART;TZID=America/Kentucky/Louisville:20250327T173000
DTEND;TZID=America/Kentucky/Louisville:20250327T220000
DTSTAMP:20260420T171008
CREATED:20250323T133940Z
LAST-MODIFIED:20250323T133940Z
UID:70396-1743096600-1743112800@thepressboxlts.com
SUMMARY:Turfway Park's Final Week of Racing
DESCRIPTION:First Post: 5:55 p.m. ET \nPhoto by Coady Media
URL:https://thepressboxlts.com/event/turfway-parks-final-week-of-racing-2/
LOCATION:Turfway Park\, Florence\, KY\, United States
ATTACH;FMTTYPE=image/jpeg:https://thepressboxlts.com/wp-content/uploads/2025/03/FINAL-GAMBIT-Jeff-Ruby-Steaks-54th-Running-03-22-25-R12-Turfway-Park-Celebration-02-Lauren-Johnson-scaled.jpg
END:VEVENT
BEGIN:VEVENT
DTSTART;TZID=America/Kentucky/Louisville:20250326T173000
DTEND;TZID=America/Kentucky/Louisville:20250326T220000
DTSTAMP:20260420T171008
CREATED:20250323T133836Z
LAST-MODIFIED:20250323T133836Z
UID:70394-1743010200-1743026400@thepressboxlts.com
SUMMARY:Turfway Park's Final Week of Racing
DESCRIPTION:First Post: 5:55 p.m. ET \nPhoto by Coady Media
URL:https://thepressboxlts.com/event/turfway-parks-final-week-of-racing/
LOCATION:Turfway Park\, Florence\, KY\, United States
ATTACH;FMTTYPE=image/jpeg:https://thepressboxlts.com/wp-content/uploads/2025/03/FINAL-GAMBIT-Jeff-Ruby-Steaks-54th-Running-03-22-25-R12-Turfway-Park-Luan-Machado-03-Lauren-Johnson-scaled.jpg
END:VEVENT
BEGIN:VEVENT
DTSTART;TZID=America/Kentucky/Louisville:20250323T123000
DTEND;TZID=America/Kentucky/Louisville:20250323T190000
DTSTAMP:20260420T171008
CREATED:20250318T163846Z
LAST-MODIFIED:20250318T163846Z
UID:70227-1742733000-1742756400@thepressboxlts.com
SUMMARY:Fair Grounds Spring Meet
DESCRIPTION:First Post: 12:45 p.m. CT \nPhoto by Holly M. Smith
URL:https://thepressboxlts.com/event/fair-grounds-spring-meet-4/
LOCATION:Fair Grounds\, New Orleans\, LA\, United States
END:VEVENT
BEGIN:VEVENT
DTSTART;TZID=America/Kentucky/Louisville:20250322T123000
DTEND;TZID=America/Kentucky/Louisville:20250322T193000
DTSTAMP:20260420T171008
CREATED:20250318T210242Z
LAST-MODIFIED:20250318T210242Z
UID:70247-1742646600-1742671800@thepressboxlts.com
SUMMARY:Turfway Park Spring Meet -- Jeff Ruby Steaks Day Extravaganza
DESCRIPTION:First Post Special: 12:45 p.m. ET \n 
URL:https://thepressboxlts.com/event/turfway-park-spring-meet-jeff-ruby-steaks-day-extravaganza/
LOCATION:Turfway Park\, Florence\, KY\, United States
ATTACH;FMTTYPE=image/jpeg:https://thepressboxlts.com/wp-content/uploads/2024/03/Jeff-Ruby-Steaks.jpg
END:VEVENT
BEGIN:VEVENT
DTSTART;TZID=America/Kentucky/Louisville:20250322T120000
DTEND;TZID=America/Kentucky/Louisville:20250322T193000
DTSTAMP:20260420T171008
CREATED:20250318T163657Z
LAST-MODIFIED:20250318T163657Z
UID:70225-1742644800-1742671800@thepressboxlts.com
SUMMARY:Fair Grounds Spring Meet  -- Louisiana Derby Day Celebration
DESCRIPTION:First Post: 12:45 p.m. CT \nPhoto by Holly M. Smith
URL:https://thepressboxlts.com/event/fair-grounds-spring-meet-louisiana-derby-day-celebration/
LOCATION:Fair Grounds\, New Orleans\, LA\, United States
END:VEVENT
BEGIN:VEVENT
DTSTART;TZID=America/Kentucky/Louisville:20250321T173000
DTEND;TZID=America/Kentucky/Louisville:20250321T223000
DTSTAMP:20260420T171008
CREATED:20250318T210101Z
LAST-MODIFIED:20250318T210101Z
UID:70245-1742578200-1742596200@thepressboxlts.com
SUMMARY:Turfway Park Spring Meet
DESCRIPTION:First Post: 5:55 p.m. ET \nPhoto by Coady Media
URL:https://thepressboxlts.com/event/turfway-park-spring-meet-3/
LOCATION:Turfway Park\, Florence\, KY\, United States
ATTACH;FMTTYPE=image/jpeg:https://thepressboxlts.com/wp-content/uploads/2024/10/Scenics-TP-120123-06-1-scaled.jpg
END:VEVENT
BEGIN:VEVENT
DTSTART;TZID=America/Kentucky/Louisville:20250321T123000
DTEND;TZID=America/Kentucky/Louisville:20250321T190000
DTSTAMP:20260420T171008
CREATED:20250318T163536Z
LAST-MODIFIED:20250318T163536Z
UID:70223-1742560200-1742583600@thepressboxlts.com
SUMMARY:Fair Grounds Spring Meet
DESCRIPTION:First Post: 12:45 p.m. CT \nPhoto by Holly M. Smith
URL:https://thepressboxlts.com/event/fair-grounds-spring-meet-3/
LOCATION:Fair Grounds\, New Orleans\, LA\, United States
END:VEVENT
BEGIN:VEVENT
DTSTART;TZID=America/Kentucky/Louisville:20250320T173000
DTEND;TZID=America/Kentucky/Louisville:20250320T223000
DTSTAMP:20260420T171008
CREATED:20250318T210001Z
LAST-MODIFIED:20250318T210001Z
UID:70243-1742491800-1742509800@thepressboxlts.com
SUMMARY:Turfway Park Spring Meet
DESCRIPTION:First Post: 5:55 p.m. ET \nPhoto by Coady Media
URL:https://thepressboxlts.com/event/turfway-park-spring-meet-2/
LOCATION:Turfway Park\, Florence\, KY\, United States
ATTACH;FMTTYPE=image/jpeg:https://thepressboxlts.com/wp-content/uploads/2025/03/Scenics-TP-031425-001-scaled.jpg
END:VEVENT
END:VCALENDAR