BEGIN:VCALENDAR
VERSION:2.0
PRODID:-//The Pressbox - ECPv6.15.19//NONSGML v1.0//EN
CALSCALE:GREGORIAN
METHOD:PUBLISH
X-WR-CALNAME:The Pressbox
X-ORIGINAL-URL:https://thepressboxlts.com
X-WR-CALDESC:Events for The Pressbox
REFRESH-INTERVAL;VALUE=DURATION:PT1H
X-Robots-Tag:noindex
X-PUBLISHED-TTL:PT1H
BEGIN:VTIMEZONE
TZID:America/Kentucky/Louisville
BEGIN:DAYLIGHT
TZOFFSETFROM:-0500
TZOFFSETTO:-0400
TZNAME:EDT
DTSTART:20240310T070000
END:DAYLIGHT
BEGIN:STANDARD
TZOFFSETFROM:-0400
TZOFFSETTO:-0500
TZNAME:EST
DTSTART:20241103T060000
END:STANDARD
BEGIN:DAYLIGHT
TZOFFSETFROM:-0500
TZOFFSETTO:-0400
TZNAME:EDT
DTSTART:20250309T070000
END:DAYLIGHT
BEGIN:STANDARD
TZOFFSETFROM:-0400
TZOFFSETTO:-0500
TZNAME:EST
DTSTART:20251102T060000
END:STANDARD
BEGIN:DAYLIGHT
TZOFFSETFROM:-0500
TZOFFSETTO:-0400
TZNAME:EDT
DTSTART:20260308T070000
END:DAYLIGHT
BEGIN:STANDARD
TZOFFSETFROM:-0400
TZOFFSETTO:-0500
TZNAME:EST
DTSTART:20261101T060000
END:STANDARD
BEGIN:DAYLIGHT
TZOFFSETFROM:-0500
TZOFFSETTO:-0400
TZNAME:EDT
DTSTART:20270314T070000
END:DAYLIGHT
BEGIN:STANDARD
TZOFFSETFROM:-0400
TZOFFSETTO:-0500
TZNAME:EST
DTSTART:20271107T060000
END:STANDARD
END:VTIMEZONE
BEGIN:VEVENT
DTSTART;TZID=America/Kentucky/Louisville:20260116T123000
DTEND;TZID=America/Kentucky/Louisville:20260116T183000
DTSTAMP:20260419T180645
CREATED:20260112T145637Z
LAST-MODIFIED:20260112T145637Z
UID:77277-1768566600-1768588200@thepressboxlts.com
SUMMARY:Fair Grounds Winter / Spring Meet
DESCRIPTION:First Post: 12:45 p.m. CT \nPhoto by Hughes Photography & Courtesy of the Fair Grounds
URL:https://thepressboxlts.com/event/fair-grounds-winter-spring-meet-100/
LOCATION:Fair Grounds\, New Orleans\, LA\, United States
ATTACH;FMTTYPE=image/jpeg:https://thepressboxlts.com/wp-content/uploads/2024/03/Behemah-Star_12-9-2023-f-sm-2.jpg
END:VEVENT
BEGIN:VEVENT
DTSTART;TZID=America/Kentucky/Louisville:20260115T173000
DTEND;TZID=America/Kentucky/Louisville:20260115T223000
DTSTAMP:20260419T180645
CREATED:20260112T145032Z
LAST-MODIFIED:20260112T145032Z
UID:77269-1768498200-1768516200@thepressboxlts.com
SUMMARY:Turfway Park Winter / Spring Meet
DESCRIPTION:First Post: 5:55 p.m. ET \nPhoto by Coady Media
URL:https://thepressboxlts.com/event/turfway-park-winter-spring-meet-121/
LOCATION:Turfway Park\, Florence\, KY\, United States
ATTACH;FMTTYPE=image/jpeg:https://thepressboxlts.com/wp-content/uploads/2026/01/LITERATE-The-Likely-Exchange-28th-Running-01-10-26-R08-Turfway-Park-Paddock-01-scaled.jpg
END:VEVENT
BEGIN:VEVENT
DTSTART;TZID=America/Kentucky/Louisville:20260115T123000
DTEND;TZID=America/Kentucky/Louisville:20260115T193000
DTSTAMP:20260419T180645
CREATED:20260112T145526Z
LAST-MODIFIED:20260112T145526Z
UID:77275-1768480200-1768505400@thepressboxlts.com
SUMMARY:Fair Grounds Winter / Spring Meet
DESCRIPTION:First Post: 12:45 p.m. CT \nPhoto by Hughes Photography & Courtesy of the Fair Grounds
URL:https://thepressboxlts.com/event/fair-grounds-winter-spring-meet-99/
LOCATION:Fair Grounds\, New Orleans\, LA\, United States
ATTACH;FMTTYPE=image/jpeg:https://thepressboxlts.com/wp-content/uploads/2025/12/FGNO-41529-WebGraphicResizes_1120x610_6-2.jpg
END:VEVENT
BEGIN:VEVENT
DTSTART;TZID=America/Kentucky/Louisville:20260114T173000
DTEND;TZID=America/Kentucky/Louisville:20260114T223000
DTSTAMP:20260419T180645
CREATED:20260112T144915Z
LAST-MODIFIED:20260112T144915Z
UID:77267-1768411800-1768429800@thepressboxlts.com
SUMMARY:Turfway Park Winter / Spring Meet
DESCRIPTION:First Post: 5:55 p.m. ET \nPhoto by Coady Media
URL:https://thepressboxlts.com/event/turfway-park-winter-spring-meet-120/
LOCATION:Turfway Park\, Florence\, KY\, United States
ATTACH;FMTTYPE=image/jpeg:https://thepressboxlts.com/wp-content/uploads/2026/01/LITERATE-The-Likely-Exchange-28th-Running-01-10-26-R08-Turfway-Park-Paddock-02-scaled.jpg
END:VEVENT
BEGIN:VEVENT
DTSTART;TZID=America/Kentucky/Louisville:20260111T123000
DTEND;TZID=America/Kentucky/Louisville:20260111T190000
DTSTAMP:20260419T180645
CREATED:20260106T001729Z
LAST-MODIFIED:20260106T001729Z
UID:77129-1768134600-1768158000@thepressboxlts.com
SUMMARY:Fair Grounds Winter / Spring Meet
DESCRIPTION:First Post: 12:45 p.m. CT \nPhoto by Hughes Photography & Courtesy of the Fair Grounds
URL:https://thepressboxlts.com/event/fair-grounds-winter-spring-meet-98/
LOCATION:Fair Grounds\, New Orleans\, LA\, United States
ATTACH;FMTTYPE=image/jpeg:https://thepressboxlts.com/wp-content/uploads/2025/12/FGNO-41529-WebGraphicResizes_1120x610_6-2.jpg
END:VEVENT
BEGIN:VEVENT
DTSTART;TZID=America/Kentucky/Louisville:20260110T173000
DTEND;TZID=America/Kentucky/Louisville:20260110T223000
DTSTAMP:20260419T180645
CREATED:20260106T000915Z
LAST-MODIFIED:20260106T000915Z
UID:77121-1768066200-1768084200@thepressboxlts.com
SUMMARY:Turfway Park Winter / Spring Meet
DESCRIPTION:First Post: 5:55 p.m. ET \nPhoto by Coady Media
URL:https://thepressboxlts.com/event/turfway-park-winter-spring-meet-119/
LOCATION:Turfway Park\, Florence\, KY\, United States
ATTACH;FMTTYPE=image/jpeg:https://thepressboxlts.com/wp-content/uploads/2026/01/MAP-OF-THE-MOON-The-Gowell-Stakes-32nd-Running-01-01-26-R08-Turfway-Park-winners-Circle-scaled.jpg
END:VEVENT
BEGIN:VEVENT
DTSTART;TZID=America/Kentucky/Louisville:20260110T123000
DTEND;TZID=America/Kentucky/Louisville:20260110T193000
DTSTAMP:20260419T180645
CREATED:20260106T001603Z
LAST-MODIFIED:20260106T001603Z
UID:77127-1768048200-1768073400@thepressboxlts.com
SUMMARY:Fair Grounds Winter / Spring Meet
DESCRIPTION:First Post: 12:45 p.m. CT \nPhoto by Hughes Photography & Courtesy of the Fair Grounds
URL:https://thepressboxlts.com/event/fair-grounds-winter-spring-meet-97/
LOCATION:KY
ATTACH;FMTTYPE=image/jpeg:https://thepressboxlts.com/wp-content/uploads/2025/12/CATCHINGFREEDOM.jpeg
END:VEVENT
BEGIN:VEVENT
DTSTART;TZID=America/Kentucky/Louisville:20260109T173000
DTEND;TZID=America/Kentucky/Louisville:20260109T223000
DTSTAMP:20260419T180645
CREATED:20260106T000747Z
LAST-MODIFIED:20260106T000747Z
UID:77119-1767979800-1767997800@thepressboxlts.com
SUMMARY:Turfway Park Winter / Spring Meet
DESCRIPTION:First Post: 5:55 p.m. ET \nPhoto by Coady Media
URL:https://thepressboxlts.com/event/turfway-park-winter-spring-meet-118/
LOCATION:Turfway Park\, Florence\, KY\, United States
ATTACH;FMTTYPE=image/jpeg:https://thepressboxlts.com/wp-content/uploads/2026/01/HOMETOWN-BOUND-The-Turfway-Prevue-31st-Running-01-03-26-R06-Turfway-Park-Finish-01-scaled.jpg
END:VEVENT
BEGIN:VEVENT
DTSTART;TZID=America/Kentucky/Louisville:20260109T123000
DTEND;TZID=America/Kentucky/Louisville:20260109T190000
DTSTAMP:20260419T180645
CREATED:20260106T001346Z
LAST-MODIFIED:20260106T001346Z
UID:77125-1767961800-1767985200@thepressboxlts.com
SUMMARY:Fair Grounds Winter / Spring Meet
DESCRIPTION:First Post: 12:45 p.m. CT \nPhoto by Hughes Photography & Courtesy of the Fair Grounds
URL:https://thepressboxlts.com/event/fair-grounds-winter-spring-meet-96/
LOCATION:Fair Grounds\, New Orleans\, LA\, United States
ATTACH;FMTTYPE=image/jpeg:https://thepressboxlts.com/wp-content/uploads/2025/11/ZZZZ20251031_johnvoorhees_eclipsesportswire_19393-scaled.jpg
END:VEVENT
BEGIN:VEVENT
DTSTART;TZID=America/Kentucky/Louisville:20260108T173000
DTEND;TZID=America/Kentucky/Louisville:20260108T223000
DTSTAMP:20260419T180645
CREATED:20260106T000641Z
LAST-MODIFIED:20260106T000641Z
UID:77117-1767893400-1767911400@thepressboxlts.com
SUMMARY:Turfway Park Winter / Spring Meet
DESCRIPTION:First Post: 5:55 p.m. ET \nPhoto by Coady Media
URL:https://thepressboxlts.com/event/turfway-park-winter-spring-meet-117/
LOCATION:Turfway Park\, Florence\, KY\, United States
ATTACH;FMTTYPE=image/jpeg:https://thepressboxlts.com/wp-content/uploads/2026/01/HOMETOWN-BOUND-The-Turfway-Prevue-31st-Running-01-03-26-R06-Turfway-Park-Paddock-01-scaled.jpg
END:VEVENT
BEGIN:VEVENT
DTSTART;TZID=America/Kentucky/Louisville:20260108T123000
DTEND;TZID=America/Kentucky/Louisville:20260108T183000
DTSTAMP:20260419T180645
CREATED:20260106T001059Z
LAST-MODIFIED:20260106T001059Z
UID:77123-1767875400-1767897000@thepressboxlts.com
SUMMARY:Fair Grounds Winter / Spring Meet
DESCRIPTION:First Post: 12:45 p.m. CT \nPhoto by Hughes Photography & Courtesy of the Fair Grounds
URL:https://thepressboxlts.com/event/fair-grounds-winter-spring-meet-95/
LOCATION:Fair Grounds\, New Orleans\, LA\, United States
ATTACH;FMTTYPE=image/png:https://thepressboxlts.com/wp-content/uploads/2025/12/fairgrounds-racing-homepage-1.png
END:VEVENT
BEGIN:VEVENT
DTSTART;TZID=America/Kentucky/Louisville:20260107T173000
DTEND;TZID=America/Kentucky/Louisville:20260107T223000
DTSTAMP:20260419T180645
CREATED:20260106T000538Z
LAST-MODIFIED:20260106T000538Z
UID:77115-1767807000-1767825000@thepressboxlts.com
SUMMARY:Turfway Park Winter / Spring Meet
DESCRIPTION:First Post: 5:55 p.m. ET \nPhoto by Coady Media
URL:https://thepressboxlts.com/event/turfway-park-winter-spring-meet-116/
LOCATION:Turfway Park\, Florence\, KY\, United States
ATTACH;FMTTYPE=image/jpeg:https://thepressboxlts.com/wp-content/uploads/2026/01/HOMETOWN-BOUND-The-Turfway-Prevue-31st-Running-01-03-26-R06-Turfway-Park-Up-the-track-01-scaled.jpg
END:VEVENT
BEGIN:VEVENT
DTSTART;TZID=America/Kentucky/Louisville:20260104T173000
DTEND;TZID=America/Kentucky/Louisville:20260104T223000
DTSTAMP:20260419T180645
CREATED:20251222T152117Z
LAST-MODIFIED:20251222T152420Z
UID:76983-1767547800-1767565800@thepressboxlts.com
SUMMARY:Turfway Park Winter Meet
DESCRIPTION:First Post: 5:55 p.m. ET \nPhoto by Coady Media
URL:https://thepressboxlts.com/event/turfway-park-winter-meet-24/
LOCATION:Turfway Park\, Florence\, KY\, United States
ATTACH;FMTTYPE=image/jpeg:https://thepressboxlts.com/wp-content/uploads/2025/12/ENCINO-The-Prairie-Bayou-30th-Running-12-21-25-R08-Turfway-Park-Inside-Finish-01-scaled.jpg
END:VEVENT
BEGIN:VEVENT
DTSTART;TZID=America/Kentucky/Louisville:20260104T123000
DTEND;TZID=America/Kentucky/Louisville:20260104T190000
DTSTAMP:20260419T180645
CREATED:20251229T165402Z
LAST-MODIFIED:20251229T165402Z
UID:77054-1767529800-1767553200@thepressboxlts.com
SUMMARY:Fair Grounds Winter/Spring Meet
DESCRIPTION:First Post: 12:45 p.m. CT \nPhoto by Hughes Photography
URL:https://thepressboxlts.com/event/fair-grounds-winter-spring-meet-94/
LOCATION:Fair Grounds\, New Orleans\, LA\, United States
ATTACH;FMTTYPE=image/jpeg:https://thepressboxlts.com/wp-content/uploads/2024/02/Pretty-Mischievous-F_2-18-2023.jpg
END:VEVENT
BEGIN:VEVENT
DTSTART;TZID=America/Kentucky/Louisville:20260103T173000
DTEND;TZID=America/Kentucky/Louisville:20260103T223000
DTSTAMP:20260419T180645
CREATED:20251222T151942Z
LAST-MODIFIED:20251222T151942Z
UID:76981-1767461400-1767479400@thepressboxlts.com
SUMMARY:Turfway Park Winter Meet
DESCRIPTION:First Post: 5:55 p.m. ET \nPhoto by Coady Media
URL:https://thepressboxlts.com/event/turfway-park-winter-meet-23/
LOCATION:Turfway Park\, Florence\, KY\, United States
ATTACH;FMTTYPE=image/jpeg:https://thepressboxlts.com/wp-content/uploads/2025/12/JOE-SHIESTY-The-Holiday-Cheer-30th-Running-12-21-25-R09-Turfway-Park-Inside-Finish-01-scaled.jpg
END:VEVENT
BEGIN:VEVENT
DTSTART;TZID=America/Kentucky/Louisville:20260103T123000
DTEND;TZID=America/Kentucky/Louisville:20260103T190000
DTSTAMP:20260419T180645
CREATED:20251229T165254Z
LAST-MODIFIED:20251229T165254Z
UID:77052-1767443400-1767466800@thepressboxlts.com
SUMMARY:Fair Grounds Winter/Spring Meet
DESCRIPTION:First Post: 12:45 p.m. CT \nPhoto by Hughes Photography
URL:https://thepressboxlts.com/event/fair-grounds-winter-spring-meet-93/
LOCATION:Fair Grounds\, New Orleans\, LA\, United States
ATTACH;FMTTYPE=image/jpeg:https://thepressboxlts.com/wp-content/uploads/2025/11/ZZZZ20251031_johnvoorhees_eclipsesportswire_19393-scaled.jpg
END:VEVENT
BEGIN:VEVENT
DTSTART;TZID=America/Kentucky/Louisville:20260102T173000
DTEND;TZID=America/Kentucky/Louisville:20260102T223000
DTSTAMP:20260419T180645
CREATED:20251222T151806Z
LAST-MODIFIED:20251222T151806Z
UID:76979-1767375000-1767393000@thepressboxlts.com
SUMMARY:Turfway Park Winter Meet
DESCRIPTION:First Post: 5:55 p.m. ET \nPhoto by Coady Media
URL:https://thepressboxlts.com/event/turfway-park-winter-meet-22/
LOCATION:Turfway Park\, Florence\, KY\, United States
ATTACH;FMTTYPE=image/jpeg:https://thepressboxlts.com/wp-content/uploads/2025/12/CAITLINHERGRTNESS-The-My-Charmer-37th-Running-12-21-25-R06-Turfway-Park-Finish-02-scaled.jpg
END:VEVENT
BEGIN:VEVENT
DTSTART;TZID=America/Kentucky/Louisville:20260102T123000
DTEND;TZID=America/Kentucky/Louisville:20260102T190000
DTSTAMP:20260419T180645
CREATED:20251229T163702Z
LAST-MODIFIED:20251229T163702Z
UID:77050-1767357000-1767380400@thepressboxlts.com
SUMMARY:Fair Grounds Winter/Spring Meet
DESCRIPTION:First Post: 12:45 p.m. CT \nPhoto by Hughes Photography \n 
URL:https://thepressboxlts.com/event/fair-grounds-winter-spring-meet-92/
LOCATION:Fair Grounds\, New Orleans\, LA\, United States
ATTACH;FMTTYPE=image/jpeg:https://thepressboxlts.com/wp-content/uploads/2025/11/zz20251031_lindsayaffleck_eclipsesportswire_00603-scaled.jpg
END:VEVENT
BEGIN:VEVENT
DTSTART;TZID=America/Kentucky/Louisville:20260101T173000
DTEND;TZID=America/Kentucky/Louisville:20260101T223000
DTSTAMP:20260419T180645
CREATED:20251222T151645Z
LAST-MODIFIED:20251222T151645Z
UID:76977-1767288600-1767306600@thepressboxlts.com
SUMMARY:Turfway Park Winter Meet
DESCRIPTION:First Post: 5:55 p.m. ET \nPhoto by Coady Media
URL:https://thepressboxlts.com/event/turfway-park-winter-meet-21/
LOCATION:Turfway Park\, Florence\, KY\, United States
ATTACH;FMTTYPE=image/jpeg:https://thepressboxlts.com/wp-content/uploads/2025/12/MINKS-PALACE-The-Holiday-Inaugural-39th-Running-12-21-25-R07-Turfway-Park-Inside-Finish-01-scaled.jpg
END:VEVENT
BEGIN:VEVENT
DTSTART;TZID=America/Kentucky/Louisville:20260101T123000
DTEND;TZID=America/Kentucky/Louisville:20260101T190000
DTSTAMP:20260419T180645
CREATED:20251229T163540Z
LAST-MODIFIED:20251229T163540Z
UID:77048-1767270600-1767294000@thepressboxlts.com
SUMMARY:Fair Grounds Winter/Spring Meet
DESCRIPTION:First Post: 12:45 p.m. CT \nPhoto by Hughes Photography
URL:https://thepressboxlts.com/event/fair-grounds-winter-spring-meet-91/
LOCATION:Fair Grounds\, New Orleans\, LA\, United States
ATTACH;FMTTYPE=image/png:https://thepressboxlts.com/wp-content/uploads/2025/12/fairgrounds-racing-homepage-1.png
END:VEVENT
BEGIN:VEVENT
DTSTART;TZID=America/Kentucky/Louisville:20251228T123000
DTEND;TZID=America/Kentucky/Louisville:20251228T193000
DTSTAMP:20260419T180645
CREATED:20251222T152851Z
LAST-MODIFIED:20251222T152851Z
UID:76990-1766925000-1766950200@thepressboxlts.com
SUMMARY:Fair Grounds Winter Meet
DESCRIPTION:First Post: 12:45 p.m. CT \nPhoto Courtesy of the Fair Grounds
URL:https://thepressboxlts.com/event/fair-grounds-winter-meet-42/
LOCATION:Fair Grounds\, New Orleans\, LA\, United States
ATTACH;FMTTYPE=image/jpeg:https://thepressboxlts.com/wp-content/uploads/2025/12/Chip-Honcho_UR1_12-20-2025-scaled.jpg
END:VEVENT
BEGIN:VEVENT
DTSTART;TZID=America/Kentucky/Louisville:20251227T173000
DTEND;TZID=America/Kentucky/Louisville:20251227T223000
DTSTAMP:20260419T180645
CREATED:20251222T163604Z
LAST-MODIFIED:20251222T163604Z
UID:76994-1766856600-1766874600@thepressboxlts.com
SUMMARY:Turfway Park Holiday Meet
DESCRIPTION:First Post: 5:55 p.m. ET \nPhoto by Coady Media
URL:https://thepressboxlts.com/event/turfway-park-holiday-meet-58/
LOCATION:Turfway Park\, Florence\, KY\, United States
ATTACH;FMTTYPE=image/jpeg:https://thepressboxlts.com/wp-content/uploads/2025/12/ZVEREV-The-Boone-County-Stakes-1st-Running-12-06-25-R07-Turfway-Park-Finish-02-Renee-Torbit-1-scaled.jpg
END:VEVENT
BEGIN:VEVENT
DTSTART;TZID=America/Kentucky/Louisville:20251227T123000
DTEND;TZID=America/Kentucky/Louisville:20251227T193000
DTSTAMP:20260419T180645
CREATED:20251222T152744Z
LAST-MODIFIED:20251222T152744Z
UID:76988-1766838600-1766863800@thepressboxlts.com
SUMMARY:Fair Grounds Winter Meet
DESCRIPTION:First Post: 12:45 p.m. CT \nPhoto Courtesy of the Fair Grounds
URL:https://thepressboxlts.com/event/fair-grounds-winter-meet-41/
LOCATION:Fair Grounds\, New Orleans\, LA\, United States
ATTACH;FMTTYPE=image/png:https://thepressboxlts.com/wp-content/uploads/2025/12/fairgrounds-racing-homepage-1.png
END:VEVENT
BEGIN:VEVENT
DTSTART;TZID=America/Kentucky/Louisville:20251226T173000
DTEND;TZID=America/Kentucky/Louisville:20251226T223000
DTSTAMP:20260419T180645
CREATED:20251222T163451Z
LAST-MODIFIED:20251222T163451Z
UID:76992-1766770200-1766788200@thepressboxlts.com
SUMMARY:Turfway Park Holiday Meet
DESCRIPTION:First Post: 5:55 p.m. ET \nPhoto by Coady Media
URL:https://thepressboxlts.com/event/turfway-park-holiday-meet-57/
LOCATION:Turfway Park\, Florence\, KY\, United States
ATTACH;FMTTYPE=image/jpeg:https://thepressboxlts.com/wp-content/uploads/2025/12/ZVEREV-The-Boone-County-Stakes-1st-Running-12-06-25-R07-Turfway-Park-Come-Back-03-scaled.jpg
END:VEVENT
BEGIN:VEVENT
DTSTART;TZID=America/Kentucky/Louisville:20251226T123000
DTEND;TZID=America/Kentucky/Louisville:20251226T193000
DTSTAMP:20260419T180645
CREATED:20251222T152623Z
LAST-MODIFIED:20251222T152623Z
UID:76986-1766752200-1766777400@thepressboxlts.com
SUMMARY:Fair Grounds Winter Meet
DESCRIPTION:First Post: 12:45 p.m. CT \nPhoto Courtesy of the Fair Grounds
URL:https://thepressboxlts.com/event/fair-grounds-winter-meet-40/
LOCATION:Fair Grounds\, New Orleans\, LA\, United States
ATTACH;FMTTYPE=image/jpeg:https://thepressboxlts.com/wp-content/uploads/2025/12/FGNO-41529-WebGraphicResizes_1120x610_6-2.jpg
END:VEVENT
BEGIN:VEVENT
DTSTART;TZID=America/Kentucky/Louisville:20251221T150000
DTEND;TZID=America/Kentucky/Louisville:20251221T210000
DTSTAMP:20260419T180645
CREATED:20251214T164105Z
LAST-MODIFIED:20251214T164105Z
UID:76866-1766329200-1766350800@thepressboxlts.com
SUMMARY:Turfway Park Holiday Meet -- Synthetic Championships Day
DESCRIPTION:First Post: 3 p.m. ET \nEncino / Photo by Coady Media
URL:https://thepressboxlts.com/event/turfway-park-holiday-meet-synthetic-championships-day/
LOCATION:Turfway Park\, Florence\, KY\, United States
ATTACH;FMTTYPE=image/jpeg:https://thepressboxlts.com/wp-content/uploads/2024/04/Encino-Gallop-Churchill-Downs-04-21-24-01-Renee-Torbit-scaled.jpg
END:VEVENT
BEGIN:VEVENT
DTSTART;TZID=America/Kentucky/Louisville:20251221T123000
DTEND;TZID=America/Kentucky/Louisville:20251221T190000
DTSTAMP:20260419T180645
CREATED:20251214T164912Z
LAST-MODIFIED:20251214T164912Z
UID:76879-1766320200-1766343600@thepressboxlts.com
SUMMARY:The Fair Grounds Winter Meet
DESCRIPTION:First Post: 12:45 p.m. CT \nPhoto Courtesy of the Fair Grounds
URL:https://thepressboxlts.com/event/the-fair-grounds-winter-meet-8/
LOCATION:KY
ATTACH;FMTTYPE=image/jpeg:https://thepressboxlts.com/wp-content/uploads/2025/12/112-Derby-Poater-Contest-Logo-copy.jpg
END:VEVENT
BEGIN:VEVENT
DTSTART;TZID=America/Kentucky/Louisville:20251220T173000
DTEND;TZID=America/Kentucky/Louisville:20251220T223000
DTSTAMP:20260419T180645
CREATED:20251214T163823Z
LAST-MODIFIED:20251214T163823Z
UID:76864-1766251800-1766269800@thepressboxlts.com
SUMMARY:Turfway Park Holiday Meet
DESCRIPTION:First Post: 5:55 p.m. ET \nPhoto by Coady Media
URL:https://thepressboxlts.com/event/turfway-park-holiday-meet-56/
LOCATION:Turfway Park\, Florence\, KY\, United States
ATTACH;FMTTYPE=image/jpeg:https://thepressboxlts.com/wp-content/uploads/2025/12/ZVEREV-The-Boone-County-Stakes-1st-Running-12-06-25-R07-Turfway-Park-Come-Back-03-scaled.jpg
END:VEVENT
BEGIN:VEVENT
DTSTART;TZID=America/Kentucky/Louisville:20251220T123000
DTEND;TZID=America/Kentucky/Louisville:20251220T190000
DTSTAMP:20260419T180645
CREATED:20251214T164815Z
LAST-MODIFIED:20251214T164815Z
UID:76872-1766233800-1766257200@thepressboxlts.com
SUMMARY:The Fair Grounds Winter Meet
DESCRIPTION:First Post: 12:45 p.m. CT \nPhoto Courtesy of the Fair Grounds
URL:https://thepressboxlts.com/event/the-fair-grounds-winter-meet-7/
LOCATION:Fair Grounds\, New Orleans\, LA\, United States
ATTACH;FMTTYPE=image/png:https://thepressboxlts.com/wp-content/uploads/2025/12/fairgrounds-racing-homepage-1.png
END:VEVENT
BEGIN:VEVENT
DTSTART;TZID=America/Kentucky/Louisville:20251219T173000
DTEND;TZID=America/Kentucky/Louisville:20251219T223000
DTSTAMP:20260419T180645
CREATED:20251214T163714Z
LAST-MODIFIED:20251214T163714Z
UID:76862-1766165400-1766183400@thepressboxlts.com
SUMMARY:Turfway Park Holiday Meet
DESCRIPTION:First Post: 5:55 p.m. ET \nPhoto by Coady Media
URL:https://thepressboxlts.com/event/turfway-park-holiday-meet-55/
LOCATION:Turfway Park\, Florence\, KY\, United States
ATTACH;FMTTYPE=image/jpeg:https://thepressboxlts.com/wp-content/uploads/2025/12/ZVEREV-The-Boone-County-Stakes-1st-Running-12-06-25-R07-Turfway-Park-Finish-04-Renee-Torbit-1-scaled.jpg
END:VEVENT
END:VCALENDAR