BEGIN:VCALENDAR
VERSION:2.0
PRODID:-//The Pressbox - ECPv6.15.19//NONSGML v1.0//EN
CALSCALE:GREGORIAN
METHOD:PUBLISH
X-WR-CALNAME:The Pressbox
X-ORIGINAL-URL:https://thepressboxlts.com
X-WR-CALDESC:Events for The Pressbox
REFRESH-INTERVAL;VALUE=DURATION:PT1H
X-Robots-Tag:noindex
X-PUBLISHED-TTL:PT1H
BEGIN:VTIMEZONE
TZID:America/Kentucky/Louisville
BEGIN:DAYLIGHT
TZOFFSETFROM:-0500
TZOFFSETTO:-0400
TZNAME:EDT
DTSTART:20250309T070000
END:DAYLIGHT
BEGIN:STANDARD
TZOFFSETFROM:-0400
TZOFFSETTO:-0500
TZNAME:EST
DTSTART:20251102T060000
END:STANDARD
BEGIN:DAYLIGHT
TZOFFSETFROM:-0500
TZOFFSETTO:-0400
TZNAME:EDT
DTSTART:20260308T070000
END:DAYLIGHT
BEGIN:STANDARD
TZOFFSETFROM:-0400
TZOFFSETTO:-0500
TZNAME:EST
DTSTART:20261101T060000
END:STANDARD
BEGIN:DAYLIGHT
TZOFFSETFROM:-0500
TZOFFSETTO:-0400
TZNAME:EDT
DTSTART:20270314T070000
END:DAYLIGHT
BEGIN:STANDARD
TZOFFSETFROM:-0400
TZOFFSETTO:-0500
TZNAME:EST
DTSTART:20271107T060000
END:STANDARD
END:VTIMEZONE
BEGIN:VEVENT
DTSTART;TZID=America/Kentucky/Louisville:20260206T123000
DTEND;TZID=America/Kentucky/Louisville:20260206T183000
DTSTAMP:20260419T194245
CREATED:20260201T171836Z
LAST-MODIFIED:20260201T171836Z
UID:77645-1770381000-1770402600@thepressboxlts.com
SUMMARY:Fair Grounds Winter / Spring Meet
DESCRIPTION:First Post: 12:45 p.m. CT \nPhoto by Hughes Photography & Courtesy of the Fair Grounds
URL:https://thepressboxlts.com/event/fair-grounds-winter-spring-meet-113/
LOCATION:Fair Grounds\, New Orleans\, LA\, United States
ATTACH;FMTTYPE=image/jpeg:https://thepressboxlts.com/wp-content/uploads/2025/12/FGNO-41529-WebGraphicResizes_1120x610_6-2.jpg
END:VEVENT
BEGIN:VEVENT
DTSTART;TZID=America/Kentucky/Louisville:20260205T173000
DTEND;TZID=America/Kentucky/Louisville:20260205T223000
DTSTAMP:20260419T194245
CREATED:20260201T171125Z
LAST-MODIFIED:20260201T171125Z
UID:77636-1770312600-1770330600@thepressboxlts.com
SUMMARY:Turfway Park Winter / Spring Meet
DESCRIPTION:First Post: 5:55 p.m. ET \nPhoto by Coady Media
URL:https://thepressboxlts.com/event/turfway-park-winter-spring-meet-133/
LOCATION:Turfway Park\, Florence\, KY\, United States
ATTACH;FMTTYPE=image/jpeg:https://thepressboxlts.com/wp-content/uploads/2026/01/STREET-BEAST-The-Leonatus-Stakes-01-17-26-R08-Turfway-Park-Come-Back-01-Renee-Torbit-scaled.jpg
END:VEVENT
BEGIN:VEVENT
DTSTART;TZID=America/Kentucky/Louisville:20260205T123000
DTEND;TZID=America/Kentucky/Louisville:20260205T183000
DTSTAMP:20260419T194245
CREATED:20260201T171726Z
LAST-MODIFIED:20260201T171726Z
UID:77643-1770294600-1770316200@thepressboxlts.com
SUMMARY:Fair Grounds Winter / Spring Meet
DESCRIPTION:First Post: 12:45 p.m. CT \nPhoto by Hughes Photography & Courtesy of the Fair Grounds
URL:https://thepressboxlts.com/event/fair-grounds-winter-spring-meet-112/
LOCATION:Fair Grounds\, New Orleans\, LA\, United States
ATTACH;FMTTYPE=image/png:https://thepressboxlts.com/wp-content/uploads/2025/12/fairgrounds-racing-homepage-1.png
END:VEVENT
BEGIN:VEVENT
DTSTART;TZID=America/Kentucky/Louisville:20260204T173000
DTEND;TZID=America/Kentucky/Louisville:20260204T223000
DTSTAMP:20260419T194245
CREATED:20260201T171005Z
LAST-MODIFIED:20260201T171005Z
UID:77634-1770226200-1770244200@thepressboxlts.com
SUMMARY:Turfway Park Winter / Spring Meet
DESCRIPTION:First Post: 5:55 p.m. ET \nPhoto by Coady Media
URL:https://thepressboxlts.com/event/turfway-park-winter-spring-meet-132/
LOCATION:Turfway Park\, Florence\, KY\, United States
ATTACH;FMTTYPE=image/jpeg:https://thepressboxlts.com/wp-content/uploads/2026/01/STREET-BEAST-The-Leonatus-Stakes-01-17-26-R08-Turfway-Park-Come-Back-03-Renee-Torbit-scaled.jpg
END:VEVENT
BEGIN:VEVENT
DTSTART;TZID=America/Kentucky/Louisville:20260201T123000
DTEND;TZID=America/Kentucky/Louisville:20260201T183000
DTSTAMP:20260419T194245
CREATED:20260125T191101Z
LAST-MODIFIED:20260125T191101Z
UID:77445-1769949000-1769970600@thepressboxlts.com
SUMMARY:Fair Grounds Winter / Spring Meet
DESCRIPTION:First Post: 12:45 p.m. CT \nPhoto by Hughes Photography & Courtesy of the Fair Grounds
URL:https://thepressboxlts.com/event/fair-grounds-winter-spring-meet-111/
LOCATION:Fair Grounds\, New Orleans\, LA\, United States
ATTACH;FMTTYPE=image/jpeg:https://thepressboxlts.com/wp-content/uploads/2025/12/CATCHINGFREEDOM.jpeg
END:VEVENT
BEGIN:VEVENT
DTSTART;TZID=America/Kentucky/Louisville:20260131T173000
DTEND;TZID=America/Kentucky/Louisville:20260131T223000
DTSTAMP:20260419T194245
CREATED:20260125T190037Z
LAST-MODIFIED:20260125T190037Z
UID:77437-1769880600-1769898600@thepressboxlts.com
SUMMARY:Turfway Park Winter / Spring Meet
DESCRIPTION:First Post: 5:55 p.m. ET \nPhoto by Coady Media
URL:https://thepressboxlts.com/event/turfway-park-winter-spring-meet-131/
LOCATION:Turfway Park\, Florence\, KY\, United States
ATTACH;FMTTYPE=image/jpeg:https://thepressboxlts.com/wp-content/uploads/2026/01/STREET-BEAST-The-Leonatus-Stakes-01-17-26-R08-Turfway-Park-Come-Back-02-Renee-Torbit-scaled.jpg
END:VEVENT
BEGIN:VEVENT
DTSTART;TZID=America/Kentucky/Louisville:20260131T123000
DTEND;TZID=America/Kentucky/Louisville:20260131T183000
DTSTAMP:20260419T194245
CREATED:20260125T190807Z
LAST-MODIFIED:20260125T190807Z
UID:77443-1769862600-1769884200@thepressboxlts.com
SUMMARY:Fair Grounds Winter / Spring Meet
DESCRIPTION:First Post: 12:45 p.m. CT \nPhoto by Hughes Photography & Courtesy of the Fair Grounds
URL:https://thepressboxlts.com/event/fair-grounds-winter-spring-meet-110/
LOCATION:Fair Grounds\, New Orleans\, LA\, United States
ATTACH;FMTTYPE=image/jpeg:https://thepressboxlts.com/wp-content/uploads/2025/12/Chip-Honcho_UR1_12-20-2025-scaled.jpg
END:VEVENT
BEGIN:VEVENT
DTSTART;TZID=America/Kentucky/Louisville:20260130T173000
DTEND;TZID=America/Kentucky/Louisville:20260130T223000
DTSTAMP:20260419T194245
CREATED:20260125T185924Z
LAST-MODIFIED:20260125T185924Z
UID:77435-1769794200-1769812200@thepressboxlts.com
SUMMARY:Turfway Park Winter / Spring Meet
DESCRIPTION:First Post: 5:55 p.m. ET \nPhoto by Coady Media
URL:https://thepressboxlts.com/event/turfway-park-winter-spring-meet-130/
LOCATION:Turfway Park\, Florence\, KY\, United States
ATTACH;FMTTYPE=image/jpeg:https://thepressboxlts.com/wp-content/uploads/2026/01/STREET-BEAST-The-Leonatus-Stakes-01-17-26-R08-Turfway-Park-Up-the-Track-01-Devin-Hall-scaled.jpg
END:VEVENT
BEGIN:VEVENT
DTSTART;TZID=America/Kentucky/Louisville:20260130T123000
DTEND;TZID=America/Kentucky/Louisville:20260130T183000
DTSTAMP:20260419T194245
CREATED:20260125T190608Z
LAST-MODIFIED:20260125T190608Z
UID:77441-1769776200-1769797800@thepressboxlts.com
SUMMARY:Fair Grounds Winter / Spring Meet
DESCRIPTION:First Post: 12:45 p.m. CT \nPhoto by Hughes Photography & Courtesy of the Fair Grounds
URL:https://thepressboxlts.com/event/fair-grounds-winter-spring-meet-109/
LOCATION:Fair Grounds\, New Orleans\, LA\, United States
ATTACH;FMTTYPE=image/jpeg:https://thepressboxlts.com/wp-content/uploads/2025/12/FGNO-41529-WebGraphicResizes_1120x610_6-2.jpg
END:VEVENT
BEGIN:VEVENT
DTSTART;TZID=America/Kentucky/Louisville:20260129T173000
DTEND;TZID=America/Kentucky/Louisville:20260129T223000
DTSTAMP:20260419T194245
CREATED:20260125T185817Z
LAST-MODIFIED:20260125T185817Z
UID:77433-1769707800-1769725800@thepressboxlts.com
SUMMARY:Turfway Park Winter / Spring Meet
DESCRIPTION:First Post: 5:55 p.m. ET \nPhoto by Coady Media
URL:https://thepressboxlts.com/event/turfway-park-winter-spring-meet-129/
LOCATION:Turfway Park\, Florence\, KY\, United States
ATTACH;FMTTYPE=image/jpeg:https://thepressboxlts.com/wp-content/uploads/2026/01/STREET-BEAST-The-Leonatus-Stakes-01-17-26-R08-Turfway-Park-Finish-03-Renee-Torbit-scaled.jpg
END:VEVENT
BEGIN:VEVENT
DTSTART;TZID=America/Kentucky/Louisville:20260129T123000
DTEND;TZID=America/Kentucky/Louisville:20260129T183000
DTSTAMP:20260419T194245
CREATED:20260125T190233Z
LAST-MODIFIED:20260125T190233Z
UID:77439-1769689800-1769711400@thepressboxlts.com
SUMMARY:Fair Grounds Winter / Spring Meet
DESCRIPTION:First Post: 12:45 p.m. CT \nPhoto by Hughes Photography & Courtesy of the Fair Grounds
URL:https://thepressboxlts.com/event/fair-grounds-winter-spring-meet-108/
LOCATION:Fair Grounds\, New Orleans\, LA\, United States
ATTACH;FMTTYPE=image/png:https://thepressboxlts.com/wp-content/uploads/2025/12/fairgrounds-racing-homepage-1.png
END:VEVENT
BEGIN:VEVENT
DTSTART;TZID=America/Kentucky/Louisville:20260128T173000
DTEND;TZID=America/Kentucky/Louisville:20260128T223000
DTSTAMP:20260419T194245
CREATED:20260125T185654Z
LAST-MODIFIED:20260125T185654Z
UID:77431-1769621400-1769639400@thepressboxlts.com
SUMMARY:Turfway Park Winter / Spring Meet
DESCRIPTION:First Post: 5:55 p.m. ET \nPhoto by Coady Media
URL:https://thepressboxlts.com/event/turfway-park-winter-spring-meet-128/
LOCATION:Turfway Park\, Florence\, KY\, United States
ATTACH;FMTTYPE=image/jpeg:https://thepressboxlts.com/wp-content/uploads/2026/01/STREET-BEAST-The-Leonatus-Stakes-01-17-26-R08-Turfway-Park-Come-Back-03-Renee-Torbit-scaled.jpg
END:VEVENT
BEGIN:VEVENT
DTSTART;TZID=America/Kentucky/Louisville:20260125T123000
DTEND;TZID=America/Kentucky/Louisville:20260125T190000
DTSTAMP:20260419T194245
CREATED:20260118T152715Z
LAST-MODIFIED:20260118T152715Z
UID:77373-1769344200-1769367600@thepressboxlts.com
SUMMARY:Fair Grounds Winter / Spring Meet
DESCRIPTION:First Post: 12:45 p.m. CT \nPhoto by Hughes Photography & Courtesy of the Fair Grounds
URL:https://thepressboxlts.com/event/fair-grounds-winter-spring-meet-107/
LOCATION:Fair Grounds\, New Orleans\, LA\, United States
ATTACH;FMTTYPE=image/jpeg:https://thepressboxlts.com/wp-content/uploads/2026/01/Kupuna_F_1-17-26-scaled.jpg
END:VEVENT
BEGIN:VEVENT
DTSTART;TZID=America/Kentucky/Louisville:20260124T173000
DTEND;TZID=America/Kentucky/Louisville:20260124T223000
DTSTAMP:20260419T194245
CREATED:20260118T151523Z
LAST-MODIFIED:20260118T151523Z
UID:77361-1769275800-1769293800@thepressboxlts.com
SUMMARY:Turfway Park Winter / Spring Meet
DESCRIPTION:First Post: 5:55 p.m. ET \nPhoto by Coady Media
URL:https://thepressboxlts.com/event/turfway-park-winter-spring-meet-127/
LOCATION:Turfway Park\, Florence\, KY\, United States
ATTACH;FMTTYPE=image/jpeg:https://thepressboxlts.com/wp-content/uploads/2026/01/STREET-BEAST-The-Leonatus-Stakes-01-17-26-R08-Turfway-Park-Celebration-01-Renee-Torbit-scaled.jpg
END:VEVENT
BEGIN:VEVENT
DTSTART;TZID=America/Kentucky/Louisville:20260124T123000
DTEND;TZID=America/Kentucky/Louisville:20260124T190000
DTSTAMP:20260419T194245
CREATED:20260118T152604Z
LAST-MODIFIED:20260118T152604Z
UID:77371-1769257800-1769281200@thepressboxlts.com
SUMMARY:Fair Grounds Winter / Spring Meet
DESCRIPTION:First Post: 12:45 p.m. CT \nPhoto by Hughes Photography & Courtesy of the Fair Grounds
URL:https://thepressboxlts.com/event/fair-grounds-winter-spring-meet-106/
LOCATION:Fair Grounds\, New Orleans\, LA\, United States
ATTACH;FMTTYPE=image/jpeg:https://thepressboxlts.com/wp-content/uploads/2026/01/Taken-By-The-Wind-F_1-17-26-scaled.jpg
END:VEVENT
BEGIN:VEVENT
DTSTART;TZID=America/Kentucky/Louisville:20260123T173000
DTEND;TZID=America/Kentucky/Louisville:20260123T223000
DTSTAMP:20260419T194245
CREATED:20260118T151417Z
LAST-MODIFIED:20260118T151417Z
UID:77359-1769189400-1769207400@thepressboxlts.com
SUMMARY:Turfway Park Winter / Spring Meet
DESCRIPTION:First Post: 5:55 p.m. ET \nPhoto by Coady Media
URL:https://thepressboxlts.com/event/turfway-park-winter-spring-meet-126/
LOCATION:Turfway Park\, Florence\, KY\, United States
ATTACH;FMTTYPE=image/jpeg:https://thepressboxlts.com/wp-content/uploads/2026/01/STREET-BEAST-The-Leonatus-Stakes-01-17-26-R08-Turfway-Park-Come-Back-03-Renee-Torbit-scaled.jpg
END:VEVENT
BEGIN:VEVENT
DTSTART;TZID=America/Kentucky/Louisville:20260123T123000
DTEND;TZID=America/Kentucky/Louisville:20260123T190000
DTSTAMP:20260419T194245
CREATED:20260118T152455Z
LAST-MODIFIED:20260118T152455Z
UID:77369-1769171400-1769194800@thepressboxlts.com
SUMMARY:Fair Grounds Winter / Spring Meet
DESCRIPTION:First Post: 12:45 p.m. CT \nPhoto by Hughes Photography & Courtesy of the Fair Grounds
URL:https://thepressboxlts.com/event/fair-grounds-winter-spring-meet-105/
LOCATION:Fair Grounds\, New Orleans\, LA\, United States
ATTACH;FMTTYPE=image/jpeg:https://thepressboxlts.com/wp-content/uploads/2026/01/Golden-Tempo-IR_1-17-26-1-scaled.jpg
END:VEVENT
BEGIN:VEVENT
DTSTART;TZID=America/Kentucky/Louisville:20260122T173000
DTEND;TZID=America/Kentucky/Louisville:20260122T223000
DTSTAMP:20260419T194245
CREATED:20260118T151317Z
LAST-MODIFIED:20260118T151317Z
UID:77357-1769103000-1769121000@thepressboxlts.com
SUMMARY:Turfway Park Winter / Spring Meet
DESCRIPTION:First Post: 5:55 p.m. ET \nPhoto by Coady Media
URL:https://thepressboxlts.com/event/turfway-park-winter-spring-meet-125/
LOCATION:Turfway Park\, Florence\, KY\, United States
ATTACH;FMTTYPE=image/jpeg:https://thepressboxlts.com/wp-content/uploads/2026/01/STREET-BEAST-The-Leonatus-Stakes-01-17-26-R08-Turfway-Park-Come-Back-02-Renee-Torbit-scaled.jpg
END:VEVENT
BEGIN:VEVENT
DTSTART;TZID=America/Kentucky/Louisville:20260122T123000
DTEND;TZID=America/Kentucky/Louisville:20260122T190000
DTSTAMP:20260419T194245
CREATED:20260118T152343Z
LAST-MODIFIED:20260118T152343Z
UID:77367-1769085000-1769108400@thepressboxlts.com
SUMMARY:Fair Grounds Winter / Spring Meet
DESCRIPTION:First Post: 12:45 p.m. CT \nPhoto by Hughes Photography & Courtesy of the Fair Grounds
URL:https://thepressboxlts.com/event/fair-grounds-winter-spring-meet-104/
LOCATION:Fair Grounds\, New Orleans\, LA\, United States
ATTACH;FMTTYPE=image/jpeg:https://thepressboxlts.com/wp-content/uploads/2026/01/Accelerize-UR-1-17-26-scaled.jpg
END:VEVENT
BEGIN:VEVENT
DTSTART;TZID=America/Kentucky/Louisville:20260121T173000
DTEND;TZID=America/Kentucky/Louisville:20260121T223000
DTSTAMP:20260419T194245
CREATED:20260118T151159Z
LAST-MODIFIED:20260118T151159Z
UID:77355-1769016600-1769034600@thepressboxlts.com
SUMMARY:Turfway Park Winter / Spring Meet
DESCRIPTION:First Post: 5: 55 p.m. ET \nPhoto by Coady Media
URL:https://thepressboxlts.com/event/turfway-park-winter-spring-meet-124/
LOCATION:Turfway Park\, Florence\, KY\, United States
ATTACH;FMTTYPE=image/jpeg:https://thepressboxlts.com/wp-content/uploads/2026/01/STREET-BEAST-The-Leonatus-Stakes-01-17-26-R08-Turfway-Park-Paddock-02-Renee-Torbit-scaled.jpg
END:VEVENT
BEGIN:VEVENT
DTSTART;TZID=America/Kentucky/Louisville:20260119T123000
DTEND;TZID=America/Kentucky/Louisville:20260119T190000
DTSTAMP:20260419T194245
CREATED:20260112T163338Z
LAST-MODIFIED:20260112T163338Z
UID:77283-1768825800-1768849200@thepressboxlts.com
SUMMARY:Fair Grounds Winter / Spring Meet
DESCRIPTION:First Post: 12:45 p.m. CT \nPhoto by Hughes Photography & Courtesy of the Fair Grounds
URL:https://thepressboxlts.com/event/fair-grounds-winter-spring-meet-103/
LOCATION:Fair Grounds\, New Orleans\, LA\, United States
ATTACH;FMTTYPE=image/png:https://thepressboxlts.com/wp-content/uploads/2025/12/fairgrounds-racing-homepage-1.png
END:VEVENT
BEGIN:VEVENT
DTSTART;TZID=America/Kentucky/Louisville:20260118T123000
DTEND;TZID=America/Kentucky/Louisville:20260118T183000
DTSTAMP:20260419T194245
CREATED:20260112T163220Z
LAST-MODIFIED:20260112T163220Z
UID:77281-1768739400-1768761000@thepressboxlts.com
SUMMARY:Fair Grounds Winter / Spring Meet
DESCRIPTION:First Post: 12:45 p.m. CT \nPhoto by Hughes Photography & Courtesy of the Fair Grounds \n 
URL:https://thepressboxlts.com/event/fair-grounds-winter-spring-meet-102/
LOCATION:Fair Grounds\, New Orleans\, LA\, United States
ATTACH;FMTTYPE=image/jpeg:https://thepressboxlts.com/wp-content/uploads/2024/03/Behemah-Star_12-9-2023-f-sm-2.jpg
END:VEVENT
BEGIN:VEVENT
DTSTART;TZID=America/Kentucky/Louisville:20260117T173000
DTEND;TZID=America/Kentucky/Louisville:20260117T223000
DTSTAMP:20260419T194245
CREATED:20260112T145253Z
LAST-MODIFIED:20260112T145253Z
UID:77273-1768671000-1768689000@thepressboxlts.com
SUMMARY:Turfway Park Winter / Spring Meet
DESCRIPTION:First Post: 5:55 p.m. ET \nPhoto by Coady Media
URL:https://thepressboxlts.com/event/turfway-park-winter-spring-meet-123/
LOCATION:Turfway Park\, Florence\, KY\, United States
ATTACH;FMTTYPE=image/jpeg:https://thepressboxlts.com/wp-content/uploads/2026/01/LITERATE-The-Likely-Exchange-28th-Running-01-10-26-R08-Turfway-Park-Up-the-Track-01-scaled.jpg
END:VEVENT
BEGIN:VEVENT
DTSTART;TZID=America/Kentucky/Louisville:20260117T120000
DTEND;TZID=America/Kentucky/Louisville:20260117T190000
DTSTAMP:20260419T194245
CREATED:20260112T145746Z
LAST-MODIFIED:20260112T145746Z
UID:77279-1768651200-1768676400@thepressboxlts.com
SUMMARY:Fair Grounds Winter / Spring Meet
DESCRIPTION:First Post: Special Time of 12 Noon \nPhoto by Hughes Photography & Courtesy of the Fair Grounds
URL:https://thepressboxlts.com/event/fair-grounds-winter-spring-meet-101/
LOCATION:Fair Grounds\, New Orleans\, LA\, United States
ATTACH;FMTTYPE=image/png:https://thepressboxlts.com/wp-content/uploads/2025/12/fairgrounds-racing-homepage-1.png
END:VEVENT
BEGIN:VEVENT
DTSTART;TZID=America/Kentucky/Louisville:20260116T173000
DTEND;TZID=America/Kentucky/Louisville:20260116T223000
DTSTAMP:20260419T194245
CREATED:20260112T145147Z
LAST-MODIFIED:20260112T145147Z
UID:77271-1768584600-1768602600@thepressboxlts.com
SUMMARY:Turfway Park Winter / Spring Meet
DESCRIPTION:First Post: 5:55 p.m. ET \nPhoto by Coady Media
URL:https://thepressboxlts.com/event/turfway-park-winter-spring-meet-122/
LOCATION:Turfway Park\, Florence\, KY\, United States
ATTACH;FMTTYPE=image/jpeg:https://thepressboxlts.com/wp-content/uploads/2026/01/LITERATE-The-Likely-Exchange-28th-Running-01-10-26-R08-Turfway-Park-Presentation-01-scaled.jpg
END:VEVENT
BEGIN:VEVENT
DTSTART;TZID=America/Kentucky/Louisville:20260116T123000
DTEND;TZID=America/Kentucky/Louisville:20260116T183000
DTSTAMP:20260419T194245
CREATED:20260112T145637Z
LAST-MODIFIED:20260112T145637Z
UID:77277-1768566600-1768588200@thepressboxlts.com
SUMMARY:Fair Grounds Winter / Spring Meet
DESCRIPTION:First Post: 12:45 p.m. CT \nPhoto by Hughes Photography & Courtesy of the Fair Grounds
URL:https://thepressboxlts.com/event/fair-grounds-winter-spring-meet-100/
LOCATION:Fair Grounds\, New Orleans\, LA\, United States
ATTACH;FMTTYPE=image/jpeg:https://thepressboxlts.com/wp-content/uploads/2024/03/Behemah-Star_12-9-2023-f-sm-2.jpg
END:VEVENT
BEGIN:VEVENT
DTSTART;TZID=America/Kentucky/Louisville:20260115T173000
DTEND;TZID=America/Kentucky/Louisville:20260115T223000
DTSTAMP:20260419T194245
CREATED:20260112T145032Z
LAST-MODIFIED:20260112T145032Z
UID:77269-1768498200-1768516200@thepressboxlts.com
SUMMARY:Turfway Park Winter / Spring Meet
DESCRIPTION:First Post: 5:55 p.m. ET \nPhoto by Coady Media
URL:https://thepressboxlts.com/event/turfway-park-winter-spring-meet-121/
LOCATION:Turfway Park\, Florence\, KY\, United States
ATTACH;FMTTYPE=image/jpeg:https://thepressboxlts.com/wp-content/uploads/2026/01/LITERATE-The-Likely-Exchange-28th-Running-01-10-26-R08-Turfway-Park-Paddock-01-scaled.jpg
END:VEVENT
BEGIN:VEVENT
DTSTART;TZID=America/Kentucky/Louisville:20260115T123000
DTEND;TZID=America/Kentucky/Louisville:20260115T193000
DTSTAMP:20260419T194245
CREATED:20260112T145526Z
LAST-MODIFIED:20260112T145526Z
UID:77275-1768480200-1768505400@thepressboxlts.com
SUMMARY:Fair Grounds Winter / Spring Meet
DESCRIPTION:First Post: 12:45 p.m. CT \nPhoto by Hughes Photography & Courtesy of the Fair Grounds
URL:https://thepressboxlts.com/event/fair-grounds-winter-spring-meet-99/
LOCATION:Fair Grounds\, New Orleans\, LA\, United States
ATTACH;FMTTYPE=image/jpeg:https://thepressboxlts.com/wp-content/uploads/2025/12/FGNO-41529-WebGraphicResizes_1120x610_6-2.jpg
END:VEVENT
BEGIN:VEVENT
DTSTART;TZID=America/Kentucky/Louisville:20260114T173000
DTEND;TZID=America/Kentucky/Louisville:20260114T223000
DTSTAMP:20260419T194245
CREATED:20260112T144915Z
LAST-MODIFIED:20260112T144915Z
UID:77267-1768411800-1768429800@thepressboxlts.com
SUMMARY:Turfway Park Winter / Spring Meet
DESCRIPTION:First Post: 5:55 p.m. ET \nPhoto by Coady Media
URL:https://thepressboxlts.com/event/turfway-park-winter-spring-meet-120/
LOCATION:Turfway Park\, Florence\, KY\, United States
ATTACH;FMTTYPE=image/jpeg:https://thepressboxlts.com/wp-content/uploads/2026/01/LITERATE-The-Likely-Exchange-28th-Running-01-10-26-R08-Turfway-Park-Paddock-02-scaled.jpg
END:VEVENT
BEGIN:VEVENT
DTSTART;TZID=America/Kentucky/Louisville:20260111T123000
DTEND;TZID=America/Kentucky/Louisville:20260111T190000
DTSTAMP:20260419T194245
CREATED:20260106T001729Z
LAST-MODIFIED:20260106T001729Z
UID:77129-1768134600-1768158000@thepressboxlts.com
SUMMARY:Fair Grounds Winter / Spring Meet
DESCRIPTION:First Post: 12:45 p.m. CT \nPhoto by Hughes Photography & Courtesy of the Fair Grounds
URL:https://thepressboxlts.com/event/fair-grounds-winter-spring-meet-98/
LOCATION:Fair Grounds\, New Orleans\, LA\, United States
ATTACH;FMTTYPE=image/jpeg:https://thepressboxlts.com/wp-content/uploads/2025/12/FGNO-41529-WebGraphicResizes_1120x610_6-2.jpg
END:VEVENT
END:VCALENDAR