BEGIN:VCALENDAR
VERSION:2.0
PRODID:-//The Pressbox - ECPv6.15.19//NONSGML v1.0//EN
CALSCALE:GREGORIAN
METHOD:PUBLISH
X-WR-CALNAME:The Pressbox
X-ORIGINAL-URL:https://thepressboxlts.com
X-WR-CALDESC:Events for The Pressbox
REFRESH-INTERVAL;VALUE=DURATION:PT1H
X-Robots-Tag:noindex
X-PUBLISHED-TTL:PT1H
BEGIN:VTIMEZONE
TZID:America/Kentucky/Louisville
BEGIN:DAYLIGHT
TZOFFSETFROM:-0500
TZOFFSETTO:-0400
TZNAME:EDT
DTSTART:20240310T070000
END:DAYLIGHT
BEGIN:STANDARD
TZOFFSETFROM:-0400
TZOFFSETTO:-0500
TZNAME:EST
DTSTART:20241103T060000
END:STANDARD
BEGIN:DAYLIGHT
TZOFFSETFROM:-0500
TZOFFSETTO:-0400
TZNAME:EDT
DTSTART:20250309T070000
END:DAYLIGHT
BEGIN:STANDARD
TZOFFSETFROM:-0400
TZOFFSETTO:-0500
TZNAME:EST
DTSTART:20251102T060000
END:STANDARD
BEGIN:DAYLIGHT
TZOFFSETFROM:-0500
TZOFFSETTO:-0400
TZNAME:EDT
DTSTART:20260308T070000
END:DAYLIGHT
BEGIN:STANDARD
TZOFFSETFROM:-0400
TZOFFSETTO:-0500
TZNAME:EST
DTSTART:20261101T060000
END:STANDARD
END:VTIMEZONE
BEGIN:VEVENT
DTSTART;TZID=America/Kentucky/Louisville:20250319T123000
DTEND;TZID=America/Kentucky/Louisville:20250319T190000
DTSTAMP:20260420T213613
CREATED:20250318T163014Z
LAST-MODIFIED:20250318T163014Z
UID:70219-1742387400-1742410800@thepressboxlts.com
SUMMARY:Fair Grounds Spring Meet
DESCRIPTION:First Post: 12:45 p.m. CT \nPhoto by Holly M. Smith
URL:https://thepressboxlts.com/event/fair-grounds-spring-meet/
LOCATION:Fair Grounds\, New Orleans\, LA\, United States
END:VEVENT
BEGIN:VEVENT
DTSTART;TZID=America/Kentucky/Louisville:20250316T123000
DTEND;TZID=America/Kentucky/Louisville:20250316T193000
DTSTAMP:20260420T213613
CREATED:20250311T154825Z
LAST-MODIFIED:20250311T154825Z
UID:70059-1742128200-1742153400@thepressboxlts.com
SUMMARY:Fair Grounds Winter / Spring Meet
DESCRIPTION:First Post: 12:45 p.m. CT \n 
URL:https://thepressboxlts.com/event/fair-grounds-winter-spring-meet-90/
LOCATION:Fair Grounds\, New Orleans\, LA\, United States
END:VEVENT
BEGIN:VEVENT
DTSTART;TZID=America/Kentucky/Louisville:20250315T173000
DTEND;TZID=America/Kentucky/Louisville:20250315T223000
DTSTAMP:20260420T213613
CREATED:20250311T153324Z
LAST-MODIFIED:20250311T153324Z
UID:70049-1742059800-1742077800@thepressboxlts.com
SUMMARY:Turfway Park Winter / Spring Meet
DESCRIPTION:First Post: 5:55 p.m. ET \n 
URL:https://thepressboxlts.com/event/turfway-park-winter-spring-meet-115/
LOCATION:Turfway Park\, Florence\, KY\, United States
ATTACH;FMTTYPE=image/jpeg:https://thepressboxlts.com/wp-content/uploads/2025/03/Jeff-Ruby-Steaks-2025.jpg
END:VEVENT
BEGIN:VEVENT
DTSTART;TZID=America/Kentucky/Louisville:20250315T123000
DTEND;TZID=America/Kentucky/Louisville:20250315T193000
DTSTAMP:20260420T213613
CREATED:20250311T154725Z
LAST-MODIFIED:20250311T154725Z
UID:70057-1742041800-1742067000@thepressboxlts.com
SUMMARY:Fair Grounds Winter / Spring Meet
DESCRIPTION:First Post: 12:45 p.m. CT \nPhoto by Holly M. Smith
URL:https://thepressboxlts.com/event/fair-grounds-winter-spring-meet-89/
LOCATION:Fair Grounds\, New Orleans\, LA\, United States
END:VEVENT
BEGIN:VEVENT
DTSTART;TZID=America/Kentucky/Louisville:20250315T123000
DTEND;TZID=America/Kentucky/Louisville:20250315T190000
DTSTAMP:20260420T213613
CREATED:20250311T155649Z
LAST-MODIFIED:20250311T155649Z
UID:70066-1742041800-1742065200@thepressboxlts.com
SUMMARY:Colonial Downs Spring Meet
DESCRIPTION:First Post: 12:30 p.m. ET \nPhoto by Coady Media
URL:https://thepressboxlts.com/event/colonial-downs-spring-meet-3/
LOCATION:Colonial Downs
ATTACH;FMTTYPE=image/jpeg:https://thepressboxlts.com/wp-content/uploads/2024/08/TRIKARI-The-Secretariat-08-11-24-R09-Colonial-Downs-Start-02-Renee-Torbit-scaled.jpg
END:VEVENT
BEGIN:VEVENT
DTSTART;TZID=America/Kentucky/Louisville:20250314T173000
DTEND;TZID=America/Kentucky/Louisville:20250314T223000
DTSTAMP:20260420T213613
CREATED:20250311T153017Z
LAST-MODIFIED:20250311T153017Z
UID:70047-1741973400-1741991400@thepressboxlts.com
SUMMARY:Turfway Park Winter / Spring Meet
DESCRIPTION:First Post: 5:55 p.m. ET \nPhoto by Coady Media
URL:https://thepressboxlts.com/event/turfway-park-winter-spring-meet-114/
LOCATION:Turfway Park\, Florence\, KY\, United States
ATTACH;FMTTYPE=image/jpeg:https://thepressboxlts.com/wp-content/uploads/2024/04/ENDLESSLY-Jeff-Ruby-Steaks-G3-53rd-Running-03-23-24-R12-Turfway-Park-Start-01-Kurtis-Coady-scaled.jpg
END:VEVENT
BEGIN:VEVENT
DTSTART;TZID=America/Kentucky/Louisville:20250314T123000
DTEND;TZID=America/Kentucky/Louisville:20250314T193000
DTSTAMP:20260420T213613
CREATED:20250311T154551Z
LAST-MODIFIED:20250311T154551Z
UID:70055-1741955400-1741980600@thepressboxlts.com
SUMMARY:Fair Grounds Winter / Spring Meet
DESCRIPTION:First Post: 12:45 p.m. CT \nPhoto by Holly M. Smith
URL:https://thepressboxlts.com/event/fair-grounds-winter-spring-meet-88/
LOCATION:Fair Grounds\, New Orleans\, LA\, United States
END:VEVENT
BEGIN:VEVENT
DTSTART;TZID=America/Kentucky/Louisville:20250314T123000
DTEND;TZID=America/Kentucky/Louisville:20250314T190000
DTSTAMP:20260420T213613
CREATED:20250311T155515Z
LAST-MODIFIED:20250311T155515Z
UID:70064-1741955400-1741978800@thepressboxlts.com
SUMMARY:Colonial Downs Spring Meet
DESCRIPTION:First Post: 12:30 p.m. ET \nPhoto by Coady Media
URL:https://thepressboxlts.com/event/colonial-downs-spring-meet-2/
LOCATION:Colonial Downs
ATTACH;FMTTYPE=image/jpeg:https://thepressboxlts.com/wp-content/uploads/2024/08/MOIRA-The-Bevely-D-08-11-24-R10-Colonial-Downs-Start-01-Nick-Phillips-scaled.jpg
END:VEVENT
BEGIN:VEVENT
DTSTART;TZID=America/Kentucky/Louisville:20250313T173000
DTEND;TZID=America/Kentucky/Louisville:20250313T223000
DTSTAMP:20260420T213613
CREATED:20250311T152748Z
LAST-MODIFIED:20250311T152748Z
UID:70045-1741887000-1741905000@thepressboxlts.com
SUMMARY:Turfway Park Winter / Spring Meet
DESCRIPTION:First Post: 5:55 p.m. ET \nPhoto by Coady Media \n 
URL:https://thepressboxlts.com/event/turfway-park-winter-spring-meet-113/
LOCATION:Turfway Park\, Florence\, KY\, United States
ATTACH;FMTTYPE=image/jpeg:https://thepressboxlts.com/wp-content/uploads/2024/03/Endlessly-Paddock-Schooling-TP-032224-04-scaled.jpg
END:VEVENT
BEGIN:VEVENT
DTSTART;TZID=America/Kentucky/Louisville:20250313T123000
DTEND;TZID=America/Kentucky/Louisville:20250313T193000
DTSTAMP:20260420T213613
CREATED:20250311T154442Z
LAST-MODIFIED:20250311T154442Z
UID:70053-1741869000-1741894200@thepressboxlts.com
SUMMARY:Fair Grounds Winter / Spring Meet
DESCRIPTION:First Post: 12:45 p.m. CT \nPhoto by Holly M. Smith
URL:https://thepressboxlts.com/event/fair-grounds-winter-spring-meet-87/
LOCATION:Fair Grounds\, New Orleans\, LA\, United States
END:VEVENT
BEGIN:VEVENT
DTSTART;TZID=America/Kentucky/Louisville:20250313T123000
DTEND;TZID=America/Kentucky/Louisville:20250313T190000
DTSTAMP:20260420T213613
CREATED:20250311T155300Z
LAST-MODIFIED:20250311T155300Z
UID:70061-1741869000-1741892400@thepressboxlts.com
SUMMARY:Colonial Downs Spring Meet
DESCRIPTION:First Post: 12:30 p.m. ET \n 
URL:https://thepressboxlts.com/event/colonial-downs-spring-meet/
LOCATION:Colonial Downs
ATTACH;FMTTYPE=image/jpeg:https://thepressboxlts.com/wp-content/uploads/2025/03/CDR_74588_RacingMarchMeetTOS_6_SOC_06_744-x-655.jpg
END:VEVENT
BEGIN:VEVENT
DTSTART;TZID=America/Kentucky/Louisville:20250312T173000
DTEND;TZID=America/Kentucky/Louisville:20250312T223000
DTSTAMP:20260420T213613
CREATED:20250311T152458Z
LAST-MODIFIED:20250311T152458Z
UID:70043-1741800600-1741818600@thepressboxlts.com
SUMMARY:Turfway Park Winter / Spring Meet
DESCRIPTION:First Post: 5:50 p.m. ET \nPhoto by Coady Media
URL:https://thepressboxlts.com/event/turfway-park-winter-spring-meet-112/
LOCATION:Turfway Park\, Florence\, KY\, United States
ATTACH;FMTTYPE=image/jpeg:https://thepressboxlts.com/wp-content/uploads/2024/10/Scenics-TP-120123-06-1-scaled.jpg
END:VEVENT
BEGIN:VEVENT
DTSTART;TZID=America/Kentucky/Louisville:20250312T123000
DTEND;TZID=America/Kentucky/Louisville:20250312T193000
DTSTAMP:20260420T213613
CREATED:20250311T154330Z
LAST-MODIFIED:20250311T154330Z
UID:70051-1741782600-1741807800@thepressboxlts.com
SUMMARY:Fair Grounds Winter / Spring Meet
DESCRIPTION:First Post: 12:45 p.m. CT \nPhoto by Holly M. Smith
URL:https://thepressboxlts.com/event/fair-grounds-winter-spring-meet-86/
LOCATION:Fair Grounds\, New Orleans\, LA\, United States
END:VEVENT
BEGIN:VEVENT
DTSTART;TZID=America/Kentucky/Louisville:20250309T123000
DTEND;TZID=America/Kentucky/Louisville:20250309T190000
DTSTAMP:20260420T213613
CREATED:20250302T195043Z
LAST-MODIFIED:20250302T195043Z
UID:69868-1741523400-1741546800@thepressboxlts.com
SUMMARY:Fair Grounds Winter Meet
DESCRIPTION:First Post: 12:45 p.m. CT \nPhoto by Holly M. Smith
URL:https://thepressboxlts.com/event/fair-grounds-winter-meet-39/
LOCATION:Fair Grounds\, New Orleans\, LA\, United States
END:VEVENT
BEGIN:VEVENT
DTSTART;TZID=America/Kentucky/Louisville:20250308T173000
DTEND;TZID=America/Kentucky/Louisville:20250308T223000
DTSTAMP:20260420T213613
CREATED:20250302T194510Z
LAST-MODIFIED:20250302T194510Z
UID:69860-1741455000-1741473000@thepressboxlts.com
SUMMARY:Turfway Park Winter Meet
DESCRIPTION:First Post: 5:55 p.m. ET \n 
URL:https://thepressboxlts.com/event/turfway-park-winter-meet-20/
LOCATION:Turfway Park\, Florence\, KY\, United States
END:VEVENT
BEGIN:VEVENT
DTSTART;TZID=America/Kentucky/Louisville:20250308T123000
DTEND;TZID=America/Kentucky/Louisville:20250308T190000
DTSTAMP:20260420T213613
CREATED:20250302T194929Z
LAST-MODIFIED:20250302T194929Z
UID:69866-1741437000-1741460400@thepressboxlts.com
SUMMARY:Fair Grounds Winter Meet
DESCRIPTION:First Post: 12:45 p.m. CT \nPhoto by Holly M. Smith
URL:https://thepressboxlts.com/event/fair-grounds-winter-meet-38/
LOCATION:Fair Grounds\, New Orleans\, LA\, United States
END:VEVENT
BEGIN:VEVENT
DTSTART;TZID=America/Kentucky/Louisville:20250307T173000
DTEND;TZID=America/Kentucky/Louisville:20250307T220000
DTSTAMP:20260420T213613
CREATED:20250302T194253Z
LAST-MODIFIED:20250302T194253Z
UID:69858-1741368600-1741384800@thepressboxlts.com
SUMMARY:Turfway Park Winter Meet
DESCRIPTION:First Post: 5:55 p.m. ET \nPhoto by Coady Media
URL:https://thepressboxlts.com/event/turfway-park-winter-meet-19/
LOCATION:Turfway Park\, Florence\, KY\, United States
ATTACH;FMTTYPE=image/jpeg:https://thepressboxlts.com/wp-content/uploads/2024/04/ENDLESSLY-Jeff-Ruby-Steaks-G3-53rd-Running-03-23-24-R12-Turfway-Park-Start-01-Kurtis-Coady-scaled.jpg
END:VEVENT
BEGIN:VEVENT
DTSTART;TZID=America/Kentucky/Louisville:20250307T123000
DTEND;TZID=America/Kentucky/Louisville:20250307T190000
DTSTAMP:20260420T213613
CREATED:20250302T194824Z
LAST-MODIFIED:20250302T194824Z
UID:69864-1741350600-1741374000@thepressboxlts.com
SUMMARY:Fair Grounds Winter Meet
DESCRIPTION:First Post: 12:45 p.m. CT \nPhoto by Holly M. Smith
URL:https://thepressboxlts.com/event/fair-grounds-winter-meet-37/
LOCATION:Fair Grounds\, New Orleans\, LA\, United States
END:VEVENT
BEGIN:VEVENT
DTSTART;TZID=America/Kentucky/Louisville:20250306T173000
DTEND;TZID=America/Kentucky/Louisville:20250306T223000
DTSTAMP:20260420T213613
CREATED:20250302T194137Z
LAST-MODIFIED:20250302T194137Z
UID:69856-1741282200-1741300200@thepressboxlts.com
SUMMARY:Turfway Park Winter Meet
DESCRIPTION:First Post: 5:55 p.m. ET \nPhoto by Coady Media
URL:https://thepressboxlts.com/event/turfway-park-winter-meet-18/
LOCATION:Turfway Park\, Florence\, KY\, United States
ATTACH;FMTTYPE=image/jpeg:https://thepressboxlts.com/wp-content/uploads/2024/03/Endlessly-Paddock-Schooling-TP-032224-04-scaled.jpg
END:VEVENT
BEGIN:VEVENT
DTSTART;TZID=America/Kentucky/Louisville:20250306T123000
DTEND;TZID=America/Kentucky/Louisville:20250306T190000
DTSTAMP:20260420T213613
CREATED:20250302T194713Z
LAST-MODIFIED:20250302T194713Z
UID:69862-1741264200-1741287600@thepressboxlts.com
SUMMARY:Fair Grounds Winter Meet
DESCRIPTION:First Post: 12:45 p.m. CT \nPhoto by Holly M. Smith
URL:https://thepressboxlts.com/event/fair-grounds-winter-meet-36/
LOCATION:Fair Grounds\, New Orleans\, LA\, United States
END:VEVENT
BEGIN:VEVENT
DTSTART;TZID=America/Kentucky/Louisville:20250305T173000
DTEND;TZID=America/Kentucky/Louisville:20250305T223000
DTSTAMP:20260420T213613
CREATED:20250302T194018Z
LAST-MODIFIED:20250302T194018Z
UID:69854-1741195800-1741213800@thepressboxlts.com
SUMMARY:Turfway Park Winter Meet
DESCRIPTION:First Post: 5:55 p.m. ET \nPhoto by Coady Media
URL:https://thepressboxlts.com/event/turfway-park-winter-meet-17/
LOCATION:Turfway Park\, Florence\, KY\, United States
ATTACH;FMTTYPE=image/jpeg:https://thepressboxlts.com/wp-content/uploads/2024/10/Scenics-TP-120123-06-1-scaled.jpg
END:VEVENT
BEGIN:VEVENT
DTSTART;TZID=America/Kentucky/Louisville:20250304T123000
DTEND;TZID=America/Kentucky/Louisville:20250304T183000
DTSTAMP:20260420T213613
CREATED:20250224T204411Z
LAST-MODIFIED:20250224T204411Z
UID:69769-1741091400-1741113000@thepressboxlts.com
SUMMARY:Fair Grounds Winter Meet
DESCRIPTION:First Post: 12:45 p.m. CT \nPhoto by Holly M. Smith
URL:https://thepressboxlts.com/event/fair-grounds-winter-meet-35/
LOCATION:Fair Grounds\, New Orleans\, LA\, United States
END:VEVENT
BEGIN:VEVENT
DTSTART;TZID=America/Kentucky/Louisville:20250303T123000
DTEND;TZID=America/Kentucky/Louisville:20250303T183000
DTSTAMP:20260420T213613
CREATED:20250224T204224Z
LAST-MODIFIED:20250224T204224Z
UID:69767-1741005000-1741026600@thepressboxlts.com
SUMMARY:Fair Grounds Winter Meet
DESCRIPTION:First Post: 12:45 p.m. CT \nPhoto by Holly M. Smith
URL:https://thepressboxlts.com/event/fair-grounds-winter-meet-34/
LOCATION:Fair Grounds\, New Orleans\, LA\, United States
END:VEVENT
BEGIN:VEVENT
DTSTART;TZID=America/Kentucky/Louisville:20250301T173000
DTEND;TZID=America/Kentucky/Louisville:20250301T223000
DTSTAMP:20260420T213613
CREATED:20250224T203022Z
LAST-MODIFIED:20250224T203022Z
UID:69759-1740850200-1740868200@thepressboxlts.com
SUMMARY:Turfway Park Winter Meet
DESCRIPTION:First Post: 5:55 p.m. ET \nPhoto by Coady Media
URL:https://thepressboxlts.com/event/turfway-park-winter-meet-16/
LOCATION:Turfway Park\, Florence\, KY\, United States
ATTACH;FMTTYPE=image/jpeg:https://thepressboxlts.com/wp-content/uploads/2025/02/WHITE-ROCKS-The-43rd-Running-of-THE-CINCINNATI-TROPHY-02-21-25-R07-Turfway-Park-Finish-01-scaled.jpg
END:VEVENT
BEGIN:VEVENT
DTSTART;TZID=America/Kentucky/Louisville:20250301T123000
DTEND;TZID=America/Kentucky/Louisville:20250301T183000
DTSTAMP:20260420T213613
CREATED:20250224T204114Z
LAST-MODIFIED:20250224T204114Z
UID:69765-1740832200-1740853800@thepressboxlts.com
SUMMARY:Fair Grounds Winter Meet
DESCRIPTION:First Post: 12:45 p.m. CT \nPhoto by Holly M. Smith
URL:https://thepressboxlts.com/event/fair-grounds-winter-meet-33/
LOCATION:Fair Grounds\, New Orleans\, LA\, United States
END:VEVENT
BEGIN:VEVENT
DTSTART;TZID=America/Kentucky/Louisville:20250228T173000
DTEND;TZID=America/Kentucky/Louisville:20250228T223000
DTSTAMP:20260420T213613
CREATED:20250224T202900Z
LAST-MODIFIED:20250224T202900Z
UID:69757-1740763800-1740781800@thepressboxlts.com
SUMMARY:Turfway Park Winter Meet
DESCRIPTION:First Post: 5:55 p.m. ET \nPhoto by Coady Media
URL:https://thepressboxlts.com/event/turfway-park-winter-meet-15/
LOCATION:Turfway Park\, Florence\, KY\, United States
ATTACH;FMTTYPE=image/jpeg:https://thepressboxlts.com/wp-content/uploads/2025/02/WHITE-ROCKS-The-43rd-Running-of-THE-CINCINNATI-TROPHY-02-21-25-R07-Turfway-Park-Post-Parade-01-scaled.jpg
END:VEVENT
BEGIN:VEVENT
DTSTART;TZID=America/Kentucky/Louisville:20250228T123000
DTEND;TZID=America/Kentucky/Louisville:20250228T183000
DTSTAMP:20260420T213613
CREATED:20250224T204011Z
LAST-MODIFIED:20250224T204011Z
UID:69763-1740745800-1740767400@thepressboxlts.com
SUMMARY:Fair Grounds Winter Meet
DESCRIPTION:First Post: 12:45 p.m. CT \nPhoto by Holly M. Smith
URL:https://thepressboxlts.com/event/fair-grounds-winter-meet-32/
LOCATION:Fair Grounds\, New Orleans\, LA\, United States
END:VEVENT
BEGIN:VEVENT
DTSTART;TZID=America/Kentucky/Louisville:20250227T173000
DTEND;TZID=America/Kentucky/Louisville:20250227T223000
DTSTAMP:20260420T213613
CREATED:20250224T202724Z
LAST-MODIFIED:20250224T202724Z
UID:69755-1740677400-1740695400@thepressboxlts.com
SUMMARY:Turfway Park Winter Meet
DESCRIPTION:First Post: 5:50 p.m. ET \nPhoto by Coady Media
URL:https://thepressboxlts.com/event/turfway-park-winter-meet-14/
LOCATION:Turfway Park\, Florence\, KY\, United States
ATTACH;FMTTYPE=image/jpeg:https://thepressboxlts.com/wp-content/uploads/2025/02/image003-1-scaled.jpg
END:VEVENT
BEGIN:VEVENT
DTSTART;TZID=America/Kentucky/Louisville:20250227T123000
DTEND;TZID=America/Kentucky/Louisville:20250227T183000
DTSTAMP:20260420T213613
CREATED:20250224T203744Z
LAST-MODIFIED:20250224T203744Z
UID:69761-1740659400-1740681000@thepressboxlts.com
SUMMARY:Fair Grounds Winter Meet
DESCRIPTION:First Post: 12:45 p.m. CT \nPhoto by Holly M. Smith
URL:https://thepressboxlts.com/event/fair-grounds-winter-meet-31/
LOCATION:Fair Grounds\, New Orleans\, LA\, United States
END:VEVENT
BEGIN:VEVENT
DTSTART;TZID=America/Kentucky/Louisville:20250226T173000
DTEND;TZID=America/Kentucky/Louisville:20250226T223000
DTSTAMP:20260420T213613
CREATED:20250224T202528Z
LAST-MODIFIED:20250224T202528Z
UID:69753-1740591000-1740609000@thepressboxlts.com
SUMMARY:Turfway Park Winter Meet
DESCRIPTION:First Post: 5:50 p.m. ET \nPhoto by Coady Media
URL:https://thepressboxlts.com/event/turfway-park-winter-meet-13/
LOCATION:Turfway Park\, Florence\, KY\, United States
ATTACH;FMTTYPE=image/jpeg:https://thepressboxlts.com/wp-content/uploads/2024/04/ENDLESSLY-Jeff-Ruby-Steaks-G3-53rd-Running-03-23-24-R12-Turfway-Park-Start-01-Kurtis-Coady-scaled.jpg
END:VEVENT
END:VCALENDAR