BEGIN:VCALENDAR
VERSION:2.0
PRODID:-//The Pressbox - ECPv6.15.19//NONSGML v1.0//EN
CALSCALE:GREGORIAN
METHOD:PUBLISH
X-WR-CALNAME:The Pressbox
X-ORIGINAL-URL:https://thepressboxlts.com
X-WR-CALDESC:Events for The Pressbox
REFRESH-INTERVAL;VALUE=DURATION:PT1H
X-Robots-Tag:noindex
X-PUBLISHED-TTL:PT1H
BEGIN:VTIMEZONE
TZID:America/Kentucky/Louisville
BEGIN:DAYLIGHT
TZOFFSETFROM:-0500
TZOFFSETTO:-0400
TZNAME:EDT
DTSTART:20230312T070000
END:DAYLIGHT
BEGIN:STANDARD
TZOFFSETFROM:-0400
TZOFFSETTO:-0500
TZNAME:EST
DTSTART:20231105T060000
END:STANDARD
BEGIN:DAYLIGHT
TZOFFSETFROM:-0500
TZOFFSETTO:-0400
TZNAME:EDT
DTSTART:20240310T070000
END:DAYLIGHT
BEGIN:STANDARD
TZOFFSETFROM:-0400
TZOFFSETTO:-0500
TZNAME:EST
DTSTART:20241103T060000
END:STANDARD
BEGIN:DAYLIGHT
TZOFFSETFROM:-0500
TZOFFSETTO:-0400
TZNAME:EDT
DTSTART:20250309T070000
END:DAYLIGHT
BEGIN:STANDARD
TZOFFSETFROM:-0400
TZOFFSETTO:-0500
TZNAME:EST
DTSTART:20251102T060000
END:STANDARD
BEGIN:DAYLIGHT
TZOFFSETFROM:-0500
TZOFFSETTO:-0400
TZNAME:EDT
DTSTART:20260308T070000
END:DAYLIGHT
BEGIN:STANDARD
TZOFFSETFROM:-0400
TZOFFSETTO:-0500
TZNAME:EST
DTSTART:20261101T060000
END:STANDARD
END:VTIMEZONE
BEGIN:VEVENT
DTSTART;TZID=America/Kentucky/Louisville:20250115T173000
DTEND;TZID=America/Kentucky/Louisville:20250115T223000
DTSTAMP:20260421T014238
CREATED:20250113T194556Z
LAST-MODIFIED:20250113T194556Z
UID:69211-1736962200-1736980200@thepressboxlts.com
SUMMARY:Turfway Park Winter Meet
DESCRIPTION:First Post: 5:55 p.m. ET \nPhoto by Coady Media
URL:https://thepressboxlts.com/event/turfway-park-winter-meet/
LOCATION:Turfway Park\, Florence\, KY\, United States
ATTACH;FMTTYPE=image/jpeg:https://thepressboxlts.com/wp-content/uploads/2025/01/GRACE-ON-GRACE-The-31st-Running-Of-THE-GOWELL-STAKES-01-01-25-R06-Turfway-Park-Finish-02-Sammantha-Pagels-scaled.jpg
END:VEVENT
BEGIN:VEVENT
DTSTART;TZID=America/Kentucky/Louisville:20250112T173000
DTEND;TZID=America/Kentucky/Louisville:20250112T223000
DTSTAMP:20260421T014238
CREATED:20250105T235505Z
LAST-MODIFIED:20250105T235505Z
UID:69053-1736703000-1736721000@thepressboxlts.com
SUMMARY:Turfway Park Winter / Spring Meet
DESCRIPTION:First Post: 5:55 p.m. ET \nPhoto by Coady Media
URL:https://thepressboxlts.com/event/turfway-park-winter-spring-meet-107/
LOCATION:Turfway Park\, Florence\, KY\, United States
ATTACH;FMTTYPE=image/jpeg:https://thepressboxlts.com/wp-content/uploads/2024/12/PAROS-The-Prairie-Bayou-29th-Running-12-14-24-R06-Turfway-Park-Finish-02-Sammantha-Pagels-scaled.jpg
END:VEVENT
BEGIN:VEVENT
DTSTART;TZID=America/Kentucky/Louisville:20250112T123000
DTEND;TZID=America/Kentucky/Louisville:20250112T183000
DTSTAMP:20260421T014238
CREATED:20250106T000028Z
LAST-MODIFIED:20250106T000028Z
UID:69061-1736685000-1736706600@thepressboxlts.com
SUMMARY:Fair Grounds Winter / Spring Meet
DESCRIPTION:First Post: 12:45 p.m. CT \nPhoto by Holly M. Smith
URL:https://thepressboxlts.com/event/fair-grounds-winter-spring-meet-82/
LOCATION:Fair Grounds\, New Orleans\, LA\, United States
END:VEVENT
BEGIN:VEVENT
DTSTART;TZID=America/Kentucky/Louisville:20250111T173000
DTEND;TZID=America/Kentucky/Louisville:20250111T223000
DTSTAMP:20260421T014238
CREATED:20250105T235350Z
LAST-MODIFIED:20250105T235350Z
UID:69051-1736616600-1736634600@thepressboxlts.com
SUMMARY:Turfway Park Winter / Spring Meet
DESCRIPTION:First Post: 5:55 p.m. ET \nPhoto by Coady Media
URL:https://thepressboxlts.com/event/turfway-park-winter-spring-meet-106/
LOCATION:Turfway Park\, Florence\, KY\, United States
END:VEVENT
BEGIN:VEVENT
DTSTART;TZID=America/Kentucky/Louisville:20250111T123000
DTEND;TZID=America/Kentucky/Louisville:20250111T183000
DTSTAMP:20260421T014238
CREATED:20250105T235929Z
LAST-MODIFIED:20250105T235929Z
UID:69059-1736598600-1736620200@thepressboxlts.com
SUMMARY:Fair Grounds Winter / Spring Meet
DESCRIPTION:First Post: 12:45 p.m. CT \nPhoto by Holly M. Smith
URL:https://thepressboxlts.com/event/fair-grounds-winter-spring-meet-81/
LOCATION:Fair Grounds\, New Orleans\, LA\, United States
END:VEVENT
BEGIN:VEVENT
DTSTART;TZID=America/Kentucky/Louisville:20250110T173000
DTEND;TZID=America/Kentucky/Louisville:20250110T223000
DTSTAMP:20260421T014238
CREATED:20250105T235218Z
LAST-MODIFIED:20250105T235218Z
UID:69049-1736530200-1736548200@thepressboxlts.com
SUMMARY:Turfway Park Winter / Spring Meet
DESCRIPTION:First Post: 5:55 p.m. ET \nPhoto by Coady Media
URL:https://thepressboxlts.com/event/turfway-park-winter-spring-meet-105/
LOCATION:Turfway Park\, Florence\, KY\, United States
ATTACH;FMTTYPE=image/jpeg:https://thepressboxlts.com/wp-content/uploads/2024/04/ENDLESSLY-Jeff-Ruby-Steaks-G3-53rd-Running-03-23-24-R12-Turfway-Park-Start-01-Kurtis-Coady-scaled.jpg
END:VEVENT
BEGIN:VEVENT
DTSTART;TZID=America/Kentucky/Louisville:20250110T123000
DTEND;TZID=America/Kentucky/Louisville:20250110T183000
DTSTAMP:20260421T014238
CREATED:20250105T235825Z
LAST-MODIFIED:20250105T235825Z
UID:69057-1736512200-1736533800@thepressboxlts.com
SUMMARY:Fair Grounds Winter / Spring Meet
DESCRIPTION:First Post: 12:45 p.m. CT \nPhoto by Holly M. Smith
URL:https://thepressboxlts.com/event/fair-grounds-winter-spring-meet-80/
LOCATION:Fair Grounds\, New Orleans\, LA\, United States
END:VEVENT
BEGIN:VEVENT
DTSTART;TZID=America/Kentucky/Louisville:20250109T173000
DTEND;TZID=America/Kentucky/Louisville:20250109T223000
DTSTAMP:20260421T014238
CREATED:20250105T235109Z
LAST-MODIFIED:20250105T235109Z
UID:69047-1736443800-1736461800@thepressboxlts.com
SUMMARY:Turfway Park Winter / Spring Meet
DESCRIPTION:First Post: 5:55 p.m. ET \nPhoto by Coady Media
URL:https://thepressboxlts.com/event/turfway-park-winter-spring-meet-104/
LOCATION:Turfway Park\, Florence\, KY\, United States
ATTACH;FMTTYPE=image/jpeg:https://thepressboxlts.com/wp-content/uploads/2024/10/Scenics-TP-120123-06-scaled.jpg
END:VEVENT
BEGIN:VEVENT
DTSTART;TZID=America/Kentucky/Louisville:20250109T123000
DTEND;TZID=America/Kentucky/Louisville:20250109T183000
DTSTAMP:20260421T014238
CREATED:20250105T235700Z
LAST-MODIFIED:20250105T235700Z
UID:69055-1736425800-1736447400@thepressboxlts.com
SUMMARY:Fair Grounds Winter / Spring Meet
DESCRIPTION:First Post: 12:45 p.m. CT \nPhoto by Holly M. Smith
URL:https://thepressboxlts.com/event/fair-grounds-winter-spring-meet-79/
LOCATION:Fair Grounds\, New Orleans\, LA\, United States
ATTACH;FMTTYPE=image/jpeg:https://thepressboxlts.com/wp-content/uploads/2024/04/HMS_8626-cowboy-code.-social-affair-scaled.jpg
END:VEVENT
BEGIN:VEVENT
DTSTART;TZID=America/Kentucky/Louisville:20250104T173000
DTEND;TZID=America/Kentucky/Louisville:20250104T223000
DTSTAMP:20260421T014238
CREATED:20250102T200633Z
LAST-MODIFIED:20250102T200633Z
UID:68992-1736011800-1736029800@thepressboxlts.com
SUMMARY:Turfway Park Winter / Spring Meet
DESCRIPTION:First Post: 5:50 p.m. ET \nPhoto by Coady Media
URL:https://thepressboxlts.com/event/turfway-park-winter-spring-meet-103/
LOCATION:Turfway Park\, Florence\, KY\, United States
ATTACH;FMTTYPE=image/jpeg:https://thepressboxlts.com/wp-content/uploads/2024/10/Scenics-TP-120123-06-scaled.jpg
END:VEVENT
BEGIN:VEVENT
DTSTART;TZID=America/Kentucky/Louisville:20250103T173000
DTEND;TZID=America/Kentucky/Louisville:20250103T223000
DTSTAMP:20260421T014238
CREATED:20250102T200459Z
LAST-MODIFIED:20250102T200459Z
UID:68990-1735925400-1735943400@thepressboxlts.com
SUMMARY:Turfway Park Winter / Spring Meet
DESCRIPTION:First Post: 5:50 p.m. ET \nPhoto by Coady Media
URL:https://thepressboxlts.com/event/turfway-park-winter-spring-meet-102/
LOCATION:Turfway Park\, Florence\, KY\, United States
ATTACH;FMTTYPE=image/jpeg:https://thepressboxlts.com/wp-content/uploads/2024/04/ENDLESSLY-Jeff-Ruby-Steaks-G3-53rd-Running-03-23-24-R12-Turfway-Park-Start-01-Kurtis-Coady-scaled.jpg
END:VEVENT
BEGIN:VEVENT
DTSTART;TZID=America/Kentucky/Louisville:20250102T173000
DTEND;TZID=America/Kentucky/Louisville:20250102T223000
DTSTAMP:20260421T014238
CREATED:20250102T200338Z
LAST-MODIFIED:20250102T200338Z
UID:68988-1735839000-1735857000@thepressboxlts.com
SUMMARY:Turfway Park Winter / Spring Meet
DESCRIPTION:First Post: 5:50 p.m. ET \nPhoto by Coady Media
URL:https://thepressboxlts.com/event/turfway-park-winter-spring-meet-101/
LOCATION:Turfway Park\, Florence\, KY\, United States
ATTACH;FMTTYPE=image/jpeg:https://thepressboxlts.com/wp-content/uploads/2024/12/AWESOME-TREAT-The-Holiday-Inaugural-38th-Running-12-14-24-R05-Turfway-Park-Paddock-02-Sammantha-Pagels-scaled.jpg
END:VEVENT
BEGIN:VEVENT
DTSTART;TZID=America/Kentucky/Louisville:20241229T123000
DTEND;TZID=America/Kentucky/Louisville:20241229T183000
DTSTAMP:20260421T014238
CREATED:20241226T174315Z
LAST-MODIFIED:20241226T174315Z
UID:68934-1735475400-1735497000@thepressboxlts.com
SUMMARY:Fair Grounds Winter Meet
DESCRIPTION:First Post: 12:45 p.m. CT \nPhoto by Holly M. Smith
URL:https://thepressboxlts.com/event/fair-grounds-winter-meet-16/
LOCATION:Fair Grounds\, New Orleans\, LA\, United States
END:VEVENT
BEGIN:VEVENT
DTSTART;TZID=America/Kentucky/Louisville:20241228T173000
DTEND;TZID=America/Kentucky/Louisville:20241228T223000
DTSTAMP:20260421T014238
CREATED:20241226T173900Z
LAST-MODIFIED:20241226T173900Z
UID:68926-1735407000-1735425000@thepressboxlts.com
SUMMARY:Turfway Park Holiday Meet
DESCRIPTION:First Post: 5:55 p.m. ET \nPhoto by Coady Media
URL:https://thepressboxlts.com/event/turfway-park-holiday-meet-49/
LOCATION:KY
ATTACH;FMTTYPE=image/jpeg:https://thepressboxlts.com/wp-content/uploads/2024/03/Endlessly-Paddock-Schooling-TP-032224-04-scaled.jpg
END:VEVENT
BEGIN:VEVENT
DTSTART;TZID=America/Kentucky/Louisville:20241228T123000
DTEND;TZID=America/Kentucky/Louisville:20241228T183000
DTSTAMP:20260421T014238
CREATED:20241226T174217Z
LAST-MODIFIED:20241226T174217Z
UID:68932-1735389000-1735410600@thepressboxlts.com
SUMMARY:Fair Grounds Winter Meet
DESCRIPTION:First Post: 12:45 p.m. CT \nPhoto by Holly M. Smith
URL:https://thepressboxlts.com/event/fair-grounds-winter-meet-15/
LOCATION:Fair Grounds\, New Orleans\, LA\, United States
END:VEVENT
BEGIN:VEVENT
DTSTART;TZID=America/Kentucky/Louisville:20241227T173000
DTEND;TZID=America/Kentucky/Louisville:20241227T223000
DTSTAMP:20260421T014238
CREATED:20241226T173753Z
LAST-MODIFIED:20241226T173753Z
UID:68924-1735320600-1735338600@thepressboxlts.com
SUMMARY:Turfway Park Holiday Meet
DESCRIPTION:First Post: 5:55 p.m ET \nPhoto by Coady Media
URL:https://thepressboxlts.com/event/turfway-park-holiday-meet-48/
LOCATION:Turfway Park\, Florence\, KY\, United States
ATTACH;FMTTYPE=image/jpeg:https://thepressboxlts.com/wp-content/uploads/2024/10/Scenics-TP-120123-06-scaled.jpg
END:VEVENT
BEGIN:VEVENT
DTSTART;TZID=America/Kentucky/Louisville:20241227T123000
DTEND;TZID=America/Kentucky/Louisville:20241227T183000
DTSTAMP:20260421T014238
CREATED:20241226T174116Z
LAST-MODIFIED:20241226T174116Z
UID:68930-1735302600-1735324200@thepressboxlts.com
SUMMARY:Fair Grounds Winter Meet
DESCRIPTION:First Post: 12:45 p.m. CT \nPhoto by Holly M. Smith
URL:https://thepressboxlts.com/event/fair-grounds-winter-meet-14/
LOCATION:Fair Grounds\, New Orleans\, LA\, United States
END:VEVENT
BEGIN:VEVENT
DTSTART;TZID=America/Kentucky/Louisville:20241226T173000
DTEND;TZID=America/Kentucky/Louisville:20241226T223000
DTSTAMP:20260421T014238
CREATED:20241226T173638Z
LAST-MODIFIED:20241226T173638Z
UID:68922-1735234200-1735252200@thepressboxlts.com
SUMMARY:Turfway Park Holiday Meet
DESCRIPTION:First Post: 5:55 p.m. ET \nPhoto by Coady Media \n 
URL:https://thepressboxlts.com/event/turfway-park-holiday-meet-47/
LOCATION:Turfway Park\, Florence\, KY\, United States
ATTACH;FMTTYPE=image/jpeg:https://thepressboxlts.com/wp-content/uploads/2024/04/ENDLESSLY-Jeff-Ruby-Steaks-G3-53rd-Running-03-23-24-R12-Turfway-Park-Start-01-Kurtis-Coady-scaled.jpg
END:VEVENT
BEGIN:VEVENT
DTSTART;TZID=America/Kentucky/Louisville:20241226T123000
DTEND;TZID=America/Kentucky/Louisville:20241226T183000
DTSTAMP:20260421T014238
CREATED:20241226T174017Z
LAST-MODIFIED:20241226T174017Z
UID:68928-1735216200-1735237800@thepressboxlts.com
SUMMARY:Fair Grounds Winter Meet
DESCRIPTION:First Post: 12:45 p.m. CT \nPhoto by Holly M. Smith
URL:https://thepressboxlts.com/event/fair-grounds-winter-meet-13/
LOCATION:Fair Grounds\, New Orleans\, LA\, United States
END:VEVENT
BEGIN:VEVENT
DTSTART;TZID=America/Kentucky/Louisville:20241222T123000
DTEND;TZID=America/Kentucky/Louisville:20241222T190000
DTSTAMP:20260421T014238
CREATED:20241218T171308Z
LAST-MODIFIED:20241218T171308Z
UID:68847-1734870600-1734894000@thepressboxlts.com
SUMMARY:Fair Grounds Winter Meet
DESCRIPTION:First Post: 12:45 p.m. CT \nPhoto by Holly M. Smith
URL:https://thepressboxlts.com/event/fair-grounds-winter-meet-12/
LOCATION:Fair Grounds\, New Orleans\, LA\, United States
END:VEVENT
BEGIN:VEVENT
DTSTART;TZID=America/Kentucky/Louisville:20241221T173000
DTEND;TZID=America/Kentucky/Louisville:20241221T220000
DTSTAMP:20260421T014238
CREATED:20241217T234106Z
LAST-MODIFIED:20241217T234106Z
UID:68825-1734802200-1734818400@thepressboxlts.com
SUMMARY:Turfway Park Holiday Meet
DESCRIPTION:First Post: 5:50 p.m. ET \nPhoto by Coady Media
URL:https://thepressboxlts.com/event/turfway-park-holiday-meet-46/
LOCATION:Turfway Park\, Florence\, KY\, United States
ATTACH;FMTTYPE=image/jpeg:https://thepressboxlts.com/wp-content/uploads/2024/04/ENDLESSLY-Jeff-Ruby-Steaks-G3-53rd-Running-03-23-24-R12-Turfway-Park-Start-01-Kurtis-Coady-scaled.jpg
END:VEVENT
BEGIN:VEVENT
DTSTART;TZID=America/Kentucky/Louisville:20241221T120000
DTEND;TZID=America/Kentucky/Louisville:20241221T190000
DTSTAMP:20260421T014238
CREATED:20241218T171141Z
LAST-MODIFIED:20241218T171141Z
UID:68845-1734782400-1734807600@thepressboxlts.com
SUMMARY:Fair Grounds Winter Meet -- "Road to Kentucky Derby" Starts
DESCRIPTION:First Post: 12 Noon CT \nPhoto by Holly M. Smith
URL:https://thepressboxlts.com/event/fair-grounds-winter-meet-road-to-kentucky-derby-starts/
LOCATION:Fair Grounds\, New Orleans\, LA\, United States
END:VEVENT
BEGIN:VEVENT
DTSTART;TZID=America/Kentucky/Louisville:20241220T173000
DTEND;TZID=America/Kentucky/Louisville:20241220T220000
DTSTAMP:20260421T014238
CREATED:20241217T233956Z
LAST-MODIFIED:20241217T233956Z
UID:68823-1734715800-1734732000@thepressboxlts.com
SUMMARY:Turfway Park Holiday Meet
DESCRIPTION:First Posts: 5:50 p.m. ET \nPhoto by Coady Media
URL:https://thepressboxlts.com/event/turfway-park-holiday-meet-45/
LOCATION:Turfway Park\, Florence\, KY\, United States
ATTACH;FMTTYPE=image/jpeg:https://thepressboxlts.com/wp-content/uploads/2024/12/HOWARD-WOLOWITZ-The-Holiday-Cheer-29th-Running-12-14-24-R07-Turfway-Park-Paddock-01-Sammantha-Pagels-scaled.jpg
END:VEVENT
BEGIN:VEVENT
DTSTART;TZID=America/Kentucky/Louisville:20241220T123000
DTEND;TZID=America/Kentucky/Louisville:20241220T190000
DTSTAMP:20260421T014238
CREATED:20241218T171018Z
LAST-MODIFIED:20241218T171018Z
UID:68843-1734697800-1734721200@thepressboxlts.com
SUMMARY:Fair Grounds Winter Meet
DESCRIPTION:First Post: 12:45 p.m. CT \nPhoto by Holly M. Smith
URL:https://thepressboxlts.com/event/fair-grounds-winter-meet-11/
LOCATION:Fair Grounds\, New Orleans\, LA\, United States
END:VEVENT
BEGIN:VEVENT
DTSTART;TZID=America/Kentucky/Louisville:20241219T173000
DTEND;TZID=America/Kentucky/Louisville:20241219T220000
DTSTAMP:20260421T014238
CREATED:20241217T233848Z
LAST-MODIFIED:20241217T233848Z
UID:68821-1734629400-1734645600@thepressboxlts.com
SUMMARY:Turfway Park Holiday Meet
DESCRIPTION:First Post: 5:50 p.m. ET \nPhoto by Coady Media
URL:https://thepressboxlts.com/event/turfway-park-holiday-meet-44/
LOCATION:Turfway Park\, Florence\, KY\, United States
ATTACH;FMTTYPE=image/jpeg:https://thepressboxlts.com/wp-content/uploads/2024/12/AWESOME-TREAT-The-Holiday-Inaugural-38th-Running-12-14-24-R05-Turfway-Park-Paddock-02-Sammantha-Pagels-scaled.jpg
END:VEVENT
BEGIN:VEVENT
DTSTART;TZID=America/Kentucky/Louisville:20241219T123000
DTEND;TZID=America/Kentucky/Louisville:20241219T190000
DTSTAMP:20260421T014238
CREATED:20241218T170846Z
LAST-MODIFIED:20241218T170846Z
UID:68841-1734611400-1734634800@thepressboxlts.com
SUMMARY:Fair Grounds Winter Meet
DESCRIPTION:First Post: 12:45 p.m. CT \nPhoto by Holly M. Smith
URL:https://thepressboxlts.com/event/fair-grounds-winter-meet-10/
LOCATION:Fair Grounds\, New Orleans\, LA\, United States
END:VEVENT
BEGIN:VEVENT
DTSTART;TZID=America/Kentucky/Louisville:20241218T173000
DTEND;TZID=America/Kentucky/Louisville:20241218T220000
DTSTAMP:20260421T014238
CREATED:20241217T233731Z
LAST-MODIFIED:20241217T233731Z
UID:68819-1734543000-1734559200@thepressboxlts.com
SUMMARY:Turfway Park Holiday Meet
DESCRIPTION:First Post: 5:50 p.m. ET \nPhoto by Coady Media
URL:https://thepressboxlts.com/event/turfway-park-holiday-meet-43/
LOCATION:Turfway Park\, Florence\, KY\, United States
ATTACH;FMTTYPE=image/jpeg:https://thepressboxlts.com/wp-content/uploads/2024/12/DANAS-BEAUTY-The-My-Charmer-36th-Running-12-14-24-R04-Turfway-Park-Finish-02-Sammantha-Pagels-scaled.jpg
END:VEVENT
BEGIN:VEVENT
DTSTART;TZID=America/Kentucky/Louisville:20241216T123000
DTEND;TZID=America/Kentucky/Louisville:20241216T183000
DTSTAMP:20260421T014238
CREATED:20241209T195941Z
LAST-MODIFIED:20241209T195941Z
UID:68735-1734352200-1734373800@thepressboxlts.com
SUMMARY:Fair Grounds Winter Meet
DESCRIPTION:First Post: 12:45 p.m. CT \nPhoto by Holly M. Smith
URL:https://thepressboxlts.com/event/fair-grounds-winter-meet-9/
LOCATION:Fair Grounds\, New Orleans\, LA\, United States
END:VEVENT
BEGIN:VEVENT
DTSTART;TZID=America/Kentucky/Louisville:20241215T123000
DTEND;TZID=America/Kentucky/Louisville:20241215T183000
DTSTAMP:20260421T014238
CREATED:20241209T195426Z
LAST-MODIFIED:20241209T195426Z
UID:68733-1734265800-1734287400@thepressboxlts.com
SUMMARY:Fair Grounds Winter Meet
DESCRIPTION:First Post: 12:45 p.m. CT \nPhoto by Holly M. Smith
URL:https://thepressboxlts.com/event/fair-grounds-winter-meet-8/
LOCATION:Fair Grounds\, New Orleans\, LA\, United States
END:VEVENT
BEGIN:VEVENT
DTSTART;TZID=America/Kentucky/Louisville:20241214T173000
DTEND;TZID=America/Kentucky/Louisville:20241214T220000
DTSTAMP:20260421T014238
CREATED:20241209T194831Z
LAST-MODIFIED:20241209T194831Z
UID:68725-1734197400-1734213600@thepressboxlts.com
SUMMARY:Turfway Park Holiday Meet
DESCRIPTION:First Post: 5:55 p.m. ET \n 
URL:https://thepressboxlts.com/event/turfway-park-holiday-meet-42/
LOCATION:Turfway Park\, Florence\, KY\, United States
END:VEVENT
END:VCALENDAR