BEGIN:VCALENDAR
VERSION:2.0
PRODID:-//The Pressbox - ECPv6.15.19//NONSGML v1.0//EN
CALSCALE:GREGORIAN
METHOD:PUBLISH
X-WR-CALNAME:The Pressbox
X-ORIGINAL-URL:https://thepressboxlts.com
X-WR-CALDESC:Events for The Pressbox
REFRESH-INTERVAL;VALUE=DURATION:PT1H
X-Robots-Tag:noindex
X-PUBLISHED-TTL:PT1H
BEGIN:VTIMEZONE
TZID:America/Kentucky/Louisville
BEGIN:DAYLIGHT
TZOFFSETFROM:-0500
TZOFFSETTO:-0400
TZNAME:EDT
DTSTART:20240310T070000
END:DAYLIGHT
BEGIN:STANDARD
TZOFFSETFROM:-0400
TZOFFSETTO:-0500
TZNAME:EST
DTSTART:20241103T060000
END:STANDARD
BEGIN:DAYLIGHT
TZOFFSETFROM:-0500
TZOFFSETTO:-0400
TZNAME:EDT
DTSTART:20250309T070000
END:DAYLIGHT
BEGIN:STANDARD
TZOFFSETFROM:-0400
TZOFFSETTO:-0500
TZNAME:EST
DTSTART:20251102T060000
END:STANDARD
BEGIN:DAYLIGHT
TZOFFSETFROM:-0500
TZOFFSETTO:-0400
TZNAME:EDT
DTSTART:20260308T070000
END:DAYLIGHT
BEGIN:STANDARD
TZOFFSETFROM:-0400
TZOFFSETTO:-0500
TZNAME:EST
DTSTART:20261101T060000
END:STANDARD
END:VTIMEZONE
BEGIN:VEVENT
DTSTART;TZID=America/Kentucky/Louisville:20250227T173000
DTEND;TZID=America/Kentucky/Louisville:20250227T223000
DTSTAMP:20260420T232144
CREATED:20250224T202724Z
LAST-MODIFIED:20250224T202724Z
UID:69755-1740677400-1740695400@thepressboxlts.com
SUMMARY:Turfway Park Winter Meet
DESCRIPTION:First Post: 5:50 p.m. ET \nPhoto by Coady Media
URL:https://thepressboxlts.com/event/turfway-park-winter-meet-14/
LOCATION:Turfway Park\, Florence\, KY\, United States
ATTACH;FMTTYPE=image/jpeg:https://thepressboxlts.com/wp-content/uploads/2025/02/image003-1-scaled.jpg
END:VEVENT
BEGIN:VEVENT
DTSTART;TZID=America/Kentucky/Louisville:20250227T123000
DTEND;TZID=America/Kentucky/Louisville:20250227T183000
DTSTAMP:20260420T232144
CREATED:20250224T203744Z
LAST-MODIFIED:20250224T203744Z
UID:69761-1740659400-1740681000@thepressboxlts.com
SUMMARY:Fair Grounds Winter Meet
DESCRIPTION:First Post: 12:45 p.m. CT \nPhoto by Holly M. Smith
URL:https://thepressboxlts.com/event/fair-grounds-winter-meet-31/
LOCATION:Fair Grounds\, New Orleans\, LA\, United States
END:VEVENT
BEGIN:VEVENT
DTSTART;TZID=America/Kentucky/Louisville:20250226T173000
DTEND;TZID=America/Kentucky/Louisville:20250226T223000
DTSTAMP:20260420T232144
CREATED:20250224T202528Z
LAST-MODIFIED:20250224T202528Z
UID:69753-1740591000-1740609000@thepressboxlts.com
SUMMARY:Turfway Park Winter Meet
DESCRIPTION:First Post: 5:50 p.m. ET \nPhoto by Coady Media
URL:https://thepressboxlts.com/event/turfway-park-winter-meet-13/
LOCATION:Turfway Park\, Florence\, KY\, United States
ATTACH;FMTTYPE=image/jpeg:https://thepressboxlts.com/wp-content/uploads/2024/04/ENDLESSLY-Jeff-Ruby-Steaks-G3-53rd-Running-03-23-24-R12-Turfway-Park-Start-01-Kurtis-Coady-scaled.jpg
END:VEVENT
BEGIN:VEVENT
DTSTART;TZID=America/Kentucky/Louisville:20250223T123000
DTEND;TZID=America/Kentucky/Louisville:20250223T183000
DTSTAMP:20260420T232144
CREATED:20250217T013907Z
LAST-MODIFIED:20250217T013907Z
UID:69594-1740313800-1740335400@thepressboxlts.com
SUMMARY:Fair Grounds Winter Meet
DESCRIPTION:First Post: 12:45 p.m. CT \nPhoto by Holly M. Smith
URL:https://thepressboxlts.com/event/fair-grounds-winter-meet-30/
LOCATION:Fair Grounds\, New Orleans\, LA\, United States
END:VEVENT
BEGIN:VEVENT
DTSTART;TZID=America/Kentucky/Louisville:20250222T173000
DTEND;TZID=America/Kentucky/Louisville:20250222T223000
DTSTAMP:20260420T232144
CREATED:20250217T012828Z
LAST-MODIFIED:20250217T012828Z
UID:69581-1740245400-1740263400@thepressboxlts.com
SUMMARY:Turfway Park Winter Meet
DESCRIPTION:First Post: 5:55 p.m. ET \nPhoto by Coady Media
URL:https://thepressboxlts.com/event/turfway-park-winter-meet-12/
LOCATION:Turfway Park\, Florence\, KY\, United States
END:VEVENT
BEGIN:VEVENT
DTSTART;TZID=America/Kentucky/Louisville:20250222T123000
DTEND;TZID=America/Kentucky/Louisville:20250222T183000
DTSTAMP:20260420T232144
CREATED:20250217T013807Z
LAST-MODIFIED:20250217T013807Z
UID:69592-1740227400-1740249000@thepressboxlts.com
SUMMARY:Fair Grounds Winter Meet
DESCRIPTION:First Post: 12:45 p.m. CT \nPhoto by Holly M. Smith
URL:https://thepressboxlts.com/event/fair-grounds-winter-meet-29/
LOCATION:LA
END:VEVENT
BEGIN:VEVENT
DTSTART;TZID=America/Kentucky/Louisville:20250221T173000
DTEND;TZID=America/Kentucky/Louisville:20250221T223000
DTSTAMP:20260420T232144
CREATED:20250217T012720Z
LAST-MODIFIED:20250217T012720Z
UID:69579-1740159000-1740177000@thepressboxlts.com
SUMMARY:Turfway Park Winter Meet
DESCRIPTION:First Post: 5:55 p.m. ET \nPhoto by Coady Media
URL:https://thepressboxlts.com/event/turfway-park-winter-meet-11/
LOCATION:Turfway Park\, Florence\, KY\, United States
END:VEVENT
BEGIN:VEVENT
DTSTART;TZID=America/Kentucky/Louisville:20250221T123000
DTEND;TZID=America/Kentucky/Louisville:20250221T183000
DTSTAMP:20260420T232144
CREATED:20250217T013701Z
LAST-MODIFIED:20250217T013701Z
UID:69590-1740141000-1740162600@thepressboxlts.com
SUMMARY:Fair Grounds Winter Meet
DESCRIPTION:First Post: 12:45 p.m. CT \nPhoto by Holly M. Smith
URL:https://thepressboxlts.com/event/fair-grounds-winter-meet-28/
LOCATION:Fair Grounds\, New Orleans\, LA\, United States
END:VEVENT
BEGIN:VEVENT
DTSTART;TZID=America/Kentucky/Louisville:20250220T173000
DTEND;TZID=America/Kentucky/Louisville:20250220T223000
DTSTAMP:20260420T232144
CREATED:20250217T012616Z
LAST-MODIFIED:20250217T012616Z
UID:69577-1740072600-1740090600@thepressboxlts.com
SUMMARY:Turfway Park Winter Meet
DESCRIPTION:First Post: 5:55 p.m. ET \nPhoto by Coady Media
URL:https://thepressboxlts.com/event/turfway-park-winter-meet-10/
LOCATION:Turfway Park\, Florence\, KY\, United States
ATTACH;FMTTYPE=image/jpeg:https://thepressboxlts.com/wp-content/uploads/2024/12/PAROS-The-Prairie-Bayou-29th-Running-12-14-24-R06-Turfway-Park-Paddock-02-Sammantha-Pagels-scaled.jpg
END:VEVENT
BEGIN:VEVENT
DTSTART;TZID=America/Kentucky/Louisville:20250220T123000
DTEND;TZID=America/Kentucky/Louisville:20250220T183000
DTSTAMP:20260420T232144
CREATED:20250217T013555Z
LAST-MODIFIED:20250217T013555Z
UID:69588-1740054600-1740076200@thepressboxlts.com
SUMMARY:Fair Grounds Winter Meet
DESCRIPTION:First Post: 12:45 p.m. CT \nPhoto by Holly M. Smith \n 
URL:https://thepressboxlts.com/event/fair-grounds-winter-meet-27/
LOCATION:Fair Grounds\, New Orleans\, LA\, United States
END:VEVENT
BEGIN:VEVENT
DTSTART;TZID=America/Kentucky/Louisville:20250219T173000
DTEND;TZID=America/Kentucky/Louisville:20250219T223000
DTSTAMP:20260420T232144
CREATED:20250217T012506Z
LAST-MODIFIED:20250217T012506Z
UID:69575-1739986200-1740004200@thepressboxlts.com
SUMMARY:Turfway Park Winter Meet
DESCRIPTION:First Post: 5:55 p.m. ET \nPhoto by Coady Media
URL:https://thepressboxlts.com/event/turfway-park-winter-meet-9/
LOCATION:Turfway Park\, Florence\, KY\, United States
ATTACH;FMTTYPE=image/jpeg:https://thepressboxlts.com/wp-content/uploads/2024/04/ENDLESSLY-Jeff-Ruby-Steaks-G3-53rd-Running-03-23-24-R12-Turfway-Park-Start-01-Kurtis-Coady-scaled.jpg
END:VEVENT
BEGIN:VEVENT
DTSTART;TZID=America/Kentucky/Louisville:20250217T123000
DTEND;TZID=America/Kentucky/Louisville:20250217T183000
DTSTAMP:20260420T232144
CREATED:20250217T013348Z
LAST-MODIFIED:20250217T013348Z
UID:69586-1739795400-1739817000@thepressboxlts.com
SUMMARY:Fair Grounds Winter Meet
DESCRIPTION:First Post: 12:45 p.m. CT \nPhoto by Holly M. Smith
URL:https://thepressboxlts.com/event/fair-grounds-winter-meet-26/
LOCATION:Fair Grounds\, New Orleans\, LA\, United States
END:VEVENT
BEGIN:VEVENT
DTSTART;TZID=America/Kentucky/Louisville:20250208T173000
DTEND;TZID=America/Kentucky/Louisville:20250208T223000
DTSTAMP:20260420T232144
CREATED:20250202T172520Z
LAST-MODIFIED:20250202T172520Z
UID:69436-1739035800-1739053800@thepressboxlts.com
SUMMARY:Turfway Park Winter / Spring Meet
DESCRIPTION:First Post: 5:55 p.m. ET \nPhoto by Coady Media
URL:https://thepressboxlts.com/event/turfway-park-winter-spring-meet-111/
LOCATION:Turfway Park\, Florence\, KY\, United States
ATTACH;FMTTYPE=image/jpeg:https://thepressboxlts.com/wp-content/uploads/2024/04/ENDLESSLY-Jeff-Ruby-Steaks-G3-53rd-Running-03-23-24-R12-Turfway-Park-Start-01-Kurtis-Coady-scaled.jpg
END:VEVENT
BEGIN:VEVENT
DTSTART;TZID=America/Kentucky/Louisville:20250208T123000
DTEND;TZID=America/Kentucky/Louisville:20250208T190000
DTSTAMP:20260420T232144
CREATED:20250202T173021Z
LAST-MODIFIED:20250202T173021Z
UID:69442-1739017800-1739041200@thepressboxlts.com
SUMMARY:Fair Grounds Winter / Spring Meet
DESCRIPTION:First Post: 12:45 p.m. CT \nPhoto by Holly M. Smith
URL:https://thepressboxlts.com/event/fair-grounds-winter-spring-meet-85/
LOCATION:Fair Grounds\, New Orleans\, LA\, United States
END:VEVENT
BEGIN:VEVENT
DTSTART;TZID=America/Kentucky/Louisville:20250207T173000
DTEND;TZID=America/Kentucky/Louisville:20250207T223000
DTSTAMP:20260420T232144
CREATED:20250202T172356Z
LAST-MODIFIED:20250202T172356Z
UID:69434-1738949400-1738967400@thepressboxlts.com
SUMMARY:Turfway Park Winter / Spring Meet
DESCRIPTION:First Post: 5:55 p.m. ET \nPhoto by Coady Media
URL:https://thepressboxlts.com/event/turfway-park-winter-spring-meet-110/
LOCATION:Turfway Park\, Florence\, KY\, United States
ATTACH;FMTTYPE=image/jpeg:https://thepressboxlts.com/wp-content/uploads/2024/12/AWESOME-TREAT-The-Holiday-Inaugural-38th-Running-12-14-24-R05-Turfway-Park-Paddock-02-Sammantha-Pagels-scaled.jpg
END:VEVENT
BEGIN:VEVENT
DTSTART;TZID=America/Kentucky/Louisville:20250207T123000
DTEND;TZID=America/Kentucky/Louisville:20250207T193000
DTSTAMP:20260420T232144
CREATED:20250202T172848Z
LAST-MODIFIED:20250202T172848Z
UID:69440-1738931400-1738956600@thepressboxlts.com
SUMMARY:Fair Grounds Winter / Spring Meet
DESCRIPTION:First Post: 12:45 p.m. CT \nPhoto by Holly M. Smith
URL:https://thepressboxlts.com/event/fair-grounds-winter-spring-meet-84/
LOCATION:Fair Grounds\, New Orleans\, LA\, United States
END:VEVENT
BEGIN:VEVENT
DTSTART;TZID=America/Kentucky/Louisville:20250206T173000
DTEND;TZID=America/Kentucky/Louisville:20250206T223000
DTSTAMP:20260420T232144
CREATED:20250202T172022Z
LAST-MODIFIED:20250202T172022Z
UID:69432-1738863000-1738881000@thepressboxlts.com
SUMMARY:Turfway Park Winter / Spring Meet
DESCRIPTION:First Post: 5:55 p.m. ET \nPhoto by Coady Media
URL:https://thepressboxlts.com/event/turfway-park-winter-spring-meet-109/
LOCATION:Turfway Park\, Florence\, KY\, United States
ATTACH;FMTTYPE=image/jpeg:https://thepressboxlts.com/wp-content/uploads/2024/03/Endlessly-Paddock-Schooling-TP-032224-04-scaled.jpg
END:VEVENT
BEGIN:VEVENT
DTSTART;TZID=America/Kentucky/Louisville:20250206T123000
DTEND;TZID=America/Kentucky/Louisville:20250206T183000
DTSTAMP:20260420T232144
CREATED:20250202T172717Z
LAST-MODIFIED:20250202T172717Z
UID:69438-1738845000-1738866600@thepressboxlts.com
SUMMARY:Fair Grounds Winter / Spring Meet
DESCRIPTION:First Post: 12:45 p.m. CT \nPhoto by Holly M. Smith
URL:https://thepressboxlts.com/event/fair-grounds-winter-spring-meet-83/
LOCATION:Fair Grounds\, New Orleans\, LA\, United States
END:VEVENT
BEGIN:VEVENT
DTSTART;TZID=America/Kentucky/Louisville:20250205T173000
DTEND;TZID=America/Kentucky/Louisville:20250205T223000
DTSTAMP:20260420T232144
CREATED:20250202T171735Z
LAST-MODIFIED:20250202T173209Z
UID:69430-1738776600-1738794600@thepressboxlts.com
SUMMARY:Turfway Park Winter / Spring Meet
DESCRIPTION:First Post: 5:55 p.m. ET \nPhoto by Coady Media
URL:https://thepressboxlts.com/event/turfway-park-winter-spring-meet-108/
LOCATION:Turfway Park\, Florence\, KY\, United States
ATTACH;FMTTYPE=image/jpeg:https://thepressboxlts.com/wp-content/uploads/2024/10/Scenics-TP-120123-06-scaled.jpg
END:VEVENT
BEGIN:VEVENT
DTSTART;TZID=America/Kentucky/Louisville:20250202T123000
DTEND;TZID=America/Kentucky/Louisville:20250202T183000
DTSTAMP:20260420T232144
CREATED:20250127T145829Z
LAST-MODIFIED:20250127T145829Z
UID:69383-1738499400-1738521000@thepressboxlts.com
SUMMARY:Fair Grounds Winter Meet
DESCRIPTION:First Post: 12:45 p.m. CT \nPhoto by Holly M. Smith
URL:https://thepressboxlts.com/event/fair-grounds-winter-meet-25/
LOCATION:Fair Grounds\, New Orleans\, LA\, United States
END:VEVENT
BEGIN:VEVENT
DTSTART;TZID=America/Kentucky/Louisville:20250201T173000
DTEND;TZID=America/Kentucky/Louisville:20250201T223000
DTSTAMP:20260420T232144
CREATED:20250127T145338Z
LAST-MODIFIED:20250127T145338Z
UID:69375-1738431000-1738449000@thepressboxlts.com
SUMMARY:Turfway Park Winter Meet
DESCRIPTION:First Post: 5:55 p.m. ET \nPhoto by Coady Media
URL:https://thepressboxlts.com/event/turfway-park-winter-meet-8/
LOCATION:Turfway Park\, Florence\, KY\, United States
END:VEVENT
BEGIN:VEVENT
DTSTART;TZID=America/Kentucky/Louisville:20250201T123000
DTEND;TZID=America/Kentucky/Louisville:20250201T183000
DTSTAMP:20260420T232144
CREATED:20250127T145724Z
LAST-MODIFIED:20250127T145724Z
UID:69381-1738413000-1738434600@thepressboxlts.com
SUMMARY:Fair Grounds Winter Meet
DESCRIPTION:First Post: 12:45 p.m. CT \nPhoto by Holly M. Smith
URL:https://thepressboxlts.com/event/fair-grounds-winter-meet-24/
LOCATION:Fair Grounds\, New Orleans\, LA\, United States
END:VEVENT
BEGIN:VEVENT
DTSTART;TZID=America/Kentucky/Louisville:20250131T173000
DTEND;TZID=America/Kentucky/Louisville:20250131T223000
DTSTAMP:20260420T232144
CREATED:20250127T145224Z
LAST-MODIFIED:20250127T145224Z
UID:69373-1738344600-1738362600@thepressboxlts.com
SUMMARY:Turfway Park Winter Meet
DESCRIPTION:First Post: 5:55 p.m. ET \nPhoto by Coady Media
URL:https://thepressboxlts.com/event/turfway-park-winter-meet-7/
LOCATION:Turfway Park\, Florence\, KY\, United States
ATTACH;FMTTYPE=image/jpeg:https://thepressboxlts.com/wp-content/uploads/2024/04/ENDLESSLY-Jeff-Ruby-Steaks-G3-53rd-Running-03-23-24-R12-Turfway-Park-Start-01-Kurtis-Coady-scaled.jpg
END:VEVENT
BEGIN:VEVENT
DTSTART;TZID=America/Kentucky/Louisville:20250131T123000
DTEND;TZID=America/Kentucky/Louisville:20250131T183000
DTSTAMP:20260420T232144
CREATED:20250127T145628Z
LAST-MODIFIED:20250127T145628Z
UID:69379-1738326600-1738348200@thepressboxlts.com
SUMMARY:Fair Grounds Winter Meet
DESCRIPTION:First Post: 12:45 p.m. CT \nPhoto by Holly M. Smith
URL:https://thepressboxlts.com/event/fair-grounds-winter-meet-23/
LOCATION:Fair Grounds\, New Orleans\, LA\, United States
END:VEVENT
BEGIN:VEVENT
DTSTART;TZID=America/Kentucky/Louisville:20250130T173000
DTEND;TZID=America/Kentucky/Louisville:20250130T223000
DTSTAMP:20260420T232144
CREATED:20250127T145120Z
LAST-MODIFIED:20250127T145120Z
UID:69371-1738258200-1738276200@thepressboxlts.com
SUMMARY:Turfway Park Winter Meet
DESCRIPTION:First Post: 5:55 p.m. ET \nPhoto by Coady Media
URL:https://thepressboxlts.com/event/turfway-park-winter-meet-6/
LOCATION:Turfway Park\, Florence\, KY\, United States
ATTACH;FMTTYPE=image/jpeg:https://thepressboxlts.com/wp-content/uploads/2024/03/Endlessly-Paddock-Schooling-TP-032224-04-scaled.jpg
END:VEVENT
BEGIN:VEVENT
DTSTART;TZID=America/Kentucky/Louisville:20250130T123000
DTEND;TZID=America/Kentucky/Louisville:20250130T183000
DTSTAMP:20260420T232144
CREATED:20250127T145524Z
LAST-MODIFIED:20250127T145524Z
UID:69377-1738240200-1738261800@thepressboxlts.com
SUMMARY:Fair Grounds Winter Meet
DESCRIPTION:First Post: 12:45 p.m. CT \nPhoto by Holly M. Smith
URL:https://thepressboxlts.com/event/fair-grounds-winter-meet-22/
LOCATION:Fair Grounds\, New Orleans\, LA\, United States
END:VEVENT
BEGIN:VEVENT
DTSTART;TZID=America/Kentucky/Louisville:20250129T173000
DTEND;TZID=America/Kentucky/Louisville:20250129T223000
DTSTAMP:20260420T232144
CREATED:20250127T144911Z
LAST-MODIFIED:20250127T144911Z
UID:69368-1738171800-1738189800@thepressboxlts.com
SUMMARY:Turfway Park Winter Meet
DESCRIPTION:First Post: 5:55 p.m. ET \nPhoto by Coady Media
URL:https://thepressboxlts.com/event/turfway-park-winter-meet-5/
LOCATION:Turfway Park\, Florence\, KY\, United States
ATTACH;FMTTYPE=image/jpeg:https://thepressboxlts.com/wp-content/uploads/2024/10/Scenics-TP-120123-06-scaled.jpg
END:VEVENT
BEGIN:VEVENT
DTSTART;TZID=America/Kentucky/Louisville:20250120T123000
DTEND;TZID=America/Kentucky/Louisville:20250120T190000
DTSTAMP:20260420T232144
CREATED:20250113T194437Z
LAST-MODIFIED:20250113T194437Z
UID:69209-1737376200-1737399600@thepressboxlts.com
SUMMARY:Fair Grounds Winter Meet
DESCRIPTION:First Post: 12:45 p.m. CT \nPhoto by Holly M. Smith
URL:https://thepressboxlts.com/event/fair-grounds-winter-meet-21/
LOCATION:Fair Grounds\, New Orleans\, LA\, United States
END:VEVENT
BEGIN:VEVENT
DTSTART;TZID=America/Kentucky/Louisville:20250119T123000
DTEND;TZID=America/Kentucky/Louisville:20250119T190000
DTSTAMP:20260420T232144
CREATED:20250113T194340Z
LAST-MODIFIED:20250113T194340Z
UID:69207-1737289800-1737313200@thepressboxlts.com
SUMMARY:Fair Grounds Winter Meet
DESCRIPTION:First Post: 12:45 p.m. CT \nPhoto by Holly M. Smith
URL:https://thepressboxlts.com/event/fair-grounds-winter-meet-20/
LOCATION:Fair Grounds\, New Orleans\, LA\, United States
END:VEVENT
BEGIN:VEVENT
DTSTART;TZID=America/Kentucky/Louisville:20250118T173000
DTEND;TZID=America/Kentucky/Louisville:20250118T223000
DTSTAMP:20260420T232144
CREATED:20250113T194920Z
LAST-MODIFIED:20250113T194920Z
UID:69217-1737221400-1737239400@thepressboxlts.com
SUMMARY:Turfway Park Winter Meet
DESCRIPTION:First Post: 5:55 p.m. ET \nPhoto by Coady Media
URL:https://thepressboxlts.com/event/turfway-park-winter-meet-4/
LOCATION:Turfway Park\, Florence\, KY\, United States
END:VEVENT
END:VCALENDAR