BEGIN:VCALENDAR
VERSION:2.0
PRODID:-//The Pressbox - ECPv6.15.19//NONSGML v1.0//EN
CALSCALE:GREGORIAN
METHOD:PUBLISH
X-WR-CALNAME:The Pressbox
X-ORIGINAL-URL:https://thepressboxlts.com
X-WR-CALDESC:Events for The Pressbox
REFRESH-INTERVAL;VALUE=DURATION:PT1H
X-Robots-Tag:noindex
X-PUBLISHED-TTL:PT1H
BEGIN:VTIMEZONE
TZID:America/Kentucky/Louisville
BEGIN:DAYLIGHT
TZOFFSETFROM:-0500
TZOFFSETTO:-0400
TZNAME:EDT
DTSTART:20230312T070000
END:DAYLIGHT
BEGIN:STANDARD
TZOFFSETFROM:-0400
TZOFFSETTO:-0500
TZNAME:EST
DTSTART:20231105T060000
END:STANDARD
BEGIN:DAYLIGHT
TZOFFSETFROM:-0500
TZOFFSETTO:-0400
TZNAME:EDT
DTSTART:20240310T070000
END:DAYLIGHT
BEGIN:STANDARD
TZOFFSETFROM:-0400
TZOFFSETTO:-0500
TZNAME:EST
DTSTART:20241103T060000
END:STANDARD
BEGIN:DAYLIGHT
TZOFFSETFROM:-0500
TZOFFSETTO:-0400
TZNAME:EDT
DTSTART:20250309T070000
END:DAYLIGHT
BEGIN:STANDARD
TZOFFSETFROM:-0400
TZOFFSETTO:-0500
TZNAME:EST
DTSTART:20251102T060000
END:STANDARD
END:VTIMEZONE
BEGIN:VEVENT
DTSTART;TZID=America/Kentucky/Louisville:20241214T123000
DTEND;TZID=America/Kentucky/Louisville:20241214T183000
DTSTAMP:20260421T025908
CREATED:20241209T195324Z
LAST-MODIFIED:20241209T195324Z
UID:68731-1734179400-1734201000@thepressboxlts.com
SUMMARY:Fair Grounds Winter Meet
DESCRIPTION:First Post: 12:45 p.m. CT \nPhoto by Holly M. Smith
URL:https://thepressboxlts.com/event/fair-grounds-winter-meet-7/
LOCATION:Fair Grounds\, New Orleans\, LA\, United States
END:VEVENT
BEGIN:VEVENT
DTSTART;TZID=America/Kentucky/Louisville:20241213T173000
DTEND;TZID=America/Kentucky/Louisville:20241213T220000
DTSTAMP:20260421T025908
CREATED:20241209T194612Z
LAST-MODIFIED:20241209T194612Z
UID:68723-1734111000-1734127200@thepressboxlts.com
SUMMARY:Turfway Park Holiday Meet
DESCRIPTION:First Post: 5:55 p.m. ET \nPhoto by Coady Media
URL:https://thepressboxlts.com/event/turfway-park-holiday-meet-41/
LOCATION:KY
END:VEVENT
BEGIN:VEVENT
DTSTART;TZID=America/Kentucky/Louisville:20241213T123000
DTEND;TZID=America/Kentucky/Louisville:20241213T183000
DTSTAMP:20260421T025908
CREATED:20241209T195219Z
LAST-MODIFIED:20241209T195219Z
UID:68729-1734093000-1734114600@thepressboxlts.com
SUMMARY:Fair Grounds Winter Meet
DESCRIPTION:First Post: 12:45 p.m. CT \nPhoto by Holly M. Smith
URL:https://thepressboxlts.com/event/fair-grounds-winter-meet-6/
LOCATION:Fair Grounds\, New Orleans\, LA\, United States
END:VEVENT
BEGIN:VEVENT
DTSTART;TZID=America/Kentucky/Louisville:20241212T173000
DTEND;TZID=America/Kentucky/Louisville:20241212T220000
DTSTAMP:20260421T025908
CREATED:20241209T194500Z
LAST-MODIFIED:20241209T194500Z
UID:68721-1734024600-1734040800@thepressboxlts.com
SUMMARY:Turfway Park Holiday Meet
DESCRIPTION:First Post: 5:55 p.m. ET \nPhoto by Coady Media
URL:https://thepressboxlts.com/event/turfway-park-holiday-meet-40/
LOCATION:Turfway Park\, Florence\, KY\, United States
ATTACH;FMTTYPE=image/jpeg:https://thepressboxlts.com/wp-content/uploads/2024/04/ENDLESSLY-Jeff-Ruby-Steaks-G3-53rd-Running-03-23-24-R12-Turfway-Park-Start-01-Kurtis-Coady-scaled.jpg
END:VEVENT
BEGIN:VEVENT
DTSTART;TZID=America/Kentucky/Louisville:20241212T123000
DTEND;TZID=America/Kentucky/Louisville:20241212T183000
DTSTAMP:20260421T025908
CREATED:20241209T195055Z
LAST-MODIFIED:20241209T195055Z
UID:68727-1734006600-1734028200@thepressboxlts.com
SUMMARY:Fair Grounds Winter Meet
DESCRIPTION:First Post: 12:45 p.m. CT \nPhoto by Holly M. Smith
URL:https://thepressboxlts.com/event/fair-grounds-winter-meet-5/
LOCATION:Fair Grounds\, New Orleans\, LA\, United States
END:VEVENT
BEGIN:VEVENT
DTSTART;TZID=America/Kentucky/Louisville:20241211T173000
DTEND;TZID=America/Kentucky/Louisville:20241211T220000
DTSTAMP:20260421T025908
CREATED:20241209T194339Z
LAST-MODIFIED:20241209T194339Z
UID:68719-1733938200-1733954400@thepressboxlts.com
SUMMARY:Turfway Park Holiday Meet
DESCRIPTION:First Post: 5:55 p.m. ET \nPhoto by Coady Media \n 
URL:https://thepressboxlts.com/event/turfway-park-holiday-meet-39/
LOCATION:Turfway Park\, Florence\, KY\, United States
ATTACH;FMTTYPE=image/jpeg:https://thepressboxlts.com/wp-content/uploads/2024/03/Endlessly-Paddock-Schooling-TP-032224-04-scaled.jpg
END:VEVENT
BEGIN:VEVENT
DTSTART;TZID=America/Kentucky/Louisville:20241208T123000
DTEND;TZID=America/Kentucky/Louisville:20241208T183000
DTSTAMP:20260421T025908
CREATED:20241201T211549Z
LAST-MODIFIED:20241201T211549Z
UID:68687-1733661000-1733682600@thepressboxlts.com
SUMMARY:Fair Grounds Winter Meet
DESCRIPTION:First Post: 12:45 p.m. CT \nPhoto by Holly M. Smith
URL:https://thepressboxlts.com/event/fair-grounds-winter-meet-4/
LOCATION:KY
END:VEVENT
BEGIN:VEVENT
DTSTART;TZID=America/Kentucky/Louisville:20241207T173000
DTEND;TZID=America/Kentucky/Louisville:20241207T223000
DTSTAMP:20260421T025908
CREATED:20241201T211012Z
LAST-MODIFIED:20241201T211012Z
UID:68679-1733592600-1733610600@thepressboxlts.com
SUMMARY:Turfway Park Holiday Meet
DESCRIPTION:First Post: 5:55 p.m. ET \nPhoto by Coady Media
URL:https://thepressboxlts.com/event/turfway-park-holiday-meet-38/
LOCATION:Turfway Park\, Florence\, KY\, United States
ATTACH;FMTTYPE=image/jpeg:https://thepressboxlts.com/wp-content/uploads/2024/04/ENDLESSLY-Jeff-Ruby-Steaks-G3-53rd-Running-03-23-24-R12-Turfway-Park-Start-01-Kurtis-Coady-scaled.jpg
END:VEVENT
BEGIN:VEVENT
DTSTART;TZID=America/Kentucky/Louisville:20241207T123000
DTEND;TZID=America/Kentucky/Louisville:20241207T183000
DTSTAMP:20260421T025908
CREATED:20241201T211446Z
LAST-MODIFIED:20241201T211446Z
UID:68685-1733574600-1733596200@thepressboxlts.com
SUMMARY:Fair Grounds Winter Meet
DESCRIPTION:First Post: 12:45 p.m. CTPhoto by Holly M. Smith
URL:https://thepressboxlts.com/event/fair-grounds-winter-meet-3/
LOCATION:Fair Grounds\, New Orleans\, LA\, United States
END:VEVENT
BEGIN:VEVENT
DTSTART;TZID=America/Kentucky/Louisville:20241206T173000
DTEND;TZID=America/Kentucky/Louisville:20241206T223000
DTSTAMP:20260421T025908
CREATED:20241201T210859Z
LAST-MODIFIED:20241201T210859Z
UID:68677-1733506200-1733524200@thepressboxlts.com
SUMMARY:Turfway Park Holiday Meet
DESCRIPTION:First Post: 5:55 p.m. ET \nPhoto by Coady Media
URL:https://thepressboxlts.com/event/turfway-park-holiday-meet-37/
LOCATION:Turfway Park\, Florence\, KY\, United States
END:VEVENT
BEGIN:VEVENT
DTSTART;TZID=America/Kentucky/Louisville:20241206T123000
DTEND;TZID=America/Kentucky/Louisville:20241206T183000
DTSTAMP:20260421T025908
CREATED:20241201T211334Z
LAST-MODIFIED:20241201T211334Z
UID:68683-1733488200-1733509800@thepressboxlts.com
SUMMARY:Fair Grounds Winter Meet
DESCRIPTION:First Post: 12:45 p.m. CT \nPhoto by Holly M. Smith
URL:https://thepressboxlts.com/event/fair-grounds-winter-meet-2/
LOCATION:Fair Grounds\, New Orleans\, LA\, United States
END:VEVENT
BEGIN:VEVENT
DTSTART;TZID=America/Kentucky/Louisville:20241205T173000
DTEND;TZID=America/Kentucky/Louisville:20241205T223000
DTSTAMP:20260421T025908
CREATED:20241201T210742Z
LAST-MODIFIED:20241201T210742Z
UID:68675-1733419800-1733437800@thepressboxlts.com
SUMMARY:Turfway Park Holiday Meet
DESCRIPTION:First Post: 5:55 p.m. ET \nPhoto by Coady Media
URL:https://thepressboxlts.com/event/turfway-park-holiday-meet-36/
LOCATION:Turfway Park\, Florence\, KY\, United States
END:VEVENT
BEGIN:VEVENT
DTSTART;TZID=America/Kentucky/Louisville:20241205T123000
DTEND;TZID=America/Kentucky/Louisville:20241205T183000
DTSTAMP:20260421T025908
CREATED:20241201T211159Z
LAST-MODIFIED:20241201T211159Z
UID:68681-1733401800-1733423400@thepressboxlts.com
SUMMARY:Fair Grounds Winter Meet
DESCRIPTION:First Post: 12:45 p.m. CT \nPhoto by Holly M. Smith
URL:https://thepressboxlts.com/event/fair-grounds-winter-meet/
LOCATION:Fair Grounds\, New Orleans\, LA\, United States
END:VEVENT
BEGIN:VEVENT
DTSTART;TZID=America/Kentucky/Louisville:20241204T173000
DTEND;TZID=America/Kentucky/Louisville:20241204T223000
DTSTAMP:20260421T025908
CREATED:20241201T210551Z
LAST-MODIFIED:20241201T210551Z
UID:68672-1733333400-1733351400@thepressboxlts.com
SUMMARY:Turfway Park Holiday Meet Opening Night -- Wednesday\, Dec. 4
DESCRIPTION:First Post: 5:55 p.m. ET \n 
URL:https://thepressboxlts.com/event/turfway-park-holiday-meet-opening-night-wednesday-dec-4/
LOCATION:Turfway Park\, Florence\, KY\, United States
END:VEVENT
BEGIN:VEVENT
DTSTART;TZID=America/Kentucky/Louisville:20241201T130000
DTEND;TZID=America/Kentucky/Louisville:20241201T190000
DTSTAMP:20260421T025908
CREATED:20241125T205918Z
LAST-MODIFIED:20241125T205918Z
UID:68506-1733058000-1733079600@thepressboxlts.com
SUMMARY:Churchill Downs Fall Meet
DESCRIPTION:First Post: 1 p.m. ET \nPhoto by Holly M. Smith
URL:https://thepressboxlts.com/event/churchill-downs-fall-meet-41/
LOCATION:Churchill Downs\, Louisville\, KY\, United States
ATTACH;FMTTYPE=image/jpeg:https://thepressboxlts.com/wp-content/uploads/2024/11/HMS_2247.jpg
END:VEVENT
BEGIN:VEVENT
DTSTART;TZID=America/Kentucky/Louisville:20241130T130000
DTEND;TZID=America/Kentucky/Louisville:20241130T190000
DTSTAMP:20260421T025908
CREATED:20241125T205804Z
LAST-MODIFIED:20241125T205804Z
UID:68504-1732971600-1732993200@thepressboxlts.com
SUMMARY:Churchill Downs Fall Meet
DESCRIPTION:First Post: 1 p.m. ET \nPhoto by Holly M. Smith
URL:https://thepressboxlts.com/event/churchill-downs-fall-meet-40/
LOCATION:Churchill Downs\, Louisville\, KY\, United States
ATTACH;FMTTYPE=image/jpeg:https://thepressboxlts.com/wp-content/uploads/2024/11/HMS_2975.jpg
END:VEVENT
BEGIN:VEVENT
DTSTART;TZID=America/Kentucky/Louisville:20241130T123000
DTEND;TZID=America/Kentucky/Louisville:20241130T190000
DTSTAMP:20260421T025908
CREATED:20241125T210403Z
LAST-MODIFIED:20241125T210403Z
UID:68512-1732969800-1732993200@thepressboxlts.com
SUMMARY:Fair Grounds Fall Meet
DESCRIPTION:First Post: 12:45 p.m. CT \nPhoto by Holly M. Smith
URL:https://thepressboxlts.com/event/fair-grounds-fall-meet-3/
LOCATION:Fair Grounds\, New Orleans\, LA\, United States
END:VEVENT
BEGIN:VEVENT
DTSTART;TZID=America/Kentucky/Louisville:20241129T130000
DTEND;TZID=America/Kentucky/Louisville:20241129T190000
DTSTAMP:20260421T025908
CREATED:20241125T205646Z
LAST-MODIFIED:20241125T205646Z
UID:68502-1732885200-1732906800@thepressboxlts.com
SUMMARY:Churchill Downs Fall Meet
DESCRIPTION:First Post: 1 p.m. ET \nPhoto by Holly M. Smith
URL:https://thepressboxlts.com/event/churchill-downs-fall-meet-39/
LOCATION:Churchill Downs\, Louisville\, KY\, United States
ATTACH;FMTTYPE=image/jpeg:https://thepressboxlts.com/wp-content/uploads/2024/11/HMS_3637.jpg
END:VEVENT
BEGIN:VEVENT
DTSTART;TZID=America/Kentucky/Louisville:20241129T123000
DTEND;TZID=America/Kentucky/Louisville:20241129T180000
DTSTAMP:20260421T025908
CREATED:20241125T210249Z
LAST-MODIFIED:20241125T210249Z
UID:68510-1732883400-1732903200@thepressboxlts.com
SUMMARY:Fair Grounds Fall Meet
DESCRIPTION:First Post: 12:45 p.m. CT \nPhoto by Holly M. Smith
URL:https://thepressboxlts.com/event/fair-grounds-fall-meet-2/
LOCATION:Fair Grounds\, New Orleans\, LA\, United States
END:VEVENT
BEGIN:VEVENT
DTSTART;TZID=America/Kentucky/Louisville:20241128T120000
DTEND;TZID=America/Kentucky/Louisville:20241128T183000
DTSTAMP:20260421T025908
CREATED:20241125T210126Z
LAST-MODIFIED:20241125T210126Z
UID:68508-1732795200-1732818600@thepressboxlts.com
SUMMARY:Fair Grounds Fall Meet
DESCRIPTION:First Post: 12 Noon CT \nPhoto by Holly M. Smith
URL:https://thepressboxlts.com/event/fair-grounds-fall-meet/
LOCATION:Fair Grounds\, New Orleans\, LA\, United States
END:VEVENT
BEGIN:VEVENT
DTSTART;TZID=America/Kentucky/Louisville:20241128T113000
DTEND;TZID=America/Kentucky/Louisville:20241128T190000
DTSTAMP:20260421T025908
CREATED:20241125T205539Z
LAST-MODIFIED:20241125T205539Z
UID:68500-1732793400-1732820400@thepressboxlts.com
SUMMARY:Churchill Downs Fall Meet -- Thanksgiving Day
DESCRIPTION:First Post: 11:30 a.m. ET \nPhoto by Holly M. Smith
URL:https://thepressboxlts.com/event/churchill-downs-fall-meet-thanksgiving-day/
LOCATION:Churchill Downs\, Louisville\, KY\, United States
ATTACH;FMTTYPE=image/jpeg:https://thepressboxlts.com/wp-content/uploads/2024/11/Thanksgiving-Day-Turkey-2024-Web.jpg
END:VEVENT
BEGIN:VEVENT
DTSTART;TZID=America/Kentucky/Louisville:20241127T130000
DTEND;TZID=America/Kentucky/Louisville:20241127T190000
DTSTAMP:20260421T025908
CREATED:20241125T192949Z
LAST-MODIFIED:20241125T192949Z
UID:68498-1732712400-1732734000@thepressboxlts.com
SUMMARY:Churchill Downs Fall Meet
DESCRIPTION:First Post: 1 p.m. ET \nPhoto by Holly M. Smith
URL:https://thepressboxlts.com/event/churchill-downs-fall-meet-38/
LOCATION:Churchill Downs\, Louisville\, KY\, United States
ATTACH;FMTTYPE=image/jpeg:https://thepressboxlts.com/wp-content/uploads/2024/11/HMS_4468.jpg
END:VEVENT
BEGIN:VEVENT
DTSTART;TZID=America/Kentucky/Louisville:20241124T123000
DTEND;TZID=America/Kentucky/Louisville:20241124T190000
DTSTAMP:20260421T025908
CREATED:20241122T002638Z
LAST-MODIFIED:20241122T002638Z
UID:68439-1732451400-1732474800@thepressboxlts.com
SUMMARY:Fair Grounds Fall/Winter Meet
DESCRIPTION:First Post: 12:45 p.m. CT \nPhoto by Holly M. Smith
URL:https://thepressboxlts.com/event/fair-grounds-fall-winter-meet-3/
LOCATION:Fair Grounds\, New Orleans\, LA\, United States
END:VEVENT
BEGIN:VEVENT
DTSTART;TZID=America/Kentucky/Louisville:20241124T123000
DTEND;TZID=America/Kentucky/Louisville:20241124T190000
DTSTAMP:20260421T025908
CREATED:20241122T002106Z
LAST-MODIFIED:20241122T002106Z
UID:68433-1732451400-1732474800@thepressboxlts.com
SUMMARY:Churchill Downs' Fall Meet
DESCRIPTION:First Post: 12:45 p.m. ET \nPhoto by Holly M. Smith
URL:https://thepressboxlts.com/event/churchill-downs-fall-meet-37/
LOCATION:Churchill Downs\, Louisville\, KY\, United States
ATTACH;FMTTYPE=image/jpeg:https://thepressboxlts.com/wp-content/uploads/2024/11/HMS_2975.jpg
END:VEVENT
BEGIN:VEVENT
DTSTART;TZID=America/Kentucky/Louisville:20241123T123000
DTEND;TZID=America/Kentucky/Louisville:20241123T190000
DTSTAMP:20260421T025908
CREATED:20241122T002514Z
LAST-MODIFIED:20241122T002514Z
UID:68437-1732365000-1732388400@thepressboxlts.com
SUMMARY:Fair Grounds Fall/Winter Meet
DESCRIPTION:First Post: 12:45 p.m. CT \nPhoto by Holly M. Smith
URL:https://thepressboxlts.com/event/fair-grounds-fall-winter-meet-2/
LOCATION:Fair Grounds\, New Orleans\, LA\, United States
END:VEVENT
BEGIN:VEVENT
DTSTART;TZID=America/Kentucky/Louisville:20241123T123000
DTEND;TZID=America/Kentucky/Louisville:20241123T190000
DTSTAMP:20260421T025908
CREATED:20241122T002008Z
LAST-MODIFIED:20241122T002008Z
UID:68431-1732365000-1732388400@thepressboxlts.com
SUMMARY:Churchill Downs' Fall Meet
DESCRIPTION:First Post: 12:45 p.m. \nPhoto by Holly M. Smith
URL:https://thepressboxlts.com/event/churchill-downs-fall-meet-36/
LOCATION:Churchill Downs\, Louisville\, KY\, United States
ATTACH;FMTTYPE=image/jpeg:https://thepressboxlts.com/wp-content/uploads/2024/11/HMS_3195-filoso.jpg
END:VEVENT
BEGIN:VEVENT
DTSTART;TZID=America/Kentucky/Louisville:20241122T123000
DTEND;TZID=America/Kentucky/Louisville:20241122T183000
DTSTAMP:20260421T025908
CREATED:20241122T002355Z
LAST-MODIFIED:20241122T002355Z
UID:68435-1732278600-1732300200@thepressboxlts.com
SUMMARY:Fair Grounds Fall/Winter Meet
DESCRIPTION:First Post: 12:45 p.m. CT \nPhoto by Holly M. Smith
URL:https://thepressboxlts.com/event/fair-grounds-fall-winter-meet/
LOCATION:Fair Grounds\, New Orleans\, LA\, United States
END:VEVENT
BEGIN:VEVENT
DTSTART;TZID=America/Kentucky/Louisville:20241122T123000
DTEND;TZID=America/Kentucky/Louisville:20241122T183000
DTSTAMP:20260421T025908
CREATED:20241122T001900Z
LAST-MODIFIED:20241122T001900Z
UID:68429-1732278600-1732300200@thepressboxlts.com
SUMMARY:Churchill Downs' Fall Meet
DESCRIPTION:First Post: 12:45 p.m. \nPhoto by Holly M. Smith
URL:https://thepressboxlts.com/event/churchill-downs-fall-meet-35/
LOCATION:Churchill Downs\, Louisville\, KY\, United States
ATTACH;FMTTYPE=image/jpeg:https://thepressboxlts.com/wp-content/uploads/2024/11/HMS_2996.jpg
END:VEVENT
BEGIN:VEVENT
DTSTART;TZID=America/Kentucky/Louisville:20241117T123000
DTEND;TZID=America/Kentucky/Louisville:20241117T183000
DTSTAMP:20260421T025908
CREATED:20241112T171738Z
LAST-MODIFIED:20241112T171738Z
UID:68256-1731846600-1731868200@thepressboxlts.com
SUMMARY:Churchill Downs Fall Meet
DESCRIPTION:First Post: 12:45 p.m. ET \nPhoto by Holly M. Smith
URL:https://thepressboxlts.com/event/churchill-downs-fall-meet-34/
LOCATION:Churchill Downs\, Louisville\, KY\, United States
ATTACH;FMTTYPE=image/jpeg:https://thepressboxlts.com/wp-content/uploads/2024/11/HMS_8053-gulport-scaled.jpg
END:VEVENT
BEGIN:VEVENT
DTSTART;TZID=America/Kentucky/Louisville:20241116T123000
DTEND;TZID=America/Kentucky/Louisville:20241116T183000
DTSTAMP:20260421T025908
CREATED:20241112T171633Z
LAST-MODIFIED:20241112T171633Z
UID:68254-1731760200-1731781800@thepressboxlts.com
SUMMARY:Churchill Downs Fall Meet
DESCRIPTION:First Post: 12:45 p.m. ET \nPhoto by Holly M. Smith
URL:https://thepressboxlts.com/event/churchill-downs-fall-meet-33/
LOCATION:Churchill Downs\, Louisville\, KY\, United States
ATTACH;FMTTYPE=image/jpeg:https://thepressboxlts.com/wp-content/uploads/2024/11/HMS_8088.jpg
END:VEVENT
END:VCALENDAR