BEGIN:VCALENDAR
VERSION:2.0
PRODID:-//The Pressbox - ECPv6.15.19//NONSGML v1.0//EN
CALSCALE:GREGORIAN
METHOD:PUBLISH
X-WR-CALNAME:The Pressbox
X-ORIGINAL-URL:https://thepressboxlts.com
X-WR-CALDESC:Events for The Pressbox
REFRESH-INTERVAL;VALUE=DURATION:PT1H
X-Robots-Tag:noindex
X-PUBLISHED-TTL:PT1H
BEGIN:VTIMEZONE
TZID:America/Kentucky/Louisville
BEGIN:DAYLIGHT
TZOFFSETFROM:-0500
TZOFFSETTO:-0400
TZNAME:EDT
DTSTART:20230312T070000
END:DAYLIGHT
BEGIN:STANDARD
TZOFFSETFROM:-0400
TZOFFSETTO:-0500
TZNAME:EST
DTSTART:20231105T060000
END:STANDARD
BEGIN:DAYLIGHT
TZOFFSETFROM:-0500
TZOFFSETTO:-0400
TZNAME:EDT
DTSTART:20240310T070000
END:DAYLIGHT
BEGIN:STANDARD
TZOFFSETFROM:-0400
TZOFFSETTO:-0500
TZNAME:EST
DTSTART:20241103T060000
END:STANDARD
BEGIN:DAYLIGHT
TZOFFSETFROM:-0500
TZOFFSETTO:-0400
TZNAME:EDT
DTSTART:20250309T070000
END:DAYLIGHT
BEGIN:STANDARD
TZOFFSETFROM:-0400
TZOFFSETTO:-0500
TZNAME:EST
DTSTART:20251102T060000
END:STANDARD
END:VTIMEZONE
BEGIN:VEVENT
DTSTART;TZID=America/Kentucky/Louisville:20241129T123000
DTEND;TZID=America/Kentucky/Louisville:20241129T180000
DTSTAMP:20260421T054429
CREATED:20241125T210249Z
LAST-MODIFIED:20241125T210249Z
UID:68510-1732883400-1732903200@thepressboxlts.com
SUMMARY:Fair Grounds Fall Meet
DESCRIPTION:First Post: 12:45 p.m. CT \nPhoto by Holly M. Smith
URL:https://thepressboxlts.com/event/fair-grounds-fall-meet-2/
LOCATION:Fair Grounds\, New Orleans\, LA\, United States
END:VEVENT
BEGIN:VEVENT
DTSTART;TZID=America/Kentucky/Louisville:20241128T120000
DTEND;TZID=America/Kentucky/Louisville:20241128T183000
DTSTAMP:20260421T054429
CREATED:20241125T210126Z
LAST-MODIFIED:20241125T210126Z
UID:68508-1732795200-1732818600@thepressboxlts.com
SUMMARY:Fair Grounds Fall Meet
DESCRIPTION:First Post: 12 Noon CT \nPhoto by Holly M. Smith
URL:https://thepressboxlts.com/event/fair-grounds-fall-meet/
LOCATION:Fair Grounds\, New Orleans\, LA\, United States
END:VEVENT
BEGIN:VEVENT
DTSTART;TZID=America/Kentucky/Louisville:20241128T113000
DTEND;TZID=America/Kentucky/Louisville:20241128T190000
DTSTAMP:20260421T054429
CREATED:20241125T205539Z
LAST-MODIFIED:20241125T205539Z
UID:68500-1732793400-1732820400@thepressboxlts.com
SUMMARY:Churchill Downs Fall Meet -- Thanksgiving Day
DESCRIPTION:First Post: 11:30 a.m. ET \nPhoto by Holly M. Smith
URL:https://thepressboxlts.com/event/churchill-downs-fall-meet-thanksgiving-day/
LOCATION:Churchill Downs\, Louisville\, KY\, United States
ATTACH;FMTTYPE=image/jpeg:https://thepressboxlts.com/wp-content/uploads/2024/11/Thanksgiving-Day-Turkey-2024-Web.jpg
END:VEVENT
BEGIN:VEVENT
DTSTART;TZID=America/Kentucky/Louisville:20241127T130000
DTEND;TZID=America/Kentucky/Louisville:20241127T190000
DTSTAMP:20260421T054429
CREATED:20241125T192949Z
LAST-MODIFIED:20241125T192949Z
UID:68498-1732712400-1732734000@thepressboxlts.com
SUMMARY:Churchill Downs Fall Meet
DESCRIPTION:First Post: 1 p.m. ET \nPhoto by Holly M. Smith
URL:https://thepressboxlts.com/event/churchill-downs-fall-meet-38/
LOCATION:Churchill Downs\, Louisville\, KY\, United States
ATTACH;FMTTYPE=image/jpeg:https://thepressboxlts.com/wp-content/uploads/2024/11/HMS_4468.jpg
END:VEVENT
BEGIN:VEVENT
DTSTART;TZID=America/Kentucky/Louisville:20241124T123000
DTEND;TZID=America/Kentucky/Louisville:20241124T190000
DTSTAMP:20260421T054429
CREATED:20241122T002638Z
LAST-MODIFIED:20241122T002638Z
UID:68439-1732451400-1732474800@thepressboxlts.com
SUMMARY:Fair Grounds Fall/Winter Meet
DESCRIPTION:First Post: 12:45 p.m. CT \nPhoto by Holly M. Smith
URL:https://thepressboxlts.com/event/fair-grounds-fall-winter-meet-3/
LOCATION:Fair Grounds\, New Orleans\, LA\, United States
END:VEVENT
BEGIN:VEVENT
DTSTART;TZID=America/Kentucky/Louisville:20241124T123000
DTEND;TZID=America/Kentucky/Louisville:20241124T190000
DTSTAMP:20260421T054429
CREATED:20241122T002106Z
LAST-MODIFIED:20241122T002106Z
UID:68433-1732451400-1732474800@thepressboxlts.com
SUMMARY:Churchill Downs' Fall Meet
DESCRIPTION:First Post: 12:45 p.m. ET \nPhoto by Holly M. Smith
URL:https://thepressboxlts.com/event/churchill-downs-fall-meet-37/
LOCATION:Churchill Downs\, Louisville\, KY\, United States
ATTACH;FMTTYPE=image/jpeg:https://thepressboxlts.com/wp-content/uploads/2024/11/HMS_2975.jpg
END:VEVENT
BEGIN:VEVENT
DTSTART;TZID=America/Kentucky/Louisville:20241123T123000
DTEND;TZID=America/Kentucky/Louisville:20241123T190000
DTSTAMP:20260421T054429
CREATED:20241122T002514Z
LAST-MODIFIED:20241122T002514Z
UID:68437-1732365000-1732388400@thepressboxlts.com
SUMMARY:Fair Grounds Fall/Winter Meet
DESCRIPTION:First Post: 12:45 p.m. CT \nPhoto by Holly M. Smith
URL:https://thepressboxlts.com/event/fair-grounds-fall-winter-meet-2/
LOCATION:Fair Grounds\, New Orleans\, LA\, United States
END:VEVENT
BEGIN:VEVENT
DTSTART;TZID=America/Kentucky/Louisville:20241123T123000
DTEND;TZID=America/Kentucky/Louisville:20241123T190000
DTSTAMP:20260421T054429
CREATED:20241122T002008Z
LAST-MODIFIED:20241122T002008Z
UID:68431-1732365000-1732388400@thepressboxlts.com
SUMMARY:Churchill Downs' Fall Meet
DESCRIPTION:First Post: 12:45 p.m. \nPhoto by Holly M. Smith
URL:https://thepressboxlts.com/event/churchill-downs-fall-meet-36/
LOCATION:Churchill Downs\, Louisville\, KY\, United States
ATTACH;FMTTYPE=image/jpeg:https://thepressboxlts.com/wp-content/uploads/2024/11/HMS_3195-filoso.jpg
END:VEVENT
BEGIN:VEVENT
DTSTART;TZID=America/Kentucky/Louisville:20241122T123000
DTEND;TZID=America/Kentucky/Louisville:20241122T183000
DTSTAMP:20260421T054429
CREATED:20241122T002355Z
LAST-MODIFIED:20241122T002355Z
UID:68435-1732278600-1732300200@thepressboxlts.com
SUMMARY:Fair Grounds Fall/Winter Meet
DESCRIPTION:First Post: 12:45 p.m. CT \nPhoto by Holly M. Smith
URL:https://thepressboxlts.com/event/fair-grounds-fall-winter-meet/
LOCATION:Fair Grounds\, New Orleans\, LA\, United States
END:VEVENT
BEGIN:VEVENT
DTSTART;TZID=America/Kentucky/Louisville:20241122T123000
DTEND;TZID=America/Kentucky/Louisville:20241122T183000
DTSTAMP:20260421T054429
CREATED:20241122T001900Z
LAST-MODIFIED:20241122T001900Z
UID:68429-1732278600-1732300200@thepressboxlts.com
SUMMARY:Churchill Downs' Fall Meet
DESCRIPTION:First Post: 12:45 p.m. \nPhoto by Holly M. Smith
URL:https://thepressboxlts.com/event/churchill-downs-fall-meet-35/
LOCATION:Churchill Downs\, Louisville\, KY\, United States
ATTACH;FMTTYPE=image/jpeg:https://thepressboxlts.com/wp-content/uploads/2024/11/HMS_2996.jpg
END:VEVENT
BEGIN:VEVENT
DTSTART;TZID=America/Kentucky/Louisville:20241117T123000
DTEND;TZID=America/Kentucky/Louisville:20241117T183000
DTSTAMP:20260421T054429
CREATED:20241112T171738Z
LAST-MODIFIED:20241112T171738Z
UID:68256-1731846600-1731868200@thepressboxlts.com
SUMMARY:Churchill Downs Fall Meet
DESCRIPTION:First Post: 12:45 p.m. ET \nPhoto by Holly M. Smith
URL:https://thepressboxlts.com/event/churchill-downs-fall-meet-34/
LOCATION:Churchill Downs\, Louisville\, KY\, United States
ATTACH;FMTTYPE=image/jpeg:https://thepressboxlts.com/wp-content/uploads/2024/11/HMS_8053-gulport-scaled.jpg
END:VEVENT
BEGIN:VEVENT
DTSTART;TZID=America/Kentucky/Louisville:20241116T123000
DTEND;TZID=America/Kentucky/Louisville:20241116T183000
DTSTAMP:20260421T054429
CREATED:20241112T171633Z
LAST-MODIFIED:20241112T171633Z
UID:68254-1731760200-1731781800@thepressboxlts.com
SUMMARY:Churchill Downs Fall Meet
DESCRIPTION:First Post: 12:45 p.m. ET \nPhoto by Holly M. Smith
URL:https://thepressboxlts.com/event/churchill-downs-fall-meet-33/
LOCATION:Churchill Downs\, Louisville\, KY\, United States
ATTACH;FMTTYPE=image/jpeg:https://thepressboxlts.com/wp-content/uploads/2024/11/HMS_8088.jpg
END:VEVENT
BEGIN:VEVENT
DTSTART;TZID=America/Kentucky/Louisville:20241115T123000
DTEND;TZID=America/Kentucky/Louisville:20241115T183000
DTSTAMP:20260421T054429
CREATED:20241112T171509Z
LAST-MODIFIED:20241112T171509Z
UID:68252-1731673800-1731695400@thepressboxlts.com
SUMMARY:Churchill Downs Fall Meet
DESCRIPTION:First Post: 12:45 p.m. ET \nPhoto by Holly M. Smith \n 
URL:https://thepressboxlts.com/event/churchill-downs-fall-meet-32/
ATTACH;FMTTYPE=image/jpeg:https://thepressboxlts.com/wp-content/uploads/2024/11/HMS_8459-nuk-soo-kow.jpg
END:VEVENT
BEGIN:VEVENT
DTSTART;TZID=America/Kentucky/Louisville:20241114T130000
DTEND;TZID=America/Kentucky/Louisville:20241114T183000
DTSTAMP:20260421T054429
CREATED:20241112T165630Z
LAST-MODIFIED:20241112T165630Z
UID:68245-1731589200-1731609000@thepressboxlts.com
SUMMARY:Horseshoe Indianapolis' Final Week of 2024 Meet -- Last Day
DESCRIPTION:First Post: 1:10 p.m. ET \nPhoto by Coady Media
URL:https://thepressboxlts.com/event/horseshoe-indianapolis-final-week-of-2024-meet-last-day/
LOCATION:Horseshoe Indianapolis\, Shelbyville\, IN\, United States
ATTACH;FMTTYPE=image/jpeg:https://thepressboxlts.com/wp-content/uploads/2024/06/DIAMOND-SOLITAIRE-Checkered-Flag-28th-Running-06-26-24-R07-Horseshoe-Indiana-Finish-02-Sammantha-Pagels-scaled.jpg
END:VEVENT
BEGIN:VEVENT
DTSTART;TZID=America/Kentucky/Louisville:20241114T123000
DTEND;TZID=America/Kentucky/Louisville:20241114T183000
DTSTAMP:20260421T054429
CREATED:20241112T170727Z
LAST-MODIFIED:20241112T170727Z
UID:68250-1731587400-1731609000@thepressboxlts.com
SUMMARY:Churchill Downs Fall Meet
DESCRIPTION:First Post: 12:45 p.m. ET \nPhoto by Holly M. Smith
URL:https://thepressboxlts.com/event/churchill-downs-fall-meet-31/
LOCATION:Churchill Downs\, Louisville\, KY\, United States
ATTACH;FMTTYPE=image/jpeg:https://thepressboxlts.com/wp-content/uploads/2024/11/HMS_9484-upper-case.jpg
END:VEVENT
BEGIN:VEVENT
DTSTART;TZID=America/Kentucky/Louisville:20241113T130000
DTEND;TZID=America/Kentucky/Louisville:20241113T183000
DTSTAMP:20260421T054429
CREATED:20241112T165431Z
LAST-MODIFIED:20241112T165431Z
UID:68243-1731502800-1731522600@thepressboxlts.com
SUMMARY:Horseshoe Indianapolis' Final Week of 2024 Meet
DESCRIPTION:First Post: 1:10 p.m. ET \nPhoto by Coady Media
URL:https://thepressboxlts.com/event/horseshoe-indianapolis-final-week-of-2024-meet-2/
LOCATION:Horseshoe Indianapolis\, Shelbyville\, IN\, United States
ATTACH;FMTTYPE=image/jpeg:https://thepressboxlts.com/wp-content/uploads/2024/07/DRAGOON-GAURD-Indiana-Derby-30th-Running-G3-07-06-24-R12-Horseshoe-Indiana-Start-02-Renee-Torbit-scaled.jpg
END:VEVENT
BEGIN:VEVENT
DTSTART;TZID=America/Kentucky/Louisville:20241113T123000
DTEND;TZID=America/Kentucky/Louisville:20241113T183000
DTSTAMP:20260421T054429
CREATED:20241112T165810Z
LAST-MODIFIED:20241112T165810Z
UID:68247-1731501000-1731522600@thepressboxlts.com
SUMMARY:Churchill Downs Fall Meet
DESCRIPTION:First Post: 12:45 p.m. ET \nPhoto by Holly M. Smith
URL:https://thepressboxlts.com/event/churchill-downs-fall-meet-30/
LOCATION:Churchill Downs\, Louisville\, KY\, United States
ATTACH;FMTTYPE=image/jpeg:https://thepressboxlts.com/wp-content/uploads/2024/11/HMS_9556-mike-smith.jpg
END:VEVENT
BEGIN:VEVENT
DTSTART;TZID=America/Kentucky/Louisville:20241112T130000
DTEND;TZID=America/Kentucky/Louisville:20241112T183000
DTSTAMP:20260421T054429
CREATED:20241112T164656Z
LAST-MODIFIED:20241112T164656Z
UID:68241-1731416400-1731436200@thepressboxlts.com
SUMMARY:Horseshoe Indianapolis' Final Week of 2024 Meet
DESCRIPTION:First Post: 1:10 p.m. ET \nPhoto by Coady Media
URL:https://thepressboxlts.com/event/horseshoe-indianapolis-final-week-of-2024-meet/
LOCATION:Horseshoe Indianapolis\, Shelbyville\, IN\, United States
ATTACH;FMTTYPE=image/jpeg:https://thepressboxlts.com/wp-content/uploads/2024/10/DEMOLISHER-To-Much-Coffee-26th-Running-10-02-24-R10-Horseshoe-Indiana-Post-Parade-01-Sammantha-Pagels-scaled.jpg
END:VEVENT
BEGIN:VEVENT
DTSTART;TZID=America/Kentucky/Louisville:20241110T123000
DTEND;TZID=America/Kentucky/Louisville:20241110T183000
DTSTAMP:20260421T054429
CREATED:20241104T001718Z
LAST-MODIFIED:20241104T001718Z
UID:68081-1731241800-1731263400@thepressboxlts.com
SUMMARY:Churchill Downs November Meet
DESCRIPTION:First Post: 12:45 p.m. ET \nPhoto by Coady Media
URL:https://thepressboxlts.com/event/churchill-downs-november-meet-9/
LOCATION:Churchill Downs\, Louisville\, KY\, United States
ATTACH;FMTTYPE=image/jpeg:https://thepressboxlts.com/wp-content/uploads/2024/09/THREE-TECHNIQUE-The-Ack-Ack-G3-32nd-Running-09-28-24-R08-Churchill-Downs-Inside-Finish-01-John-Gallagher-scaled.jpg
END:VEVENT
BEGIN:VEVENT
DTSTART;TZID=America/Kentucky/Louisville:20241109T123000
DTEND;TZID=America/Kentucky/Louisville:20241109T190000
DTSTAMP:20260421T054429
CREATED:20241104T001557Z
LAST-MODIFIED:20241104T001557Z
UID:68079-1731155400-1731178800@thepressboxlts.com
SUMMARY:Churchill Downs November Meet
DESCRIPTION:First Post: 12:45 p.m. ET \nPhoto by Coady Media
URL:https://thepressboxlts.com/event/churchill-downs-november-meet-8/
LOCATION:Churchill Downs\, Louisville\, KY\, United States
ATTACH;FMTTYPE=image/jpeg:https://thepressboxlts.com/wp-content/uploads/2024/10/SOVEREIGNTY-The-Street-Sense-G3-10-27-24-R10-Churchill-Downs-Inside-Finish-01-John-Gallagher-scaled.jpg
END:VEVENT
BEGIN:VEVENT
DTSTART;TZID=America/Kentucky/Louisville:20241108T123000
DTEND;TZID=America/Kentucky/Louisville:20241108T183000
DTSTAMP:20260421T054429
CREATED:20241104T001455Z
LAST-MODIFIED:20241104T001455Z
UID:68077-1731069000-1731090600@thepressboxlts.com
SUMMARY:Churchill Downs November Meet
DESCRIPTION:First Post: 12:45 p.m. ET \nPhoto by Coady Media:
URL:https://thepressboxlts.com/event/churchill-downs-november-meet-7/
LOCATION:Churchill Downs\, Louisville\, KY\, United States
ATTACH;FMTTYPE=image/jpeg:https://thepressboxlts.com/wp-content/uploads/2024/10/SOVEREIGNTY-The-Street-Sense-G3-10-27-24-R10-Churchill-Downs-Under-Rail-01-John-Gallagher-scaled.jpg
END:VEVENT
BEGIN:VEVENT
DTSTART;TZID=America/Kentucky/Louisville:20241107T140000
DTEND;TZID=America/Kentucky/Louisville:20241107T200000
DTSTAMP:20260421T054429
CREATED:20241104T002338Z
LAST-MODIFIED:20241104T002338Z
UID:68089-1730988000-1731009600@thepressboxlts.com
SUMMARY:Horseshoe Indianapolis Fall Meet
DESCRIPTION:First Post: 2:10 p.m. ET \nPhoto by Coady Media
URL:https://thepressboxlts.com/event/horseshoe-indianapolis-fall-meet-84/
ATTACH;FMTTYPE=image/jpeg:https://thepressboxlts.com/wp-content/uploads/2024/07/DIAMOND-SOLITAIRE-Checkered-Flag-28th-Running-06-26-24-R07-Horseshoe-Indiana-Finish-02-Sammantha-Pagels-scaled.jpg
END:VEVENT
BEGIN:VEVENT
DTSTART;TZID=America/Kentucky/Louisville:20241107T123000
DTEND;TZID=America/Kentucky/Louisville:20241107T183000
DTSTAMP:20260421T054429
CREATED:20241104T001322Z
LAST-MODIFIED:20241104T001322Z
UID:68075-1730982600-1731004200@thepressboxlts.com
SUMMARY:Churchill Downs November Meet
DESCRIPTION:First Post: 12:45 p.m. ET \nPhoto by Coady Media
URL:https://thepressboxlts.com/event/churchill-downs-november-meet-6/
LOCATION:Churchill Downs\, Louisville\, KY\, United States
ATTACH;FMTTYPE=image/jpeg:https://thepressboxlts.com/wp-content/uploads/2024/11/GULFPORT-The-Bet-On-Sunshine-16th-Running-11-02-24-R10-Churchill-Downs-Tight-Finish-01-Madison-Becker-scaled.jpg
END:VEVENT
BEGIN:VEVENT
DTSTART;TZID=America/Kentucky/Louisville:20241106T140000
DTEND;TZID=America/Kentucky/Louisville:20241106T200000
DTSTAMP:20260421T054429
CREATED:20241104T002228Z
LAST-MODIFIED:20241104T002228Z
UID:68087-1730901600-1730923200@thepressboxlts.com
SUMMARY:Horseshoe Indianapolis Fall Meet
DESCRIPTION:First Post: 2:10 p.m. ET \nPhoto by Coady Media
URL:https://thepressboxlts.com/event/horseshoe-indianapolis-fall-meet-83/
LOCATION:Horseshoe Indianapolis\, Shelbyville\, IN\, United States
ATTACH;FMTTYPE=image/jpeg:https://thepressboxlts.com/wp-content/uploads/2024/07/DRAGOON-GAURD-Indiana-Derby-30th-Running-G3-07-06-24-R12-Horseshoe-Indiana-Start-02-Renee-Torbit-scaled.jpg
END:VEVENT
BEGIN:VEVENT
DTSTART;TZID=America/Kentucky/Louisville:20241106T123000
DTEND;TZID=America/Kentucky/Louisville:20241106T183000
DTSTAMP:20260421T054429
CREATED:20241104T001212Z
LAST-MODIFIED:20241104T001212Z
UID:68073-1730896200-1730917800@thepressboxlts.com
SUMMARY:Churchill Downs November Meet
DESCRIPTION:First Post: 12:45 p.m. ET \nPhoto by Coady Media
URL:https://thepressboxlts.com/event/churchill-downs-november-meet-5/
LOCATION:Churchill Downs\, Louisville\, KY\, United States
ATTACH;FMTTYPE=image/jpeg:https://thepressboxlts.com/wp-content/uploads/2024/11/GULFPORT-The-Bet-On-Sunshine-16th-Running-11-02-24-R10-Churchill-Downs-Come-Back-01-Madison-Becker-scaled.jpg
END:VEVENT
BEGIN:VEVENT
DTSTART;TZID=America/Kentucky/Louisville:20241105T140000
DTEND;TZID=America/Kentucky/Louisville:20241105T200000
DTSTAMP:20260421T054429
CREATED:20241104T002126Z
LAST-MODIFIED:20241104T002126Z
UID:68085-1730815200-1730836800@thepressboxlts.com
SUMMARY:Horseshoe Indianapolis Fall Meet
DESCRIPTION:First Post: 2:10 p.m. ET \nPhoto by Coady Media
URL:https://thepressboxlts.com/event/horseshoe-indianapolis-fall-meet-82/
ATTACH;FMTTYPE=image/jpeg:https://thepressboxlts.com/wp-content/uploads/2024/07/CHARLENES-DREAM-Horseshoe-Indianapolis-15th-Running-07-13-24-R04-Horseshoe-Indiana-Finish-02-Sammantha-Pagels-scaled.jpg
END:VEVENT
BEGIN:VEVENT
DTSTART;TZID=America/Kentucky/Louisville:20241104T140000
DTEND;TZID=America/Kentucky/Louisville:20241104T200000
DTSTAMP:20260421T054429
CREATED:20241104T002014Z
LAST-MODIFIED:20241104T002014Z
UID:68083-1730728800-1730750400@thepressboxlts.com
SUMMARY:Horseshoe Indianapolis Fall Meet
DESCRIPTION:First Post: 2:10 p.m. ET \nPhoto by Coady Media
URL:https://thepressboxlts.com/event/horseshoe-indianapolis-fall-meet-81/
LOCATION:Horseshoe Indianapolis\, Shelbyville\, IN\, United States
ATTACH;FMTTYPE=image/jpeg:https://thepressboxlts.com/wp-content/uploads/2024/10/JAZZOLE-Circle-City-24th-Running-10-02-24-R11-Horseshoe-Indiana-Celebration-01-Ronald-Hisby-scaled.jpg
END:VEVENT
BEGIN:VEVENT
DTSTART;TZID=America/Kentucky/Louisville:20241027T130000
DTEND;TZID=America/Kentucky/Louisville:20241027T190000
DTSTAMP:20260421T054429
CREATED:20241021T162535Z
LAST-MODIFIED:20241021T162535Z
UID:67732-1730034000-1730055600@thepressboxlts.com
SUMMARY:Churchill Downs' Fall Meet
DESCRIPTION:First Post: 1 p.m. ET \nPhoto by Holly M. Smith
URL:https://thepressboxlts.com/event/churchill-downs-fall-meet-29/
LOCATION:Churchill Downs\, Louisville\, KY\, United States
ATTACH;FMTTYPE=image/jpeg:https://thepressboxlts.com/wp-content/uploads/2024/09/HMS_1130-bejanaro.jpg
END:VEVENT
BEGIN:VEVENT
DTSTART;TZID=America/Kentucky/Louisville:20241026T130000
DTEND;TZID=America/Kentucky/Louisville:20241026T183000
DTSTAMP:20260421T054429
CREATED:20241021T162231Z
LAST-MODIFIED:20241021T162231Z
UID:67730-1729947600-1729967400@thepressboxlts.com
SUMMARY:Keeneland October Meet
DESCRIPTION:First Post: 1 p.m. ET \nPhoto by Coady Media
URL:https://thepressboxlts.com/event/keeneland-october-meet-47/
LOCATION:Keeneland Race Course\, KY\, United States
ATTACH;FMTTYPE=image/jpeg:https://thepressboxlts.com/wp-content/uploads/2024/10/FUTURE-IS-NOW-The-Franklin-G2-28th-Running-10-13-24-R08-Keeneland-Race-Course-Come-Back-05-Stephen-Ibanez-scaled.jpg
END:VEVENT
BEGIN:VEVENT
DTSTART;TZID=America/Kentucky/Louisville:20241026T120000
DTEND;TZID=America/Kentucky/Louisville:20241026T180000
DTSTAMP:20260421T054429
CREATED:20241021T161108Z
LAST-MODIFIED:20241021T161108Z
UID:67722-1729944000-1729965600@thepressboxlts.com
SUMMARY:Horseshoe Indianapolis Fall Meet
DESCRIPTION:First Post: 2:10 p.m. ET \nPhoto by Coady Media
URL:https://thepressboxlts.com/event/horseshoe-indianapolis-fall-meet-80/
LOCATION:Horseshoe Indianapolis\, Shelbyville\, IN\, United States
END:VEVENT
END:VCALENDAR