BEGIN:VCALENDAR
VERSION:2.0
PRODID:-//The Pressbox - ECPv6.15.19//NONSGML v1.0//EN
CALSCALE:GREGORIAN
METHOD:PUBLISH
X-WR-CALNAME:The Pressbox
X-ORIGINAL-URL:https://thepressboxlts.com
X-WR-CALDESC:Events for The Pressbox
REFRESH-INTERVAL;VALUE=DURATION:PT1H
X-Robots-Tag:noindex
X-PUBLISHED-TTL:PT1H
BEGIN:VTIMEZONE
TZID:America/Kentucky/Louisville
BEGIN:DAYLIGHT
TZOFFSETFROM:-0500
TZOFFSETTO:-0400
TZNAME:EDT
DTSTART:20230312T070000
END:DAYLIGHT
BEGIN:STANDARD
TZOFFSETFROM:-0400
TZOFFSETTO:-0500
TZNAME:EST
DTSTART:20231105T060000
END:STANDARD
BEGIN:DAYLIGHT
TZOFFSETFROM:-0500
TZOFFSETTO:-0400
TZNAME:EDT
DTSTART:20240310T070000
END:DAYLIGHT
BEGIN:STANDARD
TZOFFSETFROM:-0400
TZOFFSETTO:-0500
TZNAME:EST
DTSTART:20241103T060000
END:STANDARD
BEGIN:DAYLIGHT
TZOFFSETFROM:-0500
TZOFFSETTO:-0400
TZNAME:EDT
DTSTART:20250309T070000
END:DAYLIGHT
BEGIN:STANDARD
TZOFFSETFROM:-0400
TZOFFSETTO:-0500
TZNAME:EST
DTSTART:20251102T060000
END:STANDARD
END:VTIMEZONE
BEGIN:VEVENT
DTSTART;TZID=America/Kentucky/Louisville:20241017T140000
DTEND;TZID=America/Kentucky/Louisville:20241017T190000
DTSTAMP:20260421T121505
CREATED:20241015T222353Z
LAST-MODIFIED:20241015T222353Z
UID:67657-1729173600-1729191600@thepressboxlts.com
SUMMARY:Horseshoe Indianapolis Fall Meet
DESCRIPTION:First Post: 2:10 p.m. ET \nPhoto by Coady Media
URL:https://thepressboxlts.com/event/horseshoe-indianapolis-fall-meet-76/
LOCATION:Horseshoe Indianapolis\, Shelbyville\, IN\, United States
ATTACH;FMTTYPE=image/jpeg:https://thepressboxlts.com/wp-content/uploads/2024/07/DIAMOND-SOLITAIRE-Checkered-Flag-28th-Running-06-26-24-R07-Horseshoe-Indiana-Finish-02-Sammantha-Pagels-scaled.jpg
END:VEVENT
BEGIN:VEVENT
DTSTART;TZID=America/Kentucky/Louisville:20241017T130000
DTEND;TZID=America/Kentucky/Louisville:20241017T183000
DTSTAMP:20260421T121505
CREATED:20241015T222640Z
LAST-MODIFIED:20241015T222640Z
UID:67661-1729170000-1729189800@thepressboxlts.com
SUMMARY:Keeneland October Meet
DESCRIPTION:First Post: 1 p.m. ET \nPhoto by Coady Media
URL:https://thepressboxlts.com/event/keeneland-october-meet-40/
LOCATION:Keeneland Race Course\, KY\, United States
ATTACH;FMTTYPE=image/jpeg:https://thepressboxlts.com/wp-content/uploads/2024/10/FUTURE-IS-NOW-The-Franklin-G2-28th-Running-10-13-24-R08-Keeneland-Race-Course-Paco-Lopez-01-Lauren-Johnson-scaled.jpg
END:VEVENT
BEGIN:VEVENT
DTSTART;TZID=America/Kentucky/Louisville:20241016T140000
DTEND;TZID=America/Kentucky/Louisville:20241016T190000
DTSTAMP:20260421T121505
CREATED:20241015T222229Z
LAST-MODIFIED:20241015T222229Z
UID:67655-1729087200-1729105200@thepressboxlts.com
SUMMARY:Horseshoe Indianapolis Fall Meet
DESCRIPTION:First Post: 2:10 p.m. ET \nPhoto by Coady Media
URL:https://thepressboxlts.com/event/horseshoe-indianapolis-fall-meet-75/
LOCATION:Horseshoe Indianapolis\, Shelbyville\, IN\, United States
ATTACH;FMTTYPE=image/jpeg:https://thepressboxlts.com/wp-content/uploads/2024/07/DRAGOON-GAURD-Indiana-Derby-30th-Running-G3-07-06-24-R12-Horseshoe-Indiana-Start-02-Renee-Torbit-scaled.jpg
END:VEVENT
BEGIN:VEVENT
DTSTART;TZID=America/Kentucky/Louisville:20241016T130000
DTEND;TZID=America/Kentucky/Louisville:20241016T183000
DTSTAMP:20260421T121505
CREATED:20241015T222530Z
LAST-MODIFIED:20241015T222530Z
UID:67659-1729083600-1729103400@thepressboxlts.com
SUMMARY:Keeneland October Meet
DESCRIPTION:First Post: 1 p.m. ET \nPhoto by Coady Media
URL:https://thepressboxlts.com/event/keeneland-october-meet-39/
LOCATION:Keeneland Race Course\, KY\, United States
ATTACH;FMTTYPE=image/jpeg:https://thepressboxlts.com/wp-content/uploads/2024/10/FUTURE-IS-NOW-The-Franklin-G2-28th-Running-10-13-24-R08-Keeneland-Race-Course-Post-Parade-01-Devin-Hall-scaled.jpg
END:VEVENT
BEGIN:VEVENT
DTSTART;TZID=America/Kentucky/Louisville:20241013T130000
DTEND;TZID=America/Kentucky/Louisville:20241013T183000
DTSTAMP:20260421T121505
CREATED:20241007T165516Z
LAST-MODIFIED:20241007T165516Z
UID:67579-1728824400-1728844200@thepressboxlts.com
SUMMARY:Keeneland October Meet
DESCRIPTION:First Post: 1:00 p.m. ET \nPhoto by Coady Media
URL:https://thepressboxlts.com/event/keeneland-october-meet-38/
LOCATION:Keeneland Race Course\, KY\, United States
ATTACH;FMTTYPE=image/jpeg:https://thepressboxlts.com/wp-content/uploads/2024/10/CARL-SPACKLER-The-Coolmore-Turf-Mile-G1-10-05-24-R10-Keeneland-Race-Course-Head-Shot-01-Renee-Torbit-scaled.jpg
END:VEVENT
BEGIN:VEVENT
DTSTART;TZID=America/Kentucky/Louisville:20241012T130000
DTEND;TZID=America/Kentucky/Louisville:20241012T183000
DTSTAMP:20260421T121505
CREATED:20241007T165404Z
LAST-MODIFIED:20241007T165404Z
UID:67577-1728738000-1728757800@thepressboxlts.com
SUMMARY:Keeneland October Meet
DESCRIPTION:First Post: 1:00 p.m. ET \nPhoto by Coady Media
URL:https://thepressboxlts.com/event/keeneland-october-meet-37/
LOCATION:Keeneland Race Course\, KY\, United States
ATTACH;FMTTYPE=image/jpeg:https://thepressboxlts.com/wp-content/uploads/2024/10/CARL-SPACKLER-The-Coolmore-Turf-Mile-G1-10-05-24-R10-Keeneland-Race-Course-Come-Back-01-Jenny-Doyle-scaled.jpg
END:VEVENT
BEGIN:VEVENT
DTSTART;TZID=America/Kentucky/Louisville:20241011T130000
DTEND;TZID=America/Kentucky/Louisville:20241011T183000
DTSTAMP:20260421T121505
CREATED:20241007T165300Z
LAST-MODIFIED:20241007T165300Z
UID:67575-1728651600-1728671400@thepressboxlts.com
SUMMARY:Keeneland October Meet
DESCRIPTION:First Post: 1:00 p.m. ET \nPhoto by Coady Media
URL:https://thepressboxlts.com/event/keeneland-october-meet-36/
LOCATION:Keeneland Race Course\, KY\, United States
ATTACH;FMTTYPE=image/jpeg:https://thepressboxlts.com/wp-content/uploads/2024/10/IDIOMATIC-The-Juddmonte-Spinster-G1-10-06-24-R09-Keeneland-Race-Course-Under-Rail-01-John-Gallagher-scaled.jpg
END:VEVENT
BEGIN:VEVENT
DTSTART;TZID=America/Kentucky/Louisville:20241010T140000
DTEND;TZID=America/Kentucky/Louisville:20241010T190000
DTSTAMP:20260421T121505
CREATED:20241007T164653Z
LAST-MODIFIED:20241007T164653Z
UID:67569-1728568800-1728586800@thepressboxlts.com
SUMMARY:Horseshoe Indianapolis Fall Meet
DESCRIPTION:First Post: 2:10 p.m. ET \nPhoto by Coady Media
URL:https://thepressboxlts.com/event/horseshoe-indianapolis-fall-meet-74/
LOCATION:Horseshoe Indianapolis\, Shelbyville\, IN\, United States
ATTACH;FMTTYPE=image/jpeg:https://thepressboxlts.com/wp-content/uploads/2024/07/DRAGOON-GAURD-Indiana-Derby-30th-Running-G3-07-06-24-R12-Horseshoe-Indiana-Finish-01-Samantha-Pagels-scaled.jpg
END:VEVENT
BEGIN:VEVENT
DTSTART;TZID=America/Kentucky/Louisville:20241010T130000
DTEND;TZID=America/Kentucky/Louisville:20241010T183000
DTSTAMP:20260421T121505
CREATED:20241007T165057Z
LAST-MODIFIED:20241007T165057Z
UID:67573-1728565200-1728585000@thepressboxlts.com
SUMMARY:Keeneland October Meet
DESCRIPTION:First Post: 1:00 p.m. ET \nPhoto by Coady Media
URL:https://thepressboxlts.com/event/keeneland-october-meet-35/
LOCATION:Keeneland Race Course\, KY\, United States
ATTACH;FMTTYPE=image/jpeg:https://thepressboxlts.com/wp-content/uploads/2024/10/MINARET-STATION-The-Castle-Key-Bourbon-G2-10-06-24-R10-Keeneland-Race-Course-Tight-Finish-01-Maddy-Becker-scaled.jpg
END:VEVENT
BEGIN:VEVENT
DTSTART;TZID=America/Kentucky/Louisville:20241009T140000
DTEND;TZID=America/Kentucky/Louisville:20241009T190000
DTSTAMP:20260421T121505
CREATED:20241007T164527Z
LAST-MODIFIED:20241007T164527Z
UID:67567-1728482400-1728500400@thepressboxlts.com
SUMMARY:Horseshoe Indianapolis Fall Meet
DESCRIPTION:First Post: 2:10 p.m. ET \nPhoto by Coady Media
URL:https://thepressboxlts.com/event/horseshoe-indianapolis-fall-meet-73/
LOCATION:Horseshoe Indianapolis\, Shelbyville\, IN\, United States
ATTACH;FMTTYPE=image/jpeg:https://thepressboxlts.com/wp-content/uploads/2024/07/LUCKY-JEREMY-Caesars-18th-Running-07-13-24-R05-Horseshoe-Indiana-Finish-02-Sammantha-Pagels-scaled.jpg
END:VEVENT
BEGIN:VEVENT
DTSTART;TZID=America/Kentucky/Louisville:20241009T130000
DTEND;TZID=America/Kentucky/Louisville:20241009T183000
DTSTAMP:20260421T121505
CREATED:20241007T164928Z
LAST-MODIFIED:20241007T164928Z
UID:67571-1728478800-1728498600@thepressboxlts.com
SUMMARY:Keeneland October Meet
DESCRIPTION:First Post: 1 p.m. ET \nPhoto by Coady Media
URL:https://thepressboxlts.com/event/keeneland-october-meet-34/
LOCATION:Keeneland Race Course\, KY\, United States
ATTACH;FMTTYPE=image/jpeg:https://thepressboxlts.com/wp-content/uploads/2024/10/MINARET-STATION-The-Castle-Key-Bourbon-G2-10-06-24-R10-Keeneland-Race-Course-Finish-03-Stephen-Ibanez-scaled.jpg
END:VEVENT
BEGIN:VEVENT
DTSTART;TZID=America/Kentucky/Louisville:20241008T140000
DTEND;TZID=America/Kentucky/Louisville:20241008T190000
DTSTAMP:20260421T121505
CREATED:20241007T164419Z
LAST-MODIFIED:20241007T164419Z
UID:67565-1728396000-1728414000@thepressboxlts.com
SUMMARY:Horseshoe Indianapolis Fall Meet
DESCRIPTION:First Post: 2:10 p.m. ET \nPhoto by Coady Media
URL:https://thepressboxlts.com/event/horseshoe-indianapolis-fall-meet-72/
LOCATION:Horseshoe Indianapolis\, Shelbyville\, IN\, United States
ATTACH;FMTTYPE=image/jpeg:https://thepressboxlts.com/wp-content/uploads/2024/07/CHARLENES-DREAM-Horseshoe-Indianapolis-15th-Running-07-13-24-R04-Horseshoe-Indiana-Finish-02-Sammantha-Pagels-scaled.jpg
END:VEVENT
BEGIN:VEVENT
DTSTART;TZID=America/Kentucky/Louisville:20241007T140000
DTEND;TZID=America/Kentucky/Louisville:20241007T190000
DTSTAMP:20260421T121505
CREATED:20241007T164228Z
LAST-MODIFIED:20241007T164228Z
UID:67563-1728309600-1728327600@thepressboxlts.com
SUMMARY:Horseshoe Indianapolis Fall Meet
DESCRIPTION:First Post: 2:10 p.m. ET \nPhoto by Coady Media \n 
URL:https://thepressboxlts.com/event/horseshoe-indianapolis-fall-meet-71/
LOCATION:Horseshoe Indianapolis\, Shelbyville\, IN\, United States
ATTACH;FMTTYPE=image/jpeg:https://thepressboxlts.com/wp-content/uploads/2024/07/DRAGOON-GAURD-Indiana-Derby-30th-Running-G3-07-06-24-R12-Horseshoe-Indiana-Start-02-Renee-Torbit-scaled.jpg
END:VEVENT
BEGIN:VEVENT
DTSTART;TZID=America/Kentucky/Louisville:20241006T130000
DTEND;TZID=America/Kentucky/Louisville:20241006T183000
DTSTAMP:20260421T121505
CREATED:20240930T152642Z
LAST-MODIFIED:20240930T152642Z
UID:67266-1728219600-1728239400@thepressboxlts.com
SUMMARY:Keeneland October Meet
DESCRIPTION:First Post: 1 p.m. ET \nPhoto by Coady Media
URL:https://thepressboxlts.com/event/keeneland-october-meet-33/
LOCATION:Keeneland Race Course\, KY\, United States
ATTACH;FMTTYPE=image/jpeg:https://thepressboxlts.com/wp-content/uploads/2024/04/BEAUTE-CACHEE-The-Jenny-Wiley-G1-36th-Running-04-13-24-RRace-9-Keeneland-Race-Course-Flying-Dismount-01-Kurtis-Coady-scaled.jpg
END:VEVENT
BEGIN:VEVENT
DTSTART;TZID=America/Kentucky/Louisville:20241005T130000
DTEND;TZID=America/Kentucky/Louisville:20241005T183000
DTSTAMP:20260421T121505
CREATED:20240930T152253Z
LAST-MODIFIED:20240930T152253Z
UID:67264-1728133200-1728153000@thepressboxlts.com
SUMMARY:Keeneland October Meet
DESCRIPTION:First Post: 1 p.m. ET \nPhoto by Coady Media
URL:https://thepressboxlts.com/event/keeneland-october-meet-32/
LOCATION:Keeneland Race Course\, KY\, United States
ATTACH;FMTTYPE=image/jpeg:https://thepressboxlts.com/wp-content/uploads/2024/04/RAGING-SEA-The-Baird-Doubledogdare-G3-29th-Running-04-19-24-R09-Keeneland-Race-Course-Under-Rail-Start-01-Jetta-Vaughns-scaled.jpg
END:VEVENT
BEGIN:VEVENT
DTSTART;TZID=America/Kentucky/Louisville:20241005T103000
DTEND;TZID=America/Kentucky/Louisville:20241005T130000
DTSTAMP:20260421T121505
CREATED:20240930T151644Z
LAST-MODIFIED:20240930T151644Z
UID:67260-1728124200-1728133200@thepressboxlts.com
SUMMARY:Horseshoe Indianapolis Fall Meet
DESCRIPTION:Quarter Horse Day  \nFirst Post: 10:45 a.m. ET \nPhoto by Coady Media
URL:https://thepressboxlts.com/event/horseshoe-indianapolis-fall-meet-70/
LOCATION:Horseshoe Indianapolis\, Shelbyville\, IN\, United States
END:VEVENT
BEGIN:VEVENT
DTSTART;TZID=America/Kentucky/Louisville:20241004T130000
DTEND;TZID=America/Kentucky/Louisville:20241004T183000
DTSTAMP:20260421T121505
CREATED:20240930T152139Z
LAST-MODIFIED:20240930T152139Z
UID:67262-1728046800-1728066600@thepressboxlts.com
SUMMARY:Keeneland October Meet
DESCRIPTION:First Post: 1 p.m. ET \nPhoto by Coady Media
URL:https://thepressboxlts.com/event/keeneland-october-meet-31/
LOCATION:Keeneland Race Course\, KY\, United States
ATTACH;FMTTYPE=image/jpeg:https://thepressboxlts.com/wp-content/uploads/2024/04/KINGSBARNS-The-Ben-Ali-G3-93rd-Running-04-20-24-R09-Keeneland-Race-Course-Under-Rail-01-John-Gallagher-scaled.jpg
END:VEVENT
BEGIN:VEVENT
DTSTART;TZID=America/Kentucky/Louisville:20241003T140000
DTEND;TZID=America/Kentucky/Louisville:20241003T193000
DTSTAMP:20260421T121505
CREATED:20240930T151255Z
LAST-MODIFIED:20240930T151255Z
UID:67258-1727964000-1727983800@thepressboxlts.com
SUMMARY:Horseshoe Indianapolis Fall Meet
DESCRIPTION:First Post: 2:10 p.m. ET \nPhoto by Coady Media
URL:https://thepressboxlts.com/event/horseshoe-indianapolis-fall-meet-69/
LOCATION:Horseshoe Indianapolis\, Shelbyville\, IN\, United States
ATTACH;FMTTYPE=image/jpeg:https://thepressboxlts.com/wp-content/uploads/2024/07/DRAGOON-GAURD-Indiana-Derby-30th-Running-G3-07-06-24-R12-Horseshoe-Indiana-Finish-01-Samantha-Pagels-scaled.jpg
END:VEVENT
BEGIN:VEVENT
DTSTART;TZID=America/Kentucky/Louisville:20241002T140000
DTEND;TZID=America/Kentucky/Louisville:20241002T193000
DTSTAMP:20260421T121505
CREATED:20240930T151029Z
LAST-MODIFIED:20240930T151029Z
UID:67256-1727877600-1727897400@thepressboxlts.com
SUMMARY:Horseshoe Indianapolis Fall Meet
DESCRIPTION:First Post: 2:10 p.m. ET \nPhoto by Coady Media
URL:https://thepressboxlts.com/event/horseshoe-indianapolis-fall-meet-68/
LOCATION:Horseshoe Indianapolis\, Shelbyville\, IN\, United States
ATTACH;FMTTYPE=image/jpeg:https://thepressboxlts.com/wp-content/uploads/2024/07/DIAMOND-SOLITAIRE-Checkered-Flag-28th-Running-06-26-24-R07-Horseshoe-Indiana-Finish-02-Sammantha-Pagels-scaled.jpg
END:VEVENT
BEGIN:VEVENT
DTSTART;TZID=America/Kentucky/Louisville:20241001T140000
DTEND;TZID=America/Kentucky/Louisville:20241001T193000
DTSTAMP:20260421T121505
CREATED:20240930T150804Z
LAST-MODIFIED:20240930T150804Z
UID:67254-1727791200-1727811000@thepressboxlts.com
SUMMARY:Horseshoe Indianapolis Fall Meet
DESCRIPTION:First Post: 2:10 p.m. ET \nPhoto by Coady Media
URL:https://thepressboxlts.com/event/horseshoe-indianapolis-fall-meet-67/
LOCATION:Horseshoe Indianapolis\, Shelbyville\, IN\, United States
ATTACH;FMTTYPE=image/jpeg:https://thepressboxlts.com/wp-content/uploads/2024/07/DRAGOON-GAURD-Indiana-Derby-30th-Running-G3-07-06-24-R12-Horseshoe-Indiana-Paddock-02-Samantha-Pagels-scaled.jpg
END:VEVENT
BEGIN:VEVENT
DTSTART;TZID=America/Kentucky/Louisville:20240930T140000
DTEND;TZID=America/Kentucky/Louisville:20240930T193000
DTSTAMP:20260421T121505
CREATED:20240930T145722Z
LAST-MODIFIED:20240930T145722Z
UID:67252-1727704800-1727724600@thepressboxlts.com
SUMMARY:Horseshoe Indianapolis Fall Meet
DESCRIPTION:First Post: 2:10 p.m. ET \nPhoto by Coady Media
URL:https://thepressboxlts.com/event/horseshoe-indianapolis-fall-meet-66/
LOCATION:Horseshoe Indianapolis\, Shelbyville\, IN\, United States
ATTACH;FMTTYPE=image/jpeg:https://thepressboxlts.com/wp-content/uploads/2024/07/DRAGOON-GAURD-Indiana-Derby-30th-Running-G3-07-06-24-R12-Horseshoe-Indiana-Start-02-Renee-Torbit-scaled.jpg
END:VEVENT
BEGIN:VEVENT
DTSTART;TZID=America/Kentucky/Louisville:20240929T123000
DTEND;TZID=America/Kentucky/Louisville:20240929T190000
DTSTAMP:20260421T121505
CREATED:20240924T181738Z
LAST-MODIFIED:20240924T181819Z
UID:67176-1727613000-1727636400@thepressboxlts.com
SUMMARY:Churchill Downs' September Meet
DESCRIPTION:First Post: 12:45 p.m. ET \nFinal Day of September Meet \nPhoto by Holly M. Smith
URL:https://thepressboxlts.com/event/churchill-downs-september-meet-30/
LOCATION:Churchill Downs\, Louisville\, KY\, United States
ATTACH;FMTTYPE=image/jpeg:https://thepressboxlts.com/wp-content/uploads/2024/09/HMS_0287.jpg
END:VEVENT
BEGIN:VEVENT
DTSTART;TZID=America/Kentucky/Louisville:20240928T180000
DTEND;TZID=America/Kentucky/Louisville:20240928T230000
DTSTAMP:20260421T121505
CREATED:20240924T181554Z
LAST-MODIFIED:20240924T181554Z
UID:67174-1727546400-1727564400@thepressboxlts.com
SUMMARY:Churchill Downs' September Meet
DESCRIPTION:First Post: 6:00 p.m. ET \nDowns After Dark \nPhoto by Holly M. Smith
URL:https://thepressboxlts.com/event/churchill-downs-september-meet-29/
LOCATION:Churchill Downs\, Louisville\, KY\, United States
ATTACH;FMTTYPE=image/jpeg:https://thepressboxlts.com/wp-content/uploads/2024/09/HMS_0444-simpy-in-front.jpg
END:VEVENT
BEGIN:VEVENT
DTSTART;TZID=America/Kentucky/Louisville:20240927T123000
DTEND;TZID=America/Kentucky/Louisville:20240927T190000
DTSTAMP:20260421T121505
CREATED:20240924T181436Z
LAST-MODIFIED:20240924T181436Z
UID:67172-1727440200-1727463600@thepressboxlts.com
SUMMARY:Churchill Downs' September Meet
DESCRIPTION:First Post: 12:45 p.m. ET \nPhoto by Holly M. Smith
URL:https://thepressboxlts.com/event/churchill-downs-september-meet-28/
LOCATION:Churchill Downs\, Louisville\, KY\, United States
ATTACH;FMTTYPE=image/jpeg:https://thepressboxlts.com/wp-content/uploads/2024/09/HMS_0805.jpg
END:VEVENT
BEGIN:VEVENT
DTSTART;TZID=America/Kentucky/Louisville:20240926T170000
DTEND;TZID=America/Kentucky/Louisville:20240926T220000
DTSTAMP:20260421T121505
CREATED:20240924T181333Z
LAST-MODIFIED:20240924T181333Z
UID:67170-1727370000-1727388000@thepressboxlts.com
SUMMARY:Churchill Downs' September Meet
DESCRIPTION:First Post: 5 p.m. ET \nPhoto by Holly M. Smith
URL:https://thepressboxlts.com/event/churchill-downs-september-meet-27/
LOCATION:Churchill Downs\, Louisville\, KY\, United States
ATTACH;FMTTYPE=image/jpeg:https://thepressboxlts.com/wp-content/uploads/2024/09/HMS_1120.jpg
END:VEVENT
BEGIN:VEVENT
DTSTART;TZID=America/Kentucky/Louisville:20240926T140000
DTEND;TZID=America/Kentucky/Louisville:20240926T190000
DTSTAMP:20260421T121505
CREATED:20240924T181010Z
LAST-MODIFIED:20240924T181010Z
UID:67166-1727359200-1727377200@thepressboxlts.com
SUMMARY:Horseshoe Indianapolis Fall Meet
DESCRIPTION:First Post: 2:10 p.m. ET \nPhoto by Coady Media
URL:https://thepressboxlts.com/event/horseshoe-indianapolis-fall-meet-65/
LOCATION:Horseshoe Indianapolis\, Shelbyville\, IN\, United States
ATTACH;FMTTYPE=image/jpeg:https://thepressboxlts.com/wp-content/uploads/2024/07/DRAGOON-GAURD-Indiana-Derby-30th-Running-G3-07-06-24-R12-Horseshoe-Indiana-Finish-01-Samantha-Pagels-scaled.jpg
END:VEVENT
BEGIN:VEVENT
DTSTART;TZID=America/Kentucky/Louisville:20240925T140000
DTEND;TZID=America/Kentucky/Louisville:20240925T190000
DTSTAMP:20260421T121505
CREATED:20240924T180901Z
LAST-MODIFIED:20240924T180901Z
UID:67164-1727272800-1727290800@thepressboxlts.com
SUMMARY:Horseshoe Indianapolis Fall Meet
DESCRIPTION:First Post: 2:10 p.m. ET \nPhoto by Coady Media
URL:https://thepressboxlts.com/event/horseshoe-indianapolis-fall-meet-64/
LOCATION:Horseshoe Indianapolis\, Shelbyville\, IN\, United States
ATTACH;FMTTYPE=image/jpeg:https://thepressboxlts.com/wp-content/uploads/2024/07/LUCKY-JEREMY-Caesars-18th-Running-07-13-24-R05-Horseshoe-Indiana-Finish-02-Sammantha-Pagels-scaled.jpg
END:VEVENT
BEGIN:VEVENT
DTSTART;TZID=America/Kentucky/Louisville:20240925T123000
DTEND;TZID=America/Kentucky/Louisville:20240925T190000
DTSTAMP:20260421T121505
CREATED:20240924T181220Z
LAST-MODIFIED:20240924T181220Z
UID:67168-1727267400-1727290800@thepressboxlts.com
SUMMARY:Churchill Downs' September Meet
DESCRIPTION:First Post: 12:45 p.m. ET \nPhoto by Holly M. Smith
URL:https://thepressboxlts.com/event/churchill-downs-september-meet-26/
LOCATION:Churchill Downs\, Louisville\, KY\, United States
ATTACH;FMTTYPE=image/jpeg:https://thepressboxlts.com/wp-content/uploads/2024/09/HMS_1130-bejanaro.jpg
END:VEVENT
BEGIN:VEVENT
DTSTART;TZID=America/Kentucky/Louisville:20240924T140000
DTEND;TZID=America/Kentucky/Louisville:20240924T190000
DTSTAMP:20260421T121505
CREATED:20240924T180734Z
LAST-MODIFIED:20240924T180734Z
UID:67162-1727186400-1727204400@thepressboxlts.com
SUMMARY:Horseshoe Indianapolis Fall Meet
DESCRIPTION:First Post: 2:10 p.m. ET \nPhoto by Coady Media
URL:https://thepressboxlts.com/event/horseshoe-indianapolis-fall-meet-63/
LOCATION:Horseshoe Indianapolis\, Shelbyville\, IN\, United States
ATTACH;FMTTYPE=image/jpeg:https://thepressboxlts.com/wp-content/uploads/2024/07/DRAGOON-GAURD-Indiana-Derby-30th-Running-G3-07-06-24-R12-Horseshoe-Indiana-Start-02-Renee-Torbit-scaled.jpg
END:VEVENT
BEGIN:VEVENT
DTSTART;TZID=America/Kentucky/Louisville:20240922T123000
DTEND;TZID=America/Kentucky/Louisville:20240922T190000
DTSTAMP:20260421T121505
CREATED:20240916T002954Z
LAST-MODIFIED:20240916T002954Z
UID:66987-1727008200-1727031600@thepressboxlts.com
SUMMARY:Churchill Downs' September Meet
DESCRIPTION:First Post: 12:45 p.m. ET \nPhoto by Holly M. Smith \n 
URL:https://thepressboxlts.com/event/churchill-downs-september-meet-25/
LOCATION:Churchill Downs\, Louisville\, KY\, United States
END:VEVENT
END:VCALENDAR