BEGIN:VCALENDAR
VERSION:2.0
PRODID:-//The Pressbox - ECPv6.15.19//NONSGML v1.0//EN
CALSCALE:GREGORIAN
METHOD:PUBLISH
X-WR-CALNAME:The Pressbox
X-ORIGINAL-URL:https://thepressboxlts.com
X-WR-CALDESC:Events for The Pressbox
REFRESH-INTERVAL;VALUE=DURATION:PT1H
X-Robots-Tag:noindex
X-PUBLISHED-TTL:PT1H
BEGIN:VTIMEZONE
TZID:America/Kentucky/Louisville
BEGIN:DAYLIGHT
TZOFFSETFROM:-0500
TZOFFSETTO:-0400
TZNAME:EDT
DTSTART:20230312T070000
END:DAYLIGHT
BEGIN:STANDARD
TZOFFSETFROM:-0400
TZOFFSETTO:-0500
TZNAME:EST
DTSTART:20231105T060000
END:STANDARD
BEGIN:DAYLIGHT
TZOFFSETFROM:-0500
TZOFFSETTO:-0400
TZNAME:EDT
DTSTART:20240310T070000
END:DAYLIGHT
BEGIN:STANDARD
TZOFFSETFROM:-0400
TZOFFSETTO:-0500
TZNAME:EST
DTSTART:20241103T060000
END:STANDARD
BEGIN:DAYLIGHT
TZOFFSETFROM:-0500
TZOFFSETTO:-0400
TZNAME:EDT
DTSTART:20250309T070000
END:DAYLIGHT
BEGIN:STANDARD
TZOFFSETFROM:-0400
TZOFFSETTO:-0500
TZNAME:EST
DTSTART:20251102T060000
END:STANDARD
END:VTIMEZONE
BEGIN:VEVENT
DTSTART;TZID=America/Kentucky/Louisville:20240810T133000
DTEND;TZID=America/Kentucky/Louisville:20240810T190000
DTSTAMP:20260421T163036
CREATED:20240804T160019Z
LAST-MODIFIED:20240804T160019Z
UID:65873-1723296600-1723316400@thepressboxlts.com
SUMMARY:Colonial Downs' Summer Meet
DESCRIPTION:First Post: 1:30 p.m. ET \nPhoto by Coady Media
URL:https://thepressboxlts.com/event/colonial-downs-summer-meet-11/
LOCATION:Colonial Downs
ATTACH;FMTTYPE=image/jpeg:https://thepressboxlts.com/wp-content/uploads/2024/08/WORLD-FACTOR-08-03-24-R04-Colonial-Downs-001-scaled.jpg
END:VEVENT
BEGIN:VEVENT
DTSTART;TZID=America/Kentucky/Louisville:20240810T103000
DTEND;TZID=America/Kentucky/Louisville:20240810T160000
DTSTAMP:20260421T163036
CREATED:20240804T155508Z
LAST-MODIFIED:20240804T155508Z
UID:65866-1723285800-1723305600@thepressboxlts.com
SUMMARY:Horseshoe Indianapolis Summer Meet
DESCRIPTION:First Post: 10:45 a.m. ET \nQuarter Horse Day \nPhoto by Coady Media
URL:https://thepressboxlts.com/event/horseshoe-indianapolis-summer-meet-126/
LOCATION:Horseshoe Indianapolis\, Shelbyville\, IN\, United States
ATTACH;FMTTYPE=image/jpeg:https://thepressboxlts.com/wp-content/uploads/2024/07/DIAMOND-SOLITAIRE-Checkered-Flag-28th-Running-06-26-24-R07-Horseshoe-Indiana-Finish-02-Sammantha-Pagels-scaled.jpg
END:VEVENT
BEGIN:VEVENT
DTSTART;TZID=America/Kentucky/Louisville:20240809T163000
DTEND;TZID=America/Kentucky/Louisville:20240809T210000
DTSTAMP:20260421T163036
CREATED:20240804T155901Z
LAST-MODIFIED:20240804T155901Z
UID:65870-1723221000-1723237200@thepressboxlts.com
SUMMARY:Colonial Downs' Summer Meet
DESCRIPTION:First Post: 4:30 p.m. ET \nPhoto by Coady Media
URL:https://thepressboxlts.com/event/colonial-downs-summer-meet-10/
LOCATION:Colonial Downs
ATTACH;FMTTYPE=image/jpeg:https://thepressboxlts.com/wp-content/uploads/2024/08/CANDYCRUMBS-The-Hickory-Tree-Stakes-08-03-24-R06-Colonial-Downs-001-scaled.jpg
END:VEVENT
BEGIN:VEVENT
DTSTART;TZID=America/Kentucky/Louisville:20240808T140000
DTEND;TZID=America/Kentucky/Louisville:20240808T193000
DTSTAMP:20260421T163036
CREATED:20240804T155337Z
LAST-MODIFIED:20240804T155337Z
UID:65864-1723125600-1723145400@thepressboxlts.com
SUMMARY:Horseshoe Indianapolis Summer Meet
DESCRIPTION:First Post: 2:10 p.m. ET \nPhoto by Coady Media
URL:https://thepressboxlts.com/event/horseshoe-indianapolis-summer-meet-125/
LOCATION:Horseshoe Indianapolis\, Shelbyville\, IN\, United States
END:VEVENT
BEGIN:VEVENT
DTSTART;TZID=America/Kentucky/Louisville:20240808T133000
DTEND;TZID=America/Kentucky/Louisville:20240808T173000
DTSTAMP:20260421T163036
CREATED:20240804T155657Z
LAST-MODIFIED:20240804T155657Z
UID:65868-1723123800-1723138200@thepressboxlts.com
SUMMARY:Colonial Downs' Summer Meet
DESCRIPTION:First Post: 1:30 p.m. ET \nPhoto by Coady Media \n 
URL:https://thepressboxlts.com/event/colonial-downs-summer-meet-9/
LOCATION:Colonial Downs
ATTACH;FMTTYPE=image/jpeg:https://thepressboxlts.com/wp-content/uploads/2024/07/WAITTILMIDNITEHOUR-07-19-24-R08-Colonial-Downs-001-scaled.jpg
END:VEVENT
BEGIN:VEVENT
DTSTART;TZID=America/Kentucky/Louisville:20240807T140000
DTEND;TZID=America/Kentucky/Louisville:20240807T193000
DTSTAMP:20260421T163036
CREATED:20240804T155220Z
LAST-MODIFIED:20240804T155220Z
UID:65862-1723039200-1723059000@thepressboxlts.com
SUMMARY:Horseshoe Indianapolis Summer Meet
DESCRIPTION:First Post: 2:10 p.m. ET \nPhoto by Coady Media \n 
URL:https://thepressboxlts.com/event/horseshoe-indianapolis-summer-meet-124/
LOCATION:Horseshoe Indianapolis\, Shelbyville\, IN\, United States
ATTACH;FMTTYPE=image/jpeg:https://thepressboxlts.com/wp-content/uploads/2024/07/DRAGOON-GAURD-Indiana-Derby-30th-Running-G3-07-06-24-R12-Horseshoe-Indiana-Start-02-Renee-Torbit-scaled.jpg
END:VEVENT
BEGIN:VEVENT
DTSTART;TZID=America/Kentucky/Louisville:20240806T140000
DTEND;TZID=America/Kentucky/Louisville:20240806T190000
DTSTAMP:20260421T163036
CREATED:20240804T155057Z
LAST-MODIFIED:20240804T155057Z
UID:65860-1722952800-1722970800@thepressboxlts.com
SUMMARY:Horseshoe Indianapolis Summer Meet
DESCRIPTION:First Post: 2:10 p.m. ET \nPhoto by Coady Media
URL:https://thepressboxlts.com/event/horseshoe-indianapolis-summer-meet-123/
LOCATION:Horseshoe Indianapolis\, Shelbyville\, IN\, United States
ATTACH;FMTTYPE=image/jpeg:https://thepressboxlts.com/wp-content/uploads/2024/08/THREE-COATS-Indiana-First-Lady-21st-Running-07-31-24-R09-Horseshoe-Indiana-Post-Parade-02-Sammantha-Pagels-scaled.jpg
END:VEVENT
BEGIN:VEVENT
DTSTART;TZID=America/Kentucky/Louisville:20240805T140000
DTEND;TZID=America/Kentucky/Louisville:20240805T193000
DTSTAMP:20260421T163036
CREATED:20240804T154957Z
LAST-MODIFIED:20240804T154957Z
UID:65858-1722866400-1722886200@thepressboxlts.com
SUMMARY:Horseshoe Indianapolis Summer Meet
DESCRIPTION:First Post: 2:10 p.m. ET \nPhoto by Coady Media
URL:https://thepressboxlts.com/event/horseshoe-indianapolis-summer-meet-122/
LOCATION:Horseshoe Indianapolis\, Shelbyville\, IN\, United States
ATTACH;FMTTYPE=image/jpeg:https://thepressboxlts.com/wp-content/uploads/2024/08/DEMOLISHER-Governors-Handicap-20th-Running-07-31-24-R10-Horseshoe-Indiana-Finish-02-Sammantha-Pagels-scaled.jpg
END:VEVENT
BEGIN:VEVENT
DTSTART;TZID=America/Kentucky/Louisville:20240805T113000
DTEND;TZID=America/Kentucky/Louisville:20240805T180000
DTSTAMP:20260421T163036
CREATED:20240804T154807Z
LAST-MODIFIED:20240804T154807Z
UID:65856-1722857400-1722880800@thepressboxlts.com
SUMMARY:Ellis Park Summer Meet
DESCRIPTION:First Post: 11:50 a.m. CT \nPhoto by Coady Media
URL:https://thepressboxlts.com/event/ellis-park-summer-meet-66/
LOCATION:Ellis Park\, Henderson\, KY\, United States
ATTACH;FMTTYPE=image/jpeg:https://thepressboxlts.com/wp-content/uploads/2024/08/AWESOME-TREAT-KY-Downs-Preview-Ladies-Turf-Sprint-6th-Running-08-03-24-R07-Ellis-Park-Head-On-01-scaled.jpg
END:VEVENT
BEGIN:VEVENT
DTSTART;TZID=America/Kentucky/Louisville:20240804T113000
DTEND;TZID=America/Kentucky/Louisville:20240804T183000
DTSTAMP:20260421T163036
CREATED:20240730T151222Z
LAST-MODIFIED:20240730T151222Z
UID:65753-1722771000-1722796200@thepressboxlts.com
SUMMARY:Ellis Park Summer Meet
DESCRIPTION:First Post: 11:50 a.m. CT \nPhoto by Holly M. Smith
URL:https://thepressboxlts.com/event/ellis-park-summer-meet-65/
LOCATION:Ellis Park\, Henderson\, KY\, United States
END:VEVENT
BEGIN:VEVENT
DTSTART;TZID=America/Kentucky/Louisville:20240803T133000
DTEND;TZID=America/Kentucky/Louisville:20240803T193000
DTSTAMP:20260421T163036
CREATED:20240730T150445Z
LAST-MODIFIED:20240730T150445Z
UID:65746-1722691800-1722713400@thepressboxlts.com
SUMMARY:Colonial Downs Summer Meet
DESCRIPTION:First Post: 1:30 p.m. ET \nPhoto by Coady Media
URL:https://thepressboxlts.com/event/colonial-downs-summer-meet-8/
LOCATION:Colonial Downs
END:VEVENT
BEGIN:VEVENT
DTSTART;TZID=America/Kentucky/Louisville:20240803T113000
DTEND;TZID=America/Kentucky/Louisville:20240803T183000
DTSTAMP:20260421T163036
CREATED:20240730T151047Z
LAST-MODIFIED:20240730T151047Z
UID:65751-1722684600-1722709800@thepressboxlts.com
SUMMARY:Ellis Park Summer Meet
DESCRIPTION:First Post: 11:50 a.m. CT \nPhoto by Holly M. Smith
URL:https://thepressboxlts.com/event/ellis-park-summer-meet-64/
LOCATION:Ellis Park\, Henderson\, KY\, United States
END:VEVENT
BEGIN:VEVENT
DTSTART;TZID=America/Kentucky/Louisville:20240802T163000
DTEND;TZID=America/Kentucky/Louisville:20240802T223000
DTSTAMP:20260421T163036
CREATED:20240730T150332Z
LAST-MODIFIED:20240730T150332Z
UID:65744-1722616200-1722637800@thepressboxlts.com
SUMMARY:Colonial Downs Summer Meet
DESCRIPTION:First Post: 4:30 p.m. ET \nPhoto by Coady Media
URL:https://thepressboxlts.com/event/colonial-downs-summer-meet-7/
LOCATION:Colonial Downs
END:VEVENT
BEGIN:VEVENT
DTSTART;TZID=America/Kentucky/Louisville:20240802T113000
DTEND;TZID=America/Kentucky/Louisville:20240802T183000
DTSTAMP:20260421T163036
CREATED:20240730T150933Z
LAST-MODIFIED:20240730T150933Z
UID:65749-1722598200-1722623400@thepressboxlts.com
SUMMARY:Ellis Park Summer Meet
DESCRIPTION:Fist Post: 11:50 a.m. CT \nPhoto by Holly M. Smith
URL:https://thepressboxlts.com/event/ellis-park-summer-meet-63/
LOCATION:Ellis Park\, Henderson\, KY\, United States
END:VEVENT
BEGIN:VEVENT
DTSTART;TZID=America/Kentucky/Louisville:20240801T140000
DTEND;TZID=America/Kentucky/Louisville:20240801T190000
DTSTAMP:20260421T163036
CREATED:20240730T145611Z
LAST-MODIFIED:20240730T150708Z
UID:65739-1722520800-1722538800@thepressboxlts.com
SUMMARY:Horseshoe Indianapolis Summer Meet
DESCRIPTION:First Post: 2:10 p.m. ET \nPhoto by Coady Media
URL:https://thepressboxlts.com/event/horseshoe-indianapolis-summer-meet-121/
LOCATION:Horseshoe Indianapolis\, Shelbyville\, IN\, United States
ATTACH;FMTTYPE=image/jpeg:https://thepressboxlts.com/wp-content/uploads/2024/07/DRAGOON-GAURD-Indiana-Derby-30th-Running-G3-07-06-24-R12-Horseshoe-Indiana-Paddock-02-Samantha-Pagels-scaled.jpg
END:VEVENT
BEGIN:VEVENT
DTSTART;TZID=America/Kentucky/Louisville:20240801T133000
DTEND;TZID=America/Kentucky/Louisville:20240801T183000
DTSTAMP:20260421T163036
CREATED:20240730T150130Z
LAST-MODIFIED:20240730T150130Z
UID:65741-1722519000-1722537000@thepressboxlts.com
SUMMARY:Colonial Downs Summer Meet
DESCRIPTION:First Post: 1:30 p.m. ET \nPhoto by Coady Media
URL:https://thepressboxlts.com/event/colonial-downs-summer-meet-6/
LOCATION:Colonial Downs
ATTACH;FMTTYPE=image/jpeg:https://thepressboxlts.com/wp-content/uploads/2024/07/WAITTILMIDNITEHOUR-07-19-24-R08-Colonial-Downs-001-scaled.jpg
END:VEVENT
BEGIN:VEVENT
DTSTART;TZID=America/Kentucky/Louisville:20240731T140000
DTEND;TZID=America/Kentucky/Louisville:20240731T190000
DTSTAMP:20260421T163036
CREATED:20240730T145448Z
LAST-MODIFIED:20240730T145448Z
UID:65737-1722434400-1722452400@thepressboxlts.com
SUMMARY:Horseshoe Indianapolis Summer Meet
DESCRIPTION:First Post: 2:10 p.m. ET \nPhoto by Coady Media
URL:https://thepressboxlts.com/event/horseshoe-indianapolis-summer-meet-120/
LOCATION:Horseshoe Indianapolis\, Shelbyville\, IN\, United States
ATTACH;FMTTYPE=image/jpeg:https://thepressboxlts.com/wp-content/uploads/2024/07/DIAMOND-SOLITAIRE-Checkered-Flag-28th-Running-06-26-24-R07-Horseshoe-Indiana-Finish-02-Sammantha-Pagels-scaled.jpg
END:VEVENT
BEGIN:VEVENT
DTSTART;TZID=America/Kentucky/Louisville:20240730T140000
DTEND;TZID=America/Kentucky/Louisville:20240730T190000
DTSTAMP:20260421T163036
CREATED:20240730T145230Z
LAST-MODIFIED:20240730T145230Z
UID:65735-1722348000-1722366000@thepressboxlts.com
SUMMARY:Horseshoe Indianapolis Summer Meet
DESCRIPTION:First Post: 2:10 p.m. ET \nPhoto by Coady Media
URL:https://thepressboxlts.com/event/horseshoe-indianapolis-summer-meet-119/
LOCATION:Horseshoe Indianapolis\, Shelbyville\, IN\, United States
ATTACH;FMTTYPE=image/jpeg:https://thepressboxlts.com/wp-content/uploads/2024/07/DRAGOON-GAURD-Indiana-Derby-30th-Running-G3-07-06-24-R12-Horseshoe-Indiana-Start-02-Renee-Torbit-scaled.jpg
END:VEVENT
BEGIN:VEVENT
DTSTART;TZID=America/Kentucky/Louisville:20240729T113000
DTEND;TZID=America/Kentucky/Louisville:20240729T183000
DTSTAMP:20260421T163036
CREATED:20240724T174756Z
LAST-MODIFIED:20240724T174756Z
UID:65608-1722252600-1722277800@thepressboxlts.com
SUMMARY:Ellis Park Summer Meet
DESCRIPTION:First Post: 11:50 a.m. CT \nPhoto by Holly M. Smith
URL:https://thepressboxlts.com/event/ellis-park-summer-meet-62/
LOCATION:Ellis Park\, Henderson\, KY\, United States
END:VEVENT
BEGIN:VEVENT
DTSTART;TZID=America/Kentucky/Louisville:20240728T113000
DTEND;TZID=America/Kentucky/Louisville:20240728T183000
DTSTAMP:20260421T163036
CREATED:20240724T174610Z
LAST-MODIFIED:20240724T174610Z
UID:65606-1722166200-1722191400@thepressboxlts.com
SUMMARY:Ellis Park Summer Meet
DESCRIPTION:First Post: 11:50 p.m. CT \nPhoto by Holly M. Smith
URL:https://thepressboxlts.com/event/ellis-park-summer-meet-40/
LOCATION:Ellis Park\, Henderson\, KY\, United States
END:VEVENT
BEGIN:VEVENT
DTSTART;TZID=America/Kentucky/Louisville:20240727T133000
DTEND;TZID=America/Kentucky/Louisville:20240727T190000
DTSTAMP:20260421T163036
CREATED:20240724T175433Z
LAST-MODIFIED:20240724T175433Z
UID:65615-1722087000-1722106800@thepressboxlts.com
SUMMARY:Colonial Downs Summer Meet
DESCRIPTION:First Post: 1:30 p.m. ET \n 
URL:https://thepressboxlts.com/event/colonial-downs-summer-meet-5/
LOCATION:Colonial Downs
END:VEVENT
BEGIN:VEVENT
DTSTART;TZID=America/Kentucky/Louisville:20240727T113000
DTEND;TZID=America/Kentucky/Louisville:20240727T183000
DTSTAMP:20260421T163036
CREATED:20240724T174355Z
LAST-MODIFIED:20240724T174355Z
UID:65604-1722079800-1722105000@thepressboxlts.com
SUMMARY:Ellis Park Summer Meet
DESCRIPTION:First Post: 11:50 a.m. CT \nPhoto by Holly M. Smith
URL:https://thepressboxlts.com/event/ellis-park-summer-meet-39/
LOCATION:Ellis Park\, Henderson\, KY\, United States
END:VEVENT
BEGIN:VEVENT
DTSTART;TZID=America/Kentucky/Louisville:20240726T163000
DTEND;TZID=America/Kentucky/Louisville:20240726T210000
DTSTAMP:20260421T163036
CREATED:20240724T175320Z
LAST-MODIFIED:20240724T175320Z
UID:65612-1722011400-1722027600@thepressboxlts.com
SUMMARY:Colonial Downs Summer Meet
DESCRIPTION:First Post: 4:30 p.m. ET \n 
URL:https://thepressboxlts.com/event/colonial-downs-summer-meet-4/
LOCATION:Colonial Downs
ATTACH;FMTTYPE=image/jpeg:https://thepressboxlts.com/wp-content/uploads/2024/07/image003.jpg
END:VEVENT
BEGIN:VEVENT
DTSTART;TZID=America/Kentucky/Louisville:20240725T130000
DTEND;TZID=America/Kentucky/Louisville:20240725T190000
DTSTAMP:20260421T163036
CREATED:20240724T175207Z
LAST-MODIFIED:20240724T175207Z
UID:65610-1721912400-1721934000@thepressboxlts.com
SUMMARY:Colonial Downs Summer Meet
DESCRIPTION:First Post: 1:30 p.m. ET \n 
URL:https://thepressboxlts.com/event/colonial-downs-summer-meet-3/
LOCATION:Colonial Downs
END:VEVENT
BEGIN:VEVENT
DTSTART;TZID=America/Kentucky/Louisville:20240722T110000
DTEND;TZID=America/Kentucky/Louisville:20240722T180000
DTSTAMP:20260421T163036
CREATED:20240715T191158Z
LAST-MODIFIED:20240715T191158Z
UID:65522-1721646000-1721671200@thepressboxlts.com
SUMMARY:Ellis Park Summer Meet
DESCRIPTION:First Post: 11:50 a.m. \nPhoto by Holly M. Smith \n 
URL:https://thepressboxlts.com/event/ellis-park-summer-meet-38/
LOCATION:Ellis Park\, Henderson\, KY\, United States
END:VEVENT
BEGIN:VEVENT
DTSTART;TZID=America/Kentucky/Louisville:20240721T113000
DTEND;TZID=America/Kentucky/Louisville:20240721T193000
DTSTAMP:20260421T163036
CREATED:20240715T190751Z
LAST-MODIFIED:20240715T190751Z
UID:65520-1721561400-1721590200@thepressboxlts.com
SUMMARY:Ellis Park Summer Meet
DESCRIPTION:First Post: 11:50 a.m. \nPhotos by Holly M. Smith
URL:https://thepressboxlts.com/event/ellis-park-summer-meet-37/
LOCATION:Ellis Park\, Henderson\, KY\, United States
END:VEVENT
BEGIN:VEVENT
DTSTART;TZID=America/Kentucky/Louisville:20240720T133000
DTEND;TZID=America/Kentucky/Louisville:20240720T183000
DTSTAMP:20260421T163036
CREATED:20240719T150734Z
LAST-MODIFIED:20240719T150734Z
UID:65570-1721482200-1721500200@thepressboxlts.com
SUMMARY:Colonial Downs Summer Meet
DESCRIPTION:First Post: 1:30 p.m. ET \nPhoto by Coady Media
URL:https://thepressboxlts.com/event/colonial-downs-summer-meet-2/
LOCATION:Colonial Downs
END:VEVENT
BEGIN:VEVENT
DTSTART;TZID=America/Kentucky/Louisville:20240720T113000
DTEND;TZID=America/Kentucky/Louisville:20240720T183000
DTSTAMP:20260421T163036
CREATED:20240715T190530Z
LAST-MODIFIED:20240715T190530Z
UID:65518-1721475000-1721500200@thepressboxlts.com
SUMMARY:Ellis Park Summer Meet
DESCRIPTION:First Post: 11:50 a.m. \nWeiner Dog Races \nPhoto by Coady Media
URL:https://thepressboxlts.com/event/ellis-park-summer-meet-36/
LOCATION:Ellis Park\, Henderson\, KY\, United States
END:VEVENT
BEGIN:VEVENT
DTSTART;TZID=America/Kentucky/Louisville:20240720T103000
DTEND;TZID=America/Kentucky/Louisville:20240720T153000
DTSTAMP:20260421T163036
CREATED:20240715T190225Z
LAST-MODIFIED:20240715T190225Z
UID:65516-1721471400-1721489400@thepressboxlts.com
SUMMARY:Horseshoe Indianapolis Summer Meet
DESCRIPTION:First Post: 10:45 a.m. ET \nQuarter Horse Racing Day \nPhoto by Coady Media
URL:https://thepressboxlts.com/event/horseshoe-indianapolis-summer-meet-118/
LOCATION:Horseshoe Indianapolis\, Shelbyville\, IN\, United States
END:VEVENT
BEGIN:VEVENT
DTSTART;TZID=America/Kentucky/Louisville:20240719T163000
DTEND;TZID=America/Kentucky/Louisville:20240719T203000
DTSTAMP:20260421T163036
CREATED:20240719T150620Z
LAST-MODIFIED:20240719T150620Z
UID:65567-1721406600-1721421000@thepressboxlts.com
SUMMARY:Colonial Downs Summer Meet
DESCRIPTION:First Post: 4:30 p.m. ET \nPhoto by Coady Media
URL:https://thepressboxlts.com/event/colonial-downs-summer-meet/
LOCATION:Colonial Downs
END:VEVENT
END:VCALENDAR