BEGIN:VCALENDAR
VERSION:2.0
PRODID:-//The Pressbox - ECPv6.15.19//NONSGML v1.0//EN
CALSCALE:GREGORIAN
METHOD:PUBLISH
X-WR-CALNAME:The Pressbox
X-ORIGINAL-URL:https://thepressboxlts.com
X-WR-CALDESC:Events for The Pressbox
REFRESH-INTERVAL;VALUE=DURATION:PT1H
X-Robots-Tag:noindex
X-PUBLISHED-TTL:PT1H
BEGIN:VTIMEZONE
TZID:America/Kentucky/Louisville
BEGIN:DAYLIGHT
TZOFFSETFROM:-0500
TZOFFSETTO:-0400
TZNAME:EDT
DTSTART:20230312T070000
END:DAYLIGHT
BEGIN:STANDARD
TZOFFSETFROM:-0400
TZOFFSETTO:-0500
TZNAME:EST
DTSTART:20231105T060000
END:STANDARD
BEGIN:DAYLIGHT
TZOFFSETFROM:-0500
TZOFFSETTO:-0400
TZNAME:EDT
DTSTART:20240310T070000
END:DAYLIGHT
BEGIN:STANDARD
TZOFFSETFROM:-0400
TZOFFSETTO:-0500
TZNAME:EST
DTSTART:20241103T060000
END:STANDARD
BEGIN:DAYLIGHT
TZOFFSETFROM:-0500
TZOFFSETTO:-0400
TZNAME:EDT
DTSTART:20250309T070000
END:DAYLIGHT
BEGIN:STANDARD
TZOFFSETFROM:-0400
TZOFFSETTO:-0500
TZNAME:EST
DTSTART:20251102T060000
END:STANDARD
END:VTIMEZONE
BEGIN:VEVENT
DTSTART;TZID=America/Kentucky/Louisville:20240928T180000
DTEND;TZID=America/Kentucky/Louisville:20240928T230000
DTSTAMP:20260421T130704
CREATED:20240924T181554Z
LAST-MODIFIED:20240924T181554Z
UID:67174-1727546400-1727564400@thepressboxlts.com
SUMMARY:Churchill Downs' September Meet
DESCRIPTION:First Post: 6:00 p.m. ET \nDowns After Dark \nPhoto by Holly M. Smith
URL:https://thepressboxlts.com/event/churchill-downs-september-meet-29/
LOCATION:Churchill Downs\, Louisville\, KY\, United States
ATTACH;FMTTYPE=image/jpeg:https://thepressboxlts.com/wp-content/uploads/2024/09/HMS_0444-simpy-in-front.jpg
END:VEVENT
BEGIN:VEVENT
DTSTART;TZID=America/Kentucky/Louisville:20240927T123000
DTEND;TZID=America/Kentucky/Louisville:20240927T190000
DTSTAMP:20260421T130704
CREATED:20240924T181436Z
LAST-MODIFIED:20240924T181436Z
UID:67172-1727440200-1727463600@thepressboxlts.com
SUMMARY:Churchill Downs' September Meet
DESCRIPTION:First Post: 12:45 p.m. ET \nPhoto by Holly M. Smith
URL:https://thepressboxlts.com/event/churchill-downs-september-meet-28/
LOCATION:Churchill Downs\, Louisville\, KY\, United States
ATTACH;FMTTYPE=image/jpeg:https://thepressboxlts.com/wp-content/uploads/2024/09/HMS_0805.jpg
END:VEVENT
BEGIN:VEVENT
DTSTART;TZID=America/Kentucky/Louisville:20240926T170000
DTEND;TZID=America/Kentucky/Louisville:20240926T220000
DTSTAMP:20260421T130704
CREATED:20240924T181333Z
LAST-MODIFIED:20240924T181333Z
UID:67170-1727370000-1727388000@thepressboxlts.com
SUMMARY:Churchill Downs' September Meet
DESCRIPTION:First Post: 5 p.m. ET \nPhoto by Holly M. Smith
URL:https://thepressboxlts.com/event/churchill-downs-september-meet-27/
LOCATION:Churchill Downs\, Louisville\, KY\, United States
ATTACH;FMTTYPE=image/jpeg:https://thepressboxlts.com/wp-content/uploads/2024/09/HMS_1120.jpg
END:VEVENT
BEGIN:VEVENT
DTSTART;TZID=America/Kentucky/Louisville:20240926T140000
DTEND;TZID=America/Kentucky/Louisville:20240926T190000
DTSTAMP:20260421T130704
CREATED:20240924T181010Z
LAST-MODIFIED:20240924T181010Z
UID:67166-1727359200-1727377200@thepressboxlts.com
SUMMARY:Horseshoe Indianapolis Fall Meet
DESCRIPTION:First Post: 2:10 p.m. ET \nPhoto by Coady Media
URL:https://thepressboxlts.com/event/horseshoe-indianapolis-fall-meet-65/
LOCATION:Horseshoe Indianapolis\, Shelbyville\, IN\, United States
ATTACH;FMTTYPE=image/jpeg:https://thepressboxlts.com/wp-content/uploads/2024/07/DRAGOON-GAURD-Indiana-Derby-30th-Running-G3-07-06-24-R12-Horseshoe-Indiana-Finish-01-Samantha-Pagels-scaled.jpg
END:VEVENT
BEGIN:VEVENT
DTSTART;TZID=America/Kentucky/Louisville:20240925T140000
DTEND;TZID=America/Kentucky/Louisville:20240925T190000
DTSTAMP:20260421T130704
CREATED:20240924T180901Z
LAST-MODIFIED:20240924T180901Z
UID:67164-1727272800-1727290800@thepressboxlts.com
SUMMARY:Horseshoe Indianapolis Fall Meet
DESCRIPTION:First Post: 2:10 p.m. ET \nPhoto by Coady Media
URL:https://thepressboxlts.com/event/horseshoe-indianapolis-fall-meet-64/
LOCATION:Horseshoe Indianapolis\, Shelbyville\, IN\, United States
ATTACH;FMTTYPE=image/jpeg:https://thepressboxlts.com/wp-content/uploads/2024/07/LUCKY-JEREMY-Caesars-18th-Running-07-13-24-R05-Horseshoe-Indiana-Finish-02-Sammantha-Pagels-scaled.jpg
END:VEVENT
BEGIN:VEVENT
DTSTART;TZID=America/Kentucky/Louisville:20240925T123000
DTEND;TZID=America/Kentucky/Louisville:20240925T190000
DTSTAMP:20260421T130704
CREATED:20240924T181220Z
LAST-MODIFIED:20240924T181220Z
UID:67168-1727267400-1727290800@thepressboxlts.com
SUMMARY:Churchill Downs' September Meet
DESCRIPTION:First Post: 12:45 p.m. ET \nPhoto by Holly M. Smith
URL:https://thepressboxlts.com/event/churchill-downs-september-meet-26/
LOCATION:Churchill Downs\, Louisville\, KY\, United States
ATTACH;FMTTYPE=image/jpeg:https://thepressboxlts.com/wp-content/uploads/2024/09/HMS_1130-bejanaro.jpg
END:VEVENT
BEGIN:VEVENT
DTSTART;TZID=America/Kentucky/Louisville:20240924T140000
DTEND;TZID=America/Kentucky/Louisville:20240924T190000
DTSTAMP:20260421T130704
CREATED:20240924T180734Z
LAST-MODIFIED:20240924T180734Z
UID:67162-1727186400-1727204400@thepressboxlts.com
SUMMARY:Horseshoe Indianapolis Fall Meet
DESCRIPTION:First Post: 2:10 p.m. ET \nPhoto by Coady Media
URL:https://thepressboxlts.com/event/horseshoe-indianapolis-fall-meet-63/
LOCATION:Horseshoe Indianapolis\, Shelbyville\, IN\, United States
ATTACH;FMTTYPE=image/jpeg:https://thepressboxlts.com/wp-content/uploads/2024/07/DRAGOON-GAURD-Indiana-Derby-30th-Running-G3-07-06-24-R12-Horseshoe-Indiana-Start-02-Renee-Torbit-scaled.jpg
END:VEVENT
BEGIN:VEVENT
DTSTART;TZID=America/Kentucky/Louisville:20240922T123000
DTEND;TZID=America/Kentucky/Louisville:20240922T190000
DTSTAMP:20260421T130704
CREATED:20240916T002954Z
LAST-MODIFIED:20240916T002954Z
UID:66987-1727008200-1727031600@thepressboxlts.com
SUMMARY:Churchill Downs' September Meet
DESCRIPTION:First Post: 12:45 p.m. ET \nPhoto by Holly M. Smith \n 
URL:https://thepressboxlts.com/event/churchill-downs-september-meet-25/
LOCATION:Churchill Downs\, Louisville\, KY\, United States
END:VEVENT
BEGIN:VEVENT
DTSTART;TZID=America/Kentucky/Louisville:20240921T123000
DTEND;TZID=America/Kentucky/Louisville:20240921T190000
DTSTAMP:20260421T130704
CREATED:20240916T002729Z
LAST-MODIFIED:20240916T002729Z
UID:66985-1726921800-1726945200@thepressboxlts.com
SUMMARY:Churchill Downs' September Meet
DESCRIPTION:First Post: 12:45 p.m. ET \nPhoto by Holly M. Smith \n 
URL:https://thepressboxlts.com/event/churchill-downs-september-meet-24/
LOCATION:Churchill Downs\, Louisville\, KY\, United States
ATTACH;FMTTYPE=image/jpeg:https://thepressboxlts.com/wp-content/uploads/2024/09/HMS_9289-1.jpg
END:VEVENT
BEGIN:VEVENT
DTSTART;TZID=America/Kentucky/Louisville:20240920T123000
DTEND;TZID=America/Kentucky/Louisville:20240920T190000
DTSTAMP:20260421T130704
CREATED:20240916T002612Z
LAST-MODIFIED:20240916T002612Z
UID:66983-1726835400-1726858800@thepressboxlts.com
SUMMARY:Churchill Downs' September Meet
DESCRIPTION:First Post: 12:45 p.m. ET \nPhoto by Holly M. Smith
URL:https://thepressboxlts.com/event/churchill-downs-september-meet-23/
LOCATION:Churchill Downs\, Louisville\, KY\, United States
ATTACH;FMTTYPE=image/jpeg:https://thepressboxlts.com/wp-content/uploads/2024/09/HMS_9279-here-mi-song-1.jpg
END:VEVENT
BEGIN:VEVENT
DTSTART;TZID=America/Kentucky/Louisville:20240919T170000
DTEND;TZID=America/Kentucky/Louisville:20240919T213000
DTSTAMP:20260421T130704
CREATED:20240916T002502Z
LAST-MODIFIED:20240916T002502Z
UID:66981-1726765200-1726781400@thepressboxlts.com
SUMMARY:Churchill Downs' September Meet
DESCRIPTION:First Post: 5 p.m. ET \nPhoto by Holly M. Smith
URL:https://thepressboxlts.com/event/churchill-downs-september-meet-22/
LOCATION:Churchill Downs\, Louisville\, KY\, United States
ATTACH;FMTTYPE=image/jpeg:https://thepressboxlts.com/wp-content/uploads/2024/09/HMS_9565-jonathans-way-1.jpg
END:VEVENT
BEGIN:VEVENT
DTSTART;TZID=America/Kentucky/Louisville:20240919T140000
DTEND;TZID=America/Kentucky/Louisville:20240919T193000
DTSTAMP:20260421T130704
CREATED:20240916T002034Z
LAST-MODIFIED:20240916T002034Z
UID:66977-1726754400-1726774200@thepressboxlts.com
SUMMARY:Horseshoe Indianapolis Fall Meet
DESCRIPTION:First Post: 2:10 p.m. ET \nPhoto by Coady Media
URL:https://thepressboxlts.com/event/horseshoe-indianapolis-fall-meet-62/
LOCATION:Horseshoe Indianapolis\, Shelbyville\, IN\, United States
ATTACH;FMTTYPE=image/jpeg:https://thepressboxlts.com/wp-content/uploads/2024/07/LUCKY-JEREMY-Caesars-18th-Running-07-13-24-R05-Horseshoe-Indiana-Finish-02-Sammantha-Pagels-scaled.jpg
END:VEVENT
BEGIN:VEVENT
DTSTART;TZID=America/Kentucky/Louisville:20240918T140000
DTEND;TZID=America/Kentucky/Louisville:20240918T193000
DTSTAMP:20260421T130704
CREATED:20240916T001928Z
LAST-MODIFIED:20240916T001928Z
UID:66975-1726668000-1726687800@thepressboxlts.com
SUMMARY:Horseshoe Indianapolis Fall Meet
DESCRIPTION:First Post: 2:10 p.m. ET \nPhoto by Coady Media
URL:https://thepressboxlts.com/event/horseshoe-indianapolis-fall-meet-61/
LOCATION:Horseshoe Indianapolis\, Shelbyville\, IN\, United States
ATTACH;FMTTYPE=image/jpeg:https://thepressboxlts.com/wp-content/uploads/2024/07/INJUNCTION-Michael-G-Schaefer-Memorial-24th-Running-07-06-24-R08-Horseshoe-Indiana-Under-Rail-02-John-Gallagher-scaled.jpg
END:VEVENT
BEGIN:VEVENT
DTSTART;TZID=America/Kentucky/Louisville:20240918T123000
DTEND;TZID=America/Kentucky/Louisville:20240918T190000
DTSTAMP:20260421T130704
CREATED:20240916T002340Z
LAST-MODIFIED:20240916T002340Z
UID:66979-1726662600-1726686000@thepressboxlts.com
SUMMARY:Churchill Downs' September Meet
DESCRIPTION:First Post: 12:45 p.m. ET \nPhoto by Holly M. Smith
URL:https://thepressboxlts.com/event/churchill-downs-september-meet-21/
LOCATION:Churchill Downs\, Louisville\, KY\, United States
ATTACH;FMTTYPE=image/jpeg:https://thepressboxlts.com/wp-content/uploads/2024/09/HMS_9437-1.jpg
END:VEVENT
BEGIN:VEVENT
DTSTART;TZID=America/Kentucky/Louisville:20240917T140000
DTEND;TZID=America/Kentucky/Louisville:20240917T193000
DTSTAMP:20260421T130704
CREATED:20240916T001607Z
LAST-MODIFIED:20240916T001607Z
UID:66973-1726581600-1726601400@thepressboxlts.com
SUMMARY:Horseshoe Indianapolis Fall Meet
DESCRIPTION:First Post: 2:10 p.m. ET \nPhoto by Coady Media
URL:https://thepressboxlts.com/event/horseshoe-indianapolis-fall-meet-60/
LOCATION:Horseshoe Indianapolis\, Shelbyville\, IN\, United States
ATTACH;FMTTYPE=image/jpeg:https://thepressboxlts.com/wp-content/uploads/2024/07/DRAGOON-GAURD-Indiana-Derby-30th-Running-G3-07-06-24-R12-Horseshoe-Indiana-Finish-01-Samantha-Pagels-scaled.jpg
END:VEVENT
BEGIN:VEVENT
DTSTART;TZID=America/Kentucky/Louisville:20240916T140000
DTEND;TZID=America/Kentucky/Louisville:20240916T193000
DTSTAMP:20260421T130704
CREATED:20240916T001416Z
LAST-MODIFIED:20240916T001416Z
UID:66971-1726495200-1726515000@thepressboxlts.com
SUMMARY:Horseshoe Indianapolis Fall Meet
DESCRIPTION:First Post: 2:10 p.m. ET \nPhoto by Coady Media
URL:https://thepressboxlts.com/event/horseshoe-indianapolis-fall-meet-59/
LOCATION:Horseshoe Indianapolis\, Shelbyville\, IN\, United States
ATTACH;FMTTYPE=image/jpeg:https://thepressboxlts.com/wp-content/uploads/2024/07/DRAGOON-GAURD-Indiana-Derby-30th-Running-G3-07-06-24-R12-Horseshoe-Indiana-Start-02-Renee-Torbit-scaled.jpg
END:VEVENT
BEGIN:VEVENT
DTSTART;TZID=America/Kentucky/Louisville:20240915T123000
DTEND;TZID=America/Kentucky/Louisville:20240915T183000
DTSTAMP:20260421T130704
CREATED:20240909T153516Z
LAST-MODIFIED:20240909T153516Z
UID:66776-1726403400-1726425000@thepressboxlts.com
SUMMARY:Churchill Downs September Meet
DESCRIPTION:First Post: 12:45 p.m. ET \nPhoto by Holly M. Smith
URL:https://thepressboxlts.com/event/churchill-downs-september-meet-20/
LOCATION:Churchill Downs\, Louisville\, KY\, United States
END:VEVENT
BEGIN:VEVENT
DTSTART;TZID=America/Kentucky/Louisville:20240914T123000
DTEND;TZID=America/Kentucky/Louisville:20240914T183000
DTSTAMP:20260421T130704
CREATED:20240909T153349Z
LAST-MODIFIED:20240909T153349Z
UID:66774-1726317000-1726338600@thepressboxlts.com
SUMMARY:Churchill Downs September Meet
DESCRIPTION:First Post: 12:45 p.m. ET \nPhoto by Holly M. Smith
URL:https://thepressboxlts.com/event/churchill-downs-september-meet-19/
LOCATION:Churchill Downs\, Louisville\, KY\, United States
END:VEVENT
BEGIN:VEVENT
DTSTART;TZID=America/Kentucky/Louisville:20240913T123000
DTEND;TZID=America/Kentucky/Louisville:20240913T183000
DTSTAMP:20260421T130704
CREATED:20240909T153213Z
LAST-MODIFIED:20240909T153213Z
UID:66772-1726230600-1726252200@thepressboxlts.com
SUMMARY:Churchill Downs September Meet
DESCRIPTION:First Post: 12:45 p.m. ET \nPhoto by Holly M. Smith \n 
URL:https://thepressboxlts.com/event/churchill-downs-september-meet-18/
LOCATION:Churchill Downs\, Louisville\, KY\, United States
END:VEVENT
BEGIN:VEVENT
DTSTART;TZID=America/Kentucky/Louisville:20240912T170000
DTEND;TZID=America/Kentucky/Louisville:20240912T220000
DTSTAMP:20260421T130704
CREATED:20240909T152629Z
LAST-MODIFIED:20240909T152629Z
UID:66770-1726160400-1726178400@thepressboxlts.com
SUMMARY:Churchill Downs September Meet
DESCRIPTION:First Post: 5 p.m. ET \nPhoto by Holly M. Smith
URL:https://thepressboxlts.com/event/churchill-downs-september-meet-17/
LOCATION:Churchill Downs\, Louisville\, KY\, United States
END:VEVENT
BEGIN:VEVENT
DTSTART;TZID=America/Kentucky/Louisville:20240912T140000
DTEND;TZID=America/Kentucky/Louisville:20240912T193000
DTSTAMP:20260421T130704
CREATED:20240909T152236Z
LAST-MODIFIED:20240909T152236Z
UID:66768-1726149600-1726169400@thepressboxlts.com
SUMMARY:Horseshoe Indianapolis Fall Meet
DESCRIPTION:First Post: 2:10 p.m. ET \nPhoto by Coady Media
URL:https://thepressboxlts.com/event/horseshoe-indianapolis-fall-meet-58/
LOCATION:Horseshoe Indianapolis\, Shelbyville\, IN\, United States
ATTACH;FMTTYPE=image/jpeg:https://thepressboxlts.com/wp-content/uploads/2024/07/DRAGOON-GAURD-Indiana-Derby-30th-Running-G3-07-06-24-R12-Horseshoe-Indiana-Finish-01-Samantha-Pagels-scaled.jpg
END:VEVENT
BEGIN:VEVENT
DTSTART;TZID=America/Kentucky/Louisville:20240911T140000
DTEND;TZID=America/Kentucky/Louisville:20240911T193000
DTSTAMP:20260421T130704
CREATED:20240909T151939Z
LAST-MODIFIED:20240909T151939Z
UID:66766-1726063200-1726083000@thepressboxlts.com
SUMMARY:Horseshoe Indianapolis Fall Meet
DESCRIPTION:First Post: 2:10 p.m. ET \nPhoto by Coady Media
URL:https://thepressboxlts.com/event/horseshoe-indianapolis-fall-meet-57/
LOCATION:Horseshoe Indianapolis\, Shelbyville\, IN\, United States
ATTACH;FMTTYPE=image/jpeg:https://thepressboxlts.com/wp-content/uploads/2024/08/DEMOLISHER-The-Bucchero-19th-Running-08-21-24-R08-Horseshoe-Indiana-Finish-02-Sammantha-Pagels-scaled.jpg
END:VEVENT
BEGIN:VEVENT
DTSTART;TZID=America/Kentucky/Louisville:20240911T123000
DTEND;TZID=America/Kentucky/Louisville:20240911T183000
DTSTAMP:20260421T130704
CREATED:20240909T153808Z
LAST-MODIFIED:20240909T153808Z
UID:66778-1726057800-1726079400@thepressboxlts.com
SUMMARY:Kentucky Downs Final Day of Live Racing for 2024 -- Wednesday\, Sept. 11
DESCRIPTION:First Post: 12:30 p.m. CT \nPhoto by Coady Media \n 
URL:https://thepressboxlts.com/event/kentucky-downs-final-day-of-live-racing-for-2024-wednesday-sept-11/
LOCATION:Kentucky Downs\, Franklin\, KY\, KY\, United States
ATTACH;FMTTYPE=image/jpeg:https://thepressboxlts.com/wp-content/uploads/2024/09/KILWIN-The-Untapable-Stakes-09-08-24-R08-Kentucky-Downs-Finish-01-Kurtis-Coady-scaled.jpg
END:VEVENT
BEGIN:VEVENT
DTSTART;TZID=America/Kentucky/Louisville:20240910T140000
DTEND;TZID=America/Kentucky/Louisville:20240910T193000
DTSTAMP:20260421T130704
CREATED:20240909T151801Z
LAST-MODIFIED:20240909T151801Z
UID:66764-1725976800-1725996600@thepressboxlts.com
SUMMARY:Horseshoe Indianapolis Fall Meet
DESCRIPTION:First Post: 2:10 p.m. ET \nPhoto by Coady Media
URL:https://thepressboxlts.com/event/horseshoe-indianapolis-fall-meet-56/
LOCATION:Horseshoe Indianapolis\, Shelbyville\, IN\, United States
ATTACH;FMTTYPE=image/jpeg:https://thepressboxlts.com/wp-content/uploads/2024/06/DIAMOND-SOLITAIRE-Checkered-Flag-28th-Running-06-26-24-R07-Horseshoe-Indiana-Finish-02-Sammantha-Pagels-scaled.jpg
END:VEVENT
BEGIN:VEVENT
DTSTART;TZID=America/Kentucky/Louisville:20240909T140000
DTEND;TZID=America/Kentucky/Louisville:20240909T193000
DTSTAMP:20260421T130704
CREATED:20240909T151634Z
LAST-MODIFIED:20240909T151634Z
UID:66762-1725890400-1725910200@thepressboxlts.com
SUMMARY:Horseshoe Indianapolis Fall Meet
DESCRIPTION:First Post: 2:10 p.m. ET \nPhoto by Coady Media
URL:https://thepressboxlts.com/event/horseshoe-indianapolis-fall-meet-55/
LOCATION:Horseshoe Indianapolis\, Shelbyville\, IN\, United States
ATTACH;FMTTYPE=image/jpeg:https://thepressboxlts.com/wp-content/uploads/2024/07/DRAGOON-GAURD-Indiana-Derby-30th-Running-G3-07-06-24-R12-Horseshoe-Indiana-Start-02-Renee-Torbit-scaled.jpg
END:VEVENT
BEGIN:VEVENT
DTSTART;TZID=America/Kentucky/Louisville:20240908T120000
DTEND;TZID=America/Kentucky/Louisville:20240908T190000
DTSTAMP:20260421T130704
CREATED:20240903T222541Z
LAST-MODIFIED:20240903T222541Z
UID:66568-1725796800-1725822000@thepressboxlts.com
SUMMARY:KY Downs September Meet -- Sunday\, Sept. 8
DESCRIPTION:First Post: 12:25 p.m. CT \nPhoto by Coady Media
URL:https://thepressboxlts.com/event/ky-downs-september-meet-sunday-sept-8/
LOCATION:Kentucky Downs\, Franklin\, KY\, KY\, United States
ATTACH;FMTTYPE=image/jpeg:https://thepressboxlts.com/wp-content/uploads/2024/09/BELLUM-JUSTUM-The-DK-Horse-Nashville-Derby-Invitational-G3-08-31-24-R08-Kentucky-Downs-Come-Back-01-Christine-Hayden-scaled.jpg
END:VEVENT
BEGIN:VEVENT
DTSTART;TZID=America/Kentucky/Louisville:20240907T113000
DTEND;TZID=America/Kentucky/Louisville:20240907T193000
DTSTAMP:20260421T130704
CREATED:20240903T222409Z
LAST-MODIFIED:20240903T222409Z
UID:66566-1725708600-1725737400@thepressboxlts.com
SUMMARY:KY Downs September Meet -- Saturday\, Sept. 7
DESCRIPTION:First Post: 11:30 a.m. CT \nPhoto by Coady Media
URL:https://thepressboxlts.com/event/ky-downs-september-meet-saturday-sept-7/
LOCATION:Kentucky Downs\, Franklin\, KY\, KY\, United States
ATTACH;FMTTYPE=image/jpeg:https://thepressboxlts.com/wp-content/uploads/2024/09/BELLUM-JUSTUM-The-DK-Horse-Nashville-Derby-Invitational-G3-08-31-24-R08-Kentucky-Downs-Lanfranco-Dettori-04-Jenny-Doyle-scaled.jpg
END:VEVENT
BEGIN:VEVENT
DTSTART;TZID=America/Kentucky/Louisville:20240906T140000
DTEND;TZID=America/Kentucky/Louisville:20240906T193000
DTSTAMP:20260421T130704
CREATED:20240905T155418Z
LAST-MODIFIED:20240905T155418Z
UID:66592-1725631200-1725651000@thepressboxlts.com
SUMMARY:Horseshoe Indianapolis Summer Meet
DESCRIPTION:First Post: 2:10 p.m. ET \nPhoto by Coady Media
URL:https://thepressboxlts.com/event/horseshoe-indianapolis-summer-meet-135/
LOCATION:Horseshoe Indianapolis\, Shelbyville\, IN\, United States
ATTACH;FMTTYPE=image/jpeg:https://thepressboxlts.com/wp-content/uploads/2024/07/LUCKY-JEREMY-Caesars-18th-Running-07-13-24-R05-Horseshoe-Indiana-Finish-02-Sammantha-Pagels-scaled.jpg
END:VEVENT
BEGIN:VEVENT
DTSTART;TZID=America/Kentucky/Louisville:20240905T140000
DTEND;TZID=America/Kentucky/Louisville:20240905T190000
DTSTAMP:20260421T130704
CREATED:20240905T155259Z
LAST-MODIFIED:20240905T155259Z
UID:66590-1725544800-1725562800@thepressboxlts.com
SUMMARY:Horseshoe Indianapolis Summer Meet
DESCRIPTION:First Post: 2:10 p.m. ET \nPhoto by Coady Media
URL:https://thepressboxlts.com/event/horseshoe-indianapolis-summer-meet-134/
LOCATION:Horseshoe Indianapolis\, Shelbyville\, IN\, United States
ATTACH;FMTTYPE=image/jpeg:https://thepressboxlts.com/wp-content/uploads/2024/07/CHARLENES-DREAM-Horseshoe-Indianapolis-15th-Running-07-13-24-R04-Horseshoe-Indiana-Finish-02-Sammantha-Pagels-scaled.jpg
END:VEVENT
BEGIN:VEVENT
DTSTART;TZID=America/Kentucky/Louisville:20240905T123000
DTEND;TZID=America/Kentucky/Louisville:20240905T193000
DTSTAMP:20260421T130704
CREATED:20240903T222237Z
LAST-MODIFIED:20240903T222237Z
UID:66564-1725539400-1725564600@thepressboxlts.com
SUMMARY:KY Downs September Meet -- Thursday\, Sept. 5
DESCRIPTION:First Post: 12:25 p.m. CT \nPhoto by Coady Media
URL:https://thepressboxlts.com/event/ky-downs-september-meet-thursday-sept-5/
LOCATION:Kentucky Downs\, Franklin\, KY\, KY\, United States
ATTACH;FMTTYPE=image/jpeg:https://thepressboxlts.com/wp-content/uploads/2024/09/BELLUM-JUSTUM-The-DK-Horse-Nashville-Derby-Invitational-G3-08-31-24-R08-Kentucky-Downs-Come-Back-04-Jenny-Doyle-1-scaled.jpg
END:VEVENT
END:VCALENDAR