BEGIN:VCALENDAR
VERSION:2.0
PRODID:-//The Pressbox - ECPv6.15.19//NONSGML v1.0//EN
CALSCALE:GREGORIAN
METHOD:PUBLISH
X-WR-CALNAME:The Pressbox
X-ORIGINAL-URL:https://thepressboxlts.com
X-WR-CALDESC:Events for The Pressbox
REFRESH-INTERVAL;VALUE=DURATION:PT1H
X-Robots-Tag:noindex
X-PUBLISHED-TTL:PT1H
BEGIN:VTIMEZONE
TZID:America/Kentucky/Louisville
BEGIN:DAYLIGHT
TZOFFSETFROM:-0500
TZOFFSETTO:-0400
TZNAME:EDT
DTSTART:20230312T070000
END:DAYLIGHT
BEGIN:STANDARD
TZOFFSETFROM:-0400
TZOFFSETTO:-0500
TZNAME:EST
DTSTART:20231105T060000
END:STANDARD
BEGIN:DAYLIGHT
TZOFFSETFROM:-0500
TZOFFSETTO:-0400
TZNAME:EDT
DTSTART:20240310T070000
END:DAYLIGHT
BEGIN:STANDARD
TZOFFSETFROM:-0400
TZOFFSETTO:-0500
TZNAME:EST
DTSTART:20241103T060000
END:STANDARD
BEGIN:DAYLIGHT
TZOFFSETFROM:-0500
TZOFFSETTO:-0400
TZNAME:EDT
DTSTART:20250309T070000
END:DAYLIGHT
BEGIN:STANDARD
TZOFFSETFROM:-0400
TZOFFSETTO:-0500
TZNAME:EST
DTSTART:20251102T060000
END:STANDARD
END:VTIMEZONE
BEGIN:VEVENT
DTSTART;TZID=America/Kentucky/Louisville:20240405T130000
DTEND;TZID=America/Kentucky/Louisville:20240405T180000
DTSTAMP:20260422T001308
CREATED:20240402T214801Z
LAST-MODIFIED:20240402T214801Z
UID:62429-1712322000-1712340000@thepressboxlts.com
SUMMARY:Keeneland Spring Meet
DESCRIPTION:First Post: 1 p.m. ET \nPhoto by Coady Photography
URL:https://thepressboxlts.com/event/keeneland-spring-meet/
LOCATION:Keeneland Race Course\, KY\, United States
END:VEVENT
BEGIN:VEVENT
DTSTART;TZID=America/Kentucky/Louisville:20240330T173000
DTEND;TZID=America/Kentucky/Louisville:20240330T223000
DTSTAMP:20260422T001308
CREATED:20240325T201241Z
LAST-MODIFIED:20240325T201241Z
UID:62322-1711819800-1711837800@thepressboxlts.com
SUMMARY:Turfway Park Winter / Spring Meet -- Closing Day of 2024 Meet
DESCRIPTION:First Post: 5:55 p.m. ET \nSerena’s Song Stakes — Final Day / Stakes of the Meet \nPhoto by Coady Photography
URL:https://thepressboxlts.com/event/turfway-park-winter-spring-meet-closing-day-of-2024-meet/
LOCATION:Turfway Park\, Florence\, KY\, United States
ATTACH;FMTTYPE=image/jpeg:https://thepressboxlts.com/wp-content/uploads/2024/03/NICE-AS-PIE-The-Valdale-37th-Running-02-10-24-R07-Turfway-Park-Finish-01-scaled.jpg
END:VEVENT
BEGIN:VEVENT
DTSTART;TZID=America/Kentucky/Louisville:20240329T173000
DTEND;TZID=America/Kentucky/Louisville:20240329T223000
DTSTAMP:20260422T001308
CREATED:20240325T201129Z
LAST-MODIFIED:20240325T201129Z
UID:62320-1711733400-1711751400@thepressboxlts.com
SUMMARY:Turfway Park Winter / Spring Meet
DESCRIPTION:First Post: 5:55 p.m. ET \nPhoto by Coady Photography
URL:https://thepressboxlts.com/event/turfway-park-winter-spring-meet-100/
LOCATION:Turfway Park\, Florence\, KY\, United States
ATTACH;FMTTYPE=image/jpeg:https://thepressboxlts.com/wp-content/uploads/2024/03/Endlessly-Paddock-Schooling-TP-032224-04-scaled.jpg
END:VEVENT
BEGIN:VEVENT
DTSTART;TZID=America/Kentucky/Louisville:20240328T173000
DTEND;TZID=America/Kentucky/Louisville:20240328T223000
DTSTAMP:20260422T001308
CREATED:20240325T201023Z
LAST-MODIFIED:20240325T201023Z
UID:62318-1711647000-1711665000@thepressboxlts.com
SUMMARY:Turfway Park Winter / Spring Meet
DESCRIPTION:First Post: 5:55 p.m. ET \nPhoto by Coady Photography
URL:https://thepressboxlts.com/event/turfway-park-winter-spring-meet-99/
LOCATION:IN
ATTACH;FMTTYPE=image/jpeg:https://thepressboxlts.com/wp-content/uploads/2024/03/EVERLAND-The-Bourbonette-Oaks-42nd-Running-03-23-24-R11-Turfway-Park-Finish-01-Sammantha-Pagles-scaled.jpg
END:VEVENT
BEGIN:VEVENT
DTSTART;TZID=America/Kentucky/Louisville:20240327T173000
DTEND;TZID=America/Kentucky/Louisville:20240327T220000
DTSTAMP:20260422T001308
CREATED:20240325T200924Z
LAST-MODIFIED:20240325T200924Z
UID:62316-1711560600-1711576800@thepressboxlts.com
SUMMARY:Turfway Park Winter / Spring Meet
DESCRIPTION:First Post: 5:55 p.m. ET \nPhoto by Coady Photography
URL:https://thepressboxlts.com/event/turfway-park-winter-spring-meet-98/
LOCATION:Turfway Park\, Florence\, KY\, United States
ATTACH;FMTTYPE=image/jpeg:https://thepressboxlts.com/wp-content/uploads/2024/03/ENDLESSLY-Jeff-Ruby-Steaks-G3-53rd-Running-03-23-24-R12-Turfway-Park-Finish-01-Sammantha-Pagels-scaled.jpg
END:VEVENT
BEGIN:VEVENT
DTSTART;TZID=America/Kentucky/Louisville:20240324T123000
DTEND;TZID=America/Kentucky/Louisville:20240324T190000
DTSTAMP:20260422T001308
CREATED:20240318T150053Z
LAST-MODIFIED:20240318T150053Z
UID:62206-1711283400-1711306800@thepressboxlts.com
SUMMARY:Fair Grounds Winter / Spring Meet
DESCRIPTION:First Post: 12:45 p.m. CT \nPhoto by Holly M. Smith
URL:https://thepressboxlts.com/event/fair-grounds-winter-spring-meet-78/
LOCATION:Fair Grounds\, New Orleans\, LA\, United States
END:VEVENT
BEGIN:VEVENT
DTSTART;TZID=America/Kentucky/Louisville:20240323T123000
DTEND;TZID=America/Kentucky/Louisville:20240323T190000
DTSTAMP:20260422T001308
CREATED:20240318T145316Z
LAST-MODIFIED:20240318T145316Z
UID:62196-1711197000-1711220400@thepressboxlts.com
SUMMARY:Turfway Park Winter / Spring Meet -- Jeff Ruby Steaks Day
DESCRIPTION:Special Post Time: \nFirst Post: 12:45 p.m. ET \n 
URL:https://thepressboxlts.com/event/turfway-park-winter-spring-meet-jeff-ruby-steaks-day-2/
LOCATION:Turfway Park\, Florence\, KY\, United States
ATTACH;FMTTYPE=image/jpeg:https://thepressboxlts.com/wp-content/uploads/2024/03/Jeff-Ruby-Steaks.jpg
END:VEVENT
BEGIN:VEVENT
DTSTART;TZID=America/Kentucky/Louisville:20240323T120000
DTEND;TZID=America/Kentucky/Louisville:20240323T200000
DTSTAMP:20260422T001308
CREATED:20240318T145934Z
LAST-MODIFIED:20240318T145934Z
UID:62204-1711195200-1711224000@thepressboxlts.com
SUMMARY:Fair Grounds Winter / Spring Meet
DESCRIPTION:First Post: 12 Noon CT \nPhoto by Holly M. Smith
URL:https://thepressboxlts.com/event/fair-grounds-winter-spring-meet-77/
LOCATION:Fair Grounds\, New Orleans\, LA\, United States
END:VEVENT
BEGIN:VEVENT
DTSTART;TZID=America/Kentucky/Louisville:20240322T173000
DTEND;TZID=America/Kentucky/Louisville:20240322T223000
DTSTAMP:20260422T001308
CREATED:20240318T144951Z
LAST-MODIFIED:20240318T144951Z
UID:62194-1711128600-1711146600@thepressboxlts.com
SUMMARY:Turfway Park Winter / Spring Meet
DESCRIPTION:First Post: 5:55 p.m. ET \nPhoto by Coady Photography
URL:https://thepressboxlts.com/event/turfway-park-winter-spring-meet-97/
LOCATION:Turfway Park\, Florence\, KY\, United States
END:VEVENT
BEGIN:VEVENT
DTSTART;TZID=America/Kentucky/Louisville:20240322T123000
DTEND;TZID=America/Kentucky/Louisville:20240322T193000
DTSTAMP:20260422T001308
CREATED:20240318T145817Z
LAST-MODIFIED:20240318T145817Z
UID:62202-1711110600-1711135800@thepressboxlts.com
SUMMARY:Fair Grounds Winter / Spring Meet
DESCRIPTION:First Post: 12:45 p.m. CT \nPhoto by Holly M. Smith
URL:https://thepressboxlts.com/event/fair-grounds-winter-spring-meet-76/
LOCATION:Fair Grounds\, New Orleans\, LA\, United States
END:VEVENT
BEGIN:VEVENT
DTSTART;TZID=America/Kentucky/Louisville:20240321T173000
DTEND;TZID=America/Kentucky/Louisville:20240321T223000
DTSTAMP:20260422T001308
CREATED:20240318T143756Z
LAST-MODIFIED:20240318T143756Z
UID:62192-1711042200-1711060200@thepressboxlts.com
SUMMARY:Turfway Park Winter / Spring Meet
DESCRIPTION:
URL:https://thepressboxlts.com/event/turfway-park-winter-spring-meet-96/
LOCATION:Turfway Park\, Florence\, KY\, United States
ATTACH;FMTTYPE=image/jpeg:https://thepressboxlts.com/wp-content/uploads/2024/03/ENCINO-The-John-Battaglia-42nd-Running-03-02-24-R06-Turfway-Park-Finish-01-scaled.jpg
END:VEVENT
BEGIN:VEVENT
DTSTART;TZID=America/Kentucky/Louisville:20240321T123000
DTEND;TZID=America/Kentucky/Louisville:20240321T193000
DTSTAMP:20260422T001308
CREATED:20240318T145654Z
LAST-MODIFIED:20240318T145654Z
UID:62200-1711024200-1711049400@thepressboxlts.com
SUMMARY:Fair Grounds Winter / Spring Meet
DESCRIPTION:First Post: 12:45 p.m. CT \nPhoto by Holly M. Smith
URL:https://thepressboxlts.com/event/fair-grounds-winter-spring-meet-75/
LOCATION:Fair Grounds\, New Orleans\, LA\, United States
END:VEVENT
BEGIN:VEVENT
DTSTART;TZID=America/Kentucky/Louisville:20240320T173000
DTEND;TZID=America/Kentucky/Louisville:20240320T223000
DTSTAMP:20260422T001308
CREATED:20240318T143700Z
LAST-MODIFIED:20240318T143700Z
UID:62190-1710955800-1710973800@thepressboxlts.com
SUMMARY:Turfway Park Winter / Spring Meet
DESCRIPTION:First Post: 5:55 p.m. ET \nPhoto by Coady Photography
URL:https://thepressboxlts.com/event/turfway-park-winter-spring-meet-95/
LOCATION:Turfway Park\, Florence\, KY\, United States
ATTACH;FMTTYPE=image/jpeg:https://thepressboxlts.com/wp-content/uploads/2024/03/MAXISUPERFLY-The-Cincinnati-Trophy-42nd-Running-03-01-24-R06-Turfway-Park-Finish-01-scaled.jpg
END:VEVENT
BEGIN:VEVENT
DTSTART;TZID=America/Kentucky/Louisville:20240320T123000
DTEND;TZID=America/Kentucky/Louisville:20240320T193000
DTSTAMP:20260422T001308
CREATED:20240318T145536Z
LAST-MODIFIED:20240318T145536Z
UID:62198-1710937800-1710963000@thepressboxlts.com
SUMMARY:Fair Grounds Winter / Spring Meet
DESCRIPTION:First Post: 12:45 p.m. CT \nPhoto by Holly M. Smith
URL:https://thepressboxlts.com/event/fair-grounds-winter-spring-meet-74/
LOCATION:Fair Grounds\, New Orleans\, LA\, United States
END:VEVENT
BEGIN:VEVENT
DTSTART;TZID=America/Kentucky/Louisville:20240317T123000
DTEND;TZID=America/Kentucky/Louisville:20240317T190000
DTSTAMP:20260422T001308
CREATED:20240312T171531Z
LAST-MODIFIED:20240312T171531Z
UID:62129-1710678600-1710702000@thepressboxlts.com
SUMMARY:Fair Grounds Winter / Spring Meet
DESCRIPTION:First Post: 12:45 p.m. CT \nPhoto by Holly M. Smith
URL:https://thepressboxlts.com/event/fair-grounds-winter-spring-meet-73/
LOCATION:Fair Grounds\, New Orleans\, LA\, United States
END:VEVENT
BEGIN:VEVENT
DTSTART;TZID=America/Kentucky/Louisville:20240316T173000
DTEND;TZID=America/Kentucky/Louisville:20240316T223000
DTSTAMP:20260422T001308
CREATED:20240312T170757Z
LAST-MODIFIED:20240312T170757Z
UID:62119-1710610200-1710628200@thepressboxlts.com
SUMMARY:Turfway Park Winter / Spring Meet
DESCRIPTION:First Post: 5:55 p.m. ET \nPhoto by Coady Photography
URL:https://thepressboxlts.com/event/turfway-park-winter-spring-meet-94/
LOCATION:Turfway Park\, Florence\, KY\, United States
ATTACH;FMTTYPE=image/jpeg:https://thepressboxlts.com/wp-content/uploads/2024/03/Jeff-Ruby-Steaks.jpg
END:VEVENT
BEGIN:VEVENT
DTSTART;TZID=America/Kentucky/Louisville:20240316T123000
DTEND;TZID=America/Kentucky/Louisville:20240316T190000
DTSTAMP:20260422T001308
CREATED:20240312T171405Z
LAST-MODIFIED:20240312T171405Z
UID:62127-1710592200-1710615600@thepressboxlts.com
SUMMARY:Fair Grounds Winter / Spring Meet
DESCRIPTION:First Post: 12:45 p.m. CT \nPhoto by Holly M. Smith
URL:https://thepressboxlts.com/event/fair-grounds-winter-spring-meet-72/
LOCATION:Fair Grounds\, New Orleans\, LA\, United States
END:VEVENT
BEGIN:VEVENT
DTSTART;TZID=America/Kentucky/Louisville:20240315T173000
DTEND;TZID=America/Kentucky/Louisville:20240315T223000
DTSTAMP:20260422T001308
CREATED:20240312T170656Z
LAST-MODIFIED:20240312T170656Z
UID:62117-1710523800-1710541800@thepressboxlts.com
SUMMARY:Turfway Park Winter / Spring Meet
DESCRIPTION:First Post: 5:55 p.m. ET \nPhoto by Coady Photography
URL:https://thepressboxlts.com/event/turfway-park-winter-spring-meet-93/
LOCATION:Turfway Park\, Florence\, KY\, United States
END:VEVENT
BEGIN:VEVENT
DTSTART;TZID=America/Kentucky/Louisville:20240315T170000
DTEND;TZID=America/Kentucky/Louisville:20240315T223000
DTSTAMP:20260422T001308
CREATED:20240312T171237Z
LAST-MODIFIED:20240312T171237Z
UID:62125-1710522000-1710541800@thepressboxlts.com
SUMMARY:Fair Grounds Winter / Spring Meet
DESCRIPTION:Special First Post: 5 p.m. CT \nPhoto by Holly M. Smith
URL:https://thepressboxlts.com/event/fair-grounds-winter-spring-meet-71/
LOCATION:Fair Grounds\, New Orleans\, LA\, United States
END:VEVENT
BEGIN:VEVENT
DTSTART;TZID=America/Kentucky/Louisville:20240314T173000
DTEND;TZID=America/Kentucky/Louisville:20240314T223000
DTSTAMP:20260422T001308
CREATED:20240312T170552Z
LAST-MODIFIED:20240312T170552Z
UID:62115-1710437400-1710455400@thepressboxlts.com
SUMMARY:Turfway Park Winter / Spring Meet
DESCRIPTION:First Post: 5:55 p.m. ET \nPhoto by Coady Photography
URL:https://thepressboxlts.com/event/turfway-park-winter-spring-meet-92/
LOCATION:Turfway Park\, Florence\, KY\, United States
ATTACH;FMTTYPE=image/jpeg:https://thepressboxlts.com/wp-content/uploads/2024/03/MAXISUPERFLY-The-Cincinnati-Trophy-42nd-Running-03-01-24-R06-Turfway-Park-Finish-01-scaled.jpg
END:VEVENT
BEGIN:VEVENT
DTSTART;TZID=America/Kentucky/Louisville:20240314T123000
DTEND;TZID=America/Kentucky/Louisville:20240314T190000
DTSTAMP:20260422T001308
CREATED:20240312T171059Z
LAST-MODIFIED:20240312T171059Z
UID:62123-1710419400-1710442800@thepressboxlts.com
SUMMARY:Fair Grounds Winter / Spring Meet
DESCRIPTION:First Post: 12:45 p.m. CT \nPhoto by Holly M. Smith \n 
URL:https://thepressboxlts.com/event/fair-grounds-winter-spring-meet-70/
LOCATION:Fair Grounds\, New Orleans\, LA\, United States
END:VEVENT
BEGIN:VEVENT
DTSTART;TZID=America/Kentucky/Louisville:20240313T173000
DTEND;TZID=America/Kentucky/Louisville:20240313T223000
DTSTAMP:20260422T001308
CREATED:20240312T170433Z
LAST-MODIFIED:20240312T170433Z
UID:62113-1710351000-1710369000@thepressboxlts.com
SUMMARY:Turfway Park Winter / Spring Meet
DESCRIPTION:First Post: 5:55 p.m. ET \nPhoto by Coady Photography
URL:https://thepressboxlts.com/event/turfway-park-winter-spring-meet-91/
LOCATION:Turfway Park\, Florence\, KY\, United States
ATTACH;FMTTYPE=image/jpeg:https://thepressboxlts.com/wp-content/uploads/2024/03/B-G-WARRIOR-The-Wishing-Well-31st-Running-01-27-24-R08-Turfway-Park-Finish-01-1-scaled.jpg
END:VEVENT
BEGIN:VEVENT
DTSTART;TZID=America/Kentucky/Louisville:20240313T123000
DTEND;TZID=America/Kentucky/Louisville:20240313T190000
DTSTAMP:20260422T001308
CREATED:20240312T170946Z
LAST-MODIFIED:20240312T170946Z
UID:62121-1710333000-1710356400@thepressboxlts.com
SUMMARY:Fair Grounds Winter / Spring Meet
DESCRIPTION:First Post: 12:45 p.m. CT \nPhoto by Holly M. Smith \n 
URL:https://thepressboxlts.com/event/fair-grounds-winter-spring-meet-69/
LOCATION:Fair Grounds\, New Orleans\, LA\, United States
END:VEVENT
BEGIN:VEVENT
DTSTART;TZID=America/Kentucky/Louisville:20240310T123000
DTEND;TZID=America/Kentucky/Louisville:20240310T193000
DTSTAMP:20260422T001308
CREATED:20240304T001107Z
LAST-MODIFIED:20240304T001107Z
UID:62014-1710073800-1710099000@thepressboxlts.com
SUMMARY:Fair Grounds Winter / Spring Meet
DESCRIPTION:First Post: 12:45 p.m. CT \nPhotos by Holly M. Smith
URL:https://thepressboxlts.com/event/fair-grounds-winter-spring-meet-68/
LOCATION:Fair Grounds\, New Orleans\, LA\, United States
END:VEVENT
BEGIN:VEVENT
DTSTART;TZID=America/Kentucky/Louisville:20240309T173000
DTEND;TZID=America/Kentucky/Louisville:20240309T223000
DTSTAMP:20260422T001308
CREATED:20240304T000323Z
LAST-MODIFIED:20240304T000323Z
UID:62004-1710005400-1710023400@thepressboxlts.com
SUMMARY:Turfway Park Winter / Spring Meet
DESCRIPTION:First Post: 5:55 p.m. ET \nPhoto by Coady Photography
URL:https://thepressboxlts.com/event/turfway-park-winter-spring-meet-90/
LOCATION:Turfway Park\, Florence\, KY\, United States
END:VEVENT
BEGIN:VEVENT
DTSTART;TZID=America/Kentucky/Louisville:20240309T123000
DTEND;TZID=America/Kentucky/Louisville:20240309T193000
DTSTAMP:20260422T001308
CREATED:20240304T000951Z
LAST-MODIFIED:20240304T000951Z
UID:62012-1709987400-1710012600@thepressboxlts.com
SUMMARY:Fair Grounds Winter / Spring Meet
DESCRIPTION:First Post: 12:45 p.m. CT \nPhotos by Holly M. Smith
URL:https://thepressboxlts.com/event/fair-grounds-winter-spring-meet-67/
LOCATION:Fair Grounds\, New Orleans\, LA\, United States
END:VEVENT
BEGIN:VEVENT
DTSTART;TZID=America/Kentucky/Louisville:20240308T173000
DTEND;TZID=America/Kentucky/Louisville:20240308T223000
DTSTAMP:20260422T001308
CREATED:20240304T000148Z
LAST-MODIFIED:20240304T000148Z
UID:62002-1709919000-1709937000@thepressboxlts.com
SUMMARY:Turfway Park Winter / Spring Meet
DESCRIPTION:First Post: 5:55 p.m. ET \nPhoto by Coady Photography
URL:https://thepressboxlts.com/event/turfway-park-winter-spring-meet-89/
LOCATION:Turfway Park\, Florence\, KY\, United States
ATTACH;FMTTYPE=image/jpeg:https://thepressboxlts.com/wp-content/uploads/2024/03/ENCINO-The-John-Battaglia-42nd-Running-03-02-24-R06-Turfway-Park-Finish-01-scaled.jpg
END:VEVENT
BEGIN:VEVENT
DTSTART;TZID=America/Kentucky/Louisville:20240308T123000
DTEND;TZID=America/Kentucky/Louisville:20240308T193000
DTSTAMP:20260422T001308
CREATED:20240304T000840Z
LAST-MODIFIED:20240304T000840Z
UID:62010-1709901000-1709926200@thepressboxlts.com
SUMMARY:Fair Grounds Winter / Spring Meet
DESCRIPTION:First Post: 12:45 p.m. CT \nPhotos by Holly M. Smith
URL:https://thepressboxlts.com/event/fair-grounds-winter-spring-meet-66/
LOCATION:Fair Grounds\, New Orleans\, LA\, United States
END:VEVENT
BEGIN:VEVENT
DTSTART;TZID=America/Kentucky/Louisville:20240307T173000
DTEND;TZID=America/Kentucky/Louisville:20240307T223000
DTSTAMP:20260422T001308
CREATED:20240304T000036Z
LAST-MODIFIED:20240304T000036Z
UID:62000-1709832600-1709850600@thepressboxlts.com
SUMMARY:Turfway Park Winter / Spring Meet
DESCRIPTION:First Post: 5:55 p.m. ET \nPhoto by Coady Photography
URL:https://thepressboxlts.com/event/turfway-park-winter-spring-meet-88/
LOCATION:Turfway Park\, Florence\, KY\, United States
ATTACH;FMTTYPE=image/jpeg:https://thepressboxlts.com/wp-content/uploads/2024/03/MAXISUPERFLY-The-Cincinnati-Trophy-42nd-Running-03-01-24-R06-Turfway-Park-Finish-01-scaled.jpg
END:VEVENT
BEGIN:VEVENT
DTSTART;TZID=America/Kentucky/Louisville:20240307T123000
DTEND;TZID=America/Kentucky/Louisville:20240307T193000
DTSTAMP:20260422T001308
CREATED:20240304T000650Z
LAST-MODIFIED:20240304T000650Z
UID:62008-1709814600-1709839800@thepressboxlts.com
SUMMARY:Fair Grounds Winter / Spring Meet
DESCRIPTION:First Post: 12:45 p.m. CT
URL:https://thepressboxlts.com/event/fair-grounds-winter-spring-meet-65/
LOCATION:Fair Grounds\, New Orleans\, LA\, United States
END:VEVENT
END:VCALENDAR