BEGIN:VCALENDAR
VERSION:2.0
PRODID:-//The Pressbox - ECPv6.15.19//NONSGML v1.0//EN
CALSCALE:GREGORIAN
METHOD:PUBLISH
X-WR-CALNAME:The Pressbox
X-ORIGINAL-URL:https://thepressboxlts.com
X-WR-CALDESC:Events for The Pressbox
REFRESH-INTERVAL;VALUE=DURATION:PT1H
X-Robots-Tag:noindex
X-PUBLISHED-TTL:PT1H
BEGIN:VTIMEZONE
TZID:America/Kentucky/Louisville
BEGIN:DAYLIGHT
TZOFFSETFROM:-0500
TZOFFSETTO:-0400
TZNAME:EDT
DTSTART:20230312T070000
END:DAYLIGHT
BEGIN:STANDARD
TZOFFSETFROM:-0400
TZOFFSETTO:-0500
TZNAME:EST
DTSTART:20231105T060000
END:STANDARD
BEGIN:DAYLIGHT
TZOFFSETFROM:-0500
TZOFFSETTO:-0400
TZNAME:EDT
DTSTART:20240310T070000
END:DAYLIGHT
BEGIN:STANDARD
TZOFFSETFROM:-0400
TZOFFSETTO:-0500
TZNAME:EST
DTSTART:20241103T060000
END:STANDARD
BEGIN:DAYLIGHT
TZOFFSETFROM:-0500
TZOFFSETTO:-0400
TZNAME:EDT
DTSTART:20250309T070000
END:DAYLIGHT
BEGIN:STANDARD
TZOFFSETFROM:-0400
TZOFFSETTO:-0500
TZNAME:EST
DTSTART:20251102T060000
END:STANDARD
END:VTIMEZONE
BEGIN:VEVENT
DTSTART;TZID=America/Kentucky/Louisville:20240513T140000
DTEND;TZID=America/Kentucky/Louisville:20240513T190000
DTSTAMP:20260421T195514
CREATED:20240514T203654Z
LAST-MODIFIED:20240514T203654Z
UID:64193-1715608800-1715626800@thepressboxlts.com
SUMMARY:Horseshoe Indianapolis Spring / Summer Meet
DESCRIPTION:First Post: 2:10 p.m. ET \nPhoto by Coady Media
URL:https://thepressboxlts.com/event/horseshoe-indianapolis-spring-summer-meet-14/
LOCATION:Horseshoe Indianapolis\, Shelbyville\, IN\, United States
END:VEVENT
BEGIN:VEVENT
DTSTART;TZID=America/Kentucky/Louisville:20240512T123000
DTEND;TZID=America/Kentucky/Louisville:20240512T183000
DTSTAMP:20260421T195514
CREATED:20240506T160339Z
LAST-MODIFIED:20240506T160339Z
UID:64118-1715517000-1715538600@thepressboxlts.com
SUMMARY:Churchill Downs Spring / Summer Meet
DESCRIPTION:First Post: 12:45 p.m. ET \nPhoto by Holly M. Smith
URL:https://thepressboxlts.com/event/churchill-downs-spring-summer-meet-20/
LOCATION:Churchill Downs\, Louisville\, KY\, United States
ATTACH;FMTTYPE=image/jpeg:https://thepressboxlts.com/wp-content/uploads/2024/05/HMS_5582-scaled.jpg
END:VEVENT
BEGIN:VEVENT
DTSTART;TZID=America/Kentucky/Louisville:20240511T123000
DTEND;TZID=America/Kentucky/Louisville:20240511T183000
DTSTAMP:20260421T195514
CREATED:20240506T160246Z
LAST-MODIFIED:20240506T160246Z
UID:64116-1715430600-1715452200@thepressboxlts.com
SUMMARY:Churchill Downs Spring / Summer Meet
DESCRIPTION:First Post: 12:45 p.m. ET \nPhoto by Holly M. Smith
URL:https://thepressboxlts.com/event/churchill-downs-spring-summer-meet-19/
LOCATION:Churchill Downs\, Louisville\, KY\, United States
ATTACH;FMTTYPE=image/jpeg:https://thepressboxlts.com/wp-content/uploads/2024/05/HMS_5736-scaled.jpg
END:VEVENT
BEGIN:VEVENT
DTSTART;TZID=America/Kentucky/Louisville:20240510T123000
DTEND;TZID=America/Kentucky/Louisville:20240510T183000
DTSTAMP:20260421T195514
CREATED:20240506T160152Z
LAST-MODIFIED:20240506T160152Z
UID:64114-1715344200-1715365800@thepressboxlts.com
SUMMARY:Churchill Downs Spring / Summer Meet
DESCRIPTION:First Post: 12:45 p.m. ET \nPhoto by Holly M. Smith
URL:https://thepressboxlts.com/event/churchill-downs-spring-summer-meet-18/
LOCATION:Churchill Downs\, Louisville\, KY\, United States
ATTACH;FMTTYPE=image/jpeg:https://thepressboxlts.com/wp-content/uploads/2024/05/HMS_6638-scaled.jpg
END:VEVENT
BEGIN:VEVENT
DTSTART;TZID=America/Kentucky/Louisville:20240509T170000
DTEND;TZID=America/Kentucky/Louisville:20240509T230000
DTSTAMP:20260421T195514
CREATED:20240506T154807Z
LAST-MODIFIED:20240506T160057Z
UID:64111-1715274000-1715295600@thepressboxlts.com
SUMMARY:Churchill Downs Spring / Summer Meet
DESCRIPTION:First Post: 5:30 p.m. ET \nTwilight Thursday Program \nPhoto by Holly M. Smith
URL:https://thepressboxlts.com/event/churchill-downs-spring-summer-meet-17/
LOCATION:Churchill Downs\, Louisville\, KY\, United States
ATTACH;FMTTYPE=image/jpeg:https://thepressboxlts.com/wp-content/uploads/2024/05/HMS_6949-mystic-dan-scaled.jpg
END:VEVENT
BEGIN:VEVENT
DTSTART;TZID=America/Kentucky/Louisville:20240509T140000
DTEND;TZID=America/Kentucky/Louisville:20240509T190000
DTSTAMP:20260421T195514
CREATED:20240506T161034Z
LAST-MODIFIED:20240506T161034Z
UID:64126-1715263200-1715281200@thepressboxlts.com
SUMMARY:Horseshoe Indianapolis Spring / Summer Meet
DESCRIPTION:First Post: 2:10 p.m. ET \nPhoto by Coady Media
URL:https://thepressboxlts.com/event/horseshoe-indianapolis-spring-summer-meet-10/
LOCATION:Horseshoe Indianapolis\, Shelbyville\, IN\, United States
END:VEVENT
BEGIN:VEVENT
DTSTART;TZID=America/Kentucky/Louisville:20240508T140000
DTEND;TZID=America/Kentucky/Louisville:20240508T190000
DTSTAMP:20260421T195514
CREATED:20240506T160916Z
LAST-MODIFIED:20240506T160916Z
UID:64124-1715176800-1715194800@thepressboxlts.com
SUMMARY:Horseshoe Indianapolis Spring / Summer Meet
DESCRIPTION:First Post: 2:10 p.m. ET \nPhoto by Coady Media
URL:https://thepressboxlts.com/event/horseshoe-indianapolis-spring-summer-meet-9/
LOCATION:Horseshoe Indianapolis\, Shelbyville\, IN\, United States
END:VEVENT
BEGIN:VEVENT
DTSTART;TZID=America/Kentucky/Louisville:20240507T140000
DTEND;TZID=America/Kentucky/Louisville:20240507T190000
DTSTAMP:20260421T195514
CREATED:20240506T160805Z
LAST-MODIFIED:20240506T160805Z
UID:64122-1715090400-1715108400@thepressboxlts.com
SUMMARY:Horseshoe Indianapolis Spring / Summer Meet
DESCRIPTION:First Post: 2:10 p.m. ET \nPhoto by Coady Media \n 
URL:https://thepressboxlts.com/event/horseshoe-indianapolis-spring-summer-meet-8/
LOCATION:Horseshoe Indianapolis\, Shelbyville\, IN\, United States
END:VEVENT
BEGIN:VEVENT
DTSTART;TZID=America/Kentucky/Louisville:20240506T140000
DTEND;TZID=America/Kentucky/Louisville:20240506T183000
DTSTAMP:20260421T195514
CREATED:20240506T160706Z
LAST-MODIFIED:20240506T160706Z
UID:64120-1715004000-1715020200@thepressboxlts.com
SUMMARY:Horseshoe Indianapolis Spring / Summer Meet
DESCRIPTION:First Post: 2:10 p.m. ET \nPhoto by Coady Media
URL:https://thepressboxlts.com/event/horseshoe-indianapolis-spring-summer-meet-7/
LOCATION:Horseshoe Indianapolis\, Shelbyville\, IN\, United States
ATTACH;FMTTYPE=image/jpeg:https://thepressboxlts.com/wp-content/uploads/2024/04/Eclipse-Horseshoe-Indianapolis-04-08-24-004-CARIMBA-scaled.jpg
END:VEVENT
BEGIN:VEVENT
DTSTART;TZID=America/Kentucky/Louisville:20240504T103000
DTEND;TZID=America/Kentucky/Louisville:20240504T193000
DTSTAMP:20260421T195514
CREATED:20240425T143647Z
LAST-MODIFIED:20240425T143647Z
UID:63417-1714818600-1714851000@thepressboxlts.com
SUMMARY:Churchill Downs Spring / Summer Meet -- 150th Kentucky Derby Day
DESCRIPTION:First Post: 10:30 a.m. ET \n150th Kentucky Derby Day \nPhoto by Coady Photography
URL:https://thepressboxlts.com/event/churchill-downs-spring-summer-meet-150th-kentucky-derby-day/
LOCATION:Churchill Downs\, Louisville\, KY\, United States
END:VEVENT
BEGIN:VEVENT
DTSTART;TZID=America/Kentucky/Louisville:20240503T103000
DTEND;TZID=America/Kentucky/Louisville:20240503T190000
DTSTAMP:20260421T195514
CREATED:20240425T143334Z
LAST-MODIFIED:20240425T143436Z
UID:63414-1714732200-1714762800@thepressboxlts.com
SUMMARY:Churchill Downs Spring / Summer Meet -- Ky Oaks Day
DESCRIPTION:First Post: 12:45 p.m. ET \nKY Oaks \nPhoto by Coady Photography
URL:https://thepressboxlts.com/event/churchill-downs-spring-summer-meet-16/
LOCATION:Churchill Downs\, Louisville\, KY\, United States
ATTACH;FMTTYPE=image/jpeg:https://thepressboxlts.com/wp-content/uploads/2024/04/Thorpedo-Anna-Morning-Churchill-Downs-04-24-24-02-Renee-Torbit-scaled.jpg
END:VEVENT
BEGIN:VEVENT
DTSTART;TZID=America/Kentucky/Louisville:20240502T123000
DTEND;TZID=America/Kentucky/Louisville:20240502T193000
DTSTAMP:20260421T195514
CREATED:20240425T143129Z
LAST-MODIFIED:20240425T143129Z
UID:63412-1714653000-1714678200@thepressboxlts.com
SUMMARY:Churchill Downs Spring / Summer Meet
DESCRIPTION:First Post: 12:45 p.m. ET \nThurby Celebration \nPhoto by Coady Photography
URL:https://thepressboxlts.com/event/churchill-downs-spring-summer-meet-15/
LOCATION:Churchill Downs\, Louisville\, KY\, United States
ATTACH;FMTTYPE=image/jpeg:https://thepressboxlts.com/wp-content/uploads/2024/04/HMS_9702-mystic-dan-scaled.jpg
END:VEVENT
BEGIN:VEVENT
DTSTART;TZID=America/Kentucky/Louisville:20240501T123000
DTEND;TZID=America/Kentucky/Louisville:20240501T193000
DTSTAMP:20260421T195514
CREATED:20240425T142927Z
LAST-MODIFIED:20240425T142927Z
UID:63410-1714566600-1714591800@thepressboxlts.com
SUMMARY:Churchill Downs Spring / Summer Meet
DESCRIPTION:First Post: 12:45 p.m. ET \nChampions Day \nPhoto by Coady Photography
URL:https://thepressboxlts.com/event/churchill-downs-spring-summer-meet-14/
LOCATION:Churchill Downs\, Louisville\, KY\, United States
ATTACH;FMTTYPE=image/jpeg:https://thepressboxlts.com/wp-content/uploads/2024/04/HMS_9873-sierra-leone-scaled.jpg
END:VEVENT
BEGIN:VEVENT
DTSTART;TZID=America/Kentucky/Louisville:20240430T123000
DTEND;TZID=America/Kentucky/Louisville:20240430T193000
DTSTAMP:20260421T195514
CREATED:20240425T142755Z
LAST-MODIFIED:20240425T142755Z
UID:63408-1714480200-1714505400@thepressboxlts.com
SUMMARY:Churchill Downs Spring / Summer Meet
DESCRIPTION:First Post: 12:45 p.m. ET \nPhoto by Coady Photography
URL:https://thepressboxlts.com/event/churchill-downs-spring-summer-meet-13/
LOCATION:Churchill Downs\, Louisville\, KY\, United States
ATTACH;FMTTYPE=image/jpeg:https://thepressboxlts.com/wp-content/uploads/2024/04/Endlessly-Morning-Churchill-Downs-04-24-24-02-Renee-Torbit-scaled.jpg
END:VEVENT
BEGIN:VEVENT
DTSTART;TZID=America/Kentucky/Louisville:20240427T180000
DTEND;TZID=America/Kentucky/Louisville:20240427T230000
DTSTAMP:20260421T195514
CREATED:20240425T142619Z
LAST-MODIFIED:20240425T142619Z
UID:63406-1714240800-1714258800@thepressboxlts.com
SUMMARY:Churchill Downs Spring / Summer Meet
DESCRIPTION:First Post: 6 p.m. \nCoady Photography
URL:https://thepressboxlts.com/event/churchill-downs-spring-summer-meet-12/
LOCATION:Churchill Downs\, Louisville\, KY\, United States
ATTACH;FMTTYPE=image/jpeg:https://thepressboxlts.com/wp-content/uploads/2024/04/Track-Phantom-Morning-Churchill-Downs-04-24-24-01-Kurtis-Coady-scaled.jpg
END:VEVENT
BEGIN:VEVENT
DTSTART;TZID=America/Kentucky/Louisville:20240421T130000
DTEND;TZID=America/Kentucky/Louisville:20240421T183000
DTSTAMP:20260421T195514
CREATED:20240415T211522Z
LAST-MODIFIED:20240415T211522Z
UID:63055-1713704400-1713724200@thepressboxlts.com
SUMMARY:Keeneland April Meet
DESCRIPTION:First Post: 1 p.m. ET \nPhoto by Coady Photography
URL:https://thepressboxlts.com/event/keeneland-april-meet-24/
LOCATION:Keeneland Race Course\, KY\, United States
ATTACH;FMTTYPE=image/jpeg:https://thepressboxlts.com/wp-content/uploads/2024/04/FANDOM-The-Palisades-04-07-24-R07-Keeneland-Race-Course-Come-Back-01-Renee-Torbit-scaled.jpg
END:VEVENT
BEGIN:VEVENT
DTSTART;TZID=America/Kentucky/Louisville:20240420T130000
DTEND;TZID=America/Kentucky/Louisville:20240420T183000
DTSTAMP:20260421T195514
CREATED:20240415T211404Z
LAST-MODIFIED:20240415T211404Z
UID:63053-1713618000-1713637800@thepressboxlts.com
SUMMARY:Keeneland April Meet
DESCRIPTION:First Post: 1 p.m. ET \nPhoto by Coady Photography
URL:https://thepressboxlts.com/event/keeneland-april-meet-23/
LOCATION:Keeneland Race Course\, KY\, United States
ATTACH;FMTTYPE=image/jpeg:https://thepressboxlts.com/wp-content/uploads/2024/04/MASTER-OF-THE-SEAS-Makers-Mark-Mile-G1-36th-Running-04-12-24-R09-Keeneland-Race-Course-Up-Track-01-Kurtis-Coady-scaled.jpg
END:VEVENT
BEGIN:VEVENT
DTSTART;TZID=America/Kentucky/Louisville:20240419T130000
DTEND;TZID=America/Kentucky/Louisville:20240419T183000
DTSTAMP:20260421T195514
CREATED:20240415T211251Z
LAST-MODIFIED:20240415T211251Z
UID:63051-1713531600-1713551400@thepressboxlts.com
SUMMARY:Keeneland April Meet
DESCRIPTION:First Post: 1 p.m. ET \nPhoto by Coady Photography
URL:https://thepressboxlts.com/event/keeneland-april-meet-22/
LOCATION:Keeneland Race Course\, KY\, United States
ATTACH;FMTTYPE=image/jpeg:https://thepressboxlts.com/wp-content/uploads/2024/04/MASTER-OF-THE-SEAS-Makers-Mark-Mile-G1-36th-Running-04-12-24-R09-Keeneland-Race-Course-Finish-04-Jetta-Vaughns-scaled.jpg
END:VEVENT
BEGIN:VEVENT
DTSTART;TZID=America/Kentucky/Louisville:20240418T130000
DTEND;TZID=America/Kentucky/Louisville:20240418T183000
DTSTAMP:20260421T195514
CREATED:20240415T211121Z
LAST-MODIFIED:20240415T211121Z
UID:63049-1713445200-1713465000@thepressboxlts.com
SUMMARY:Keeneland April Meet
DESCRIPTION:First Post: 1 p.m. ET \nPhoto by Coady Photography
URL:https://thepressboxlts.com/event/keeneland-april-meet-21/
LOCATION:Keeneland Race Course\, KY\, United States
ATTACH;FMTTYPE=image/jpeg:https://thepressboxlts.com/wp-content/uploads/2024/04/ENCINO-The-Stonestreet-Lexington-G3-42nd-Running-04-13-24-RRace-10-Keeneland-Race-Course-Start-01-Kurtis-Coady-scaled.jpg
END:VEVENT
BEGIN:VEVENT
DTSTART;TZID=America/Kentucky/Louisville:20240417T130000
DTEND;TZID=America/Kentucky/Louisville:20240417T183000
DTSTAMP:20260421T195514
CREATED:20240415T211018Z
LAST-MODIFIED:20240415T211018Z
UID:63047-1713358800-1713378600@thepressboxlts.com
SUMMARY:Keeneland April Meet
DESCRIPTION:First Post: 1 p.m. ET \nPhoto by Coady Photography
URL:https://thepressboxlts.com/event/keeneland-april-meet-20/
LOCATION:Keeneland Race Course\, KY\, United States
ATTACH;FMTTYPE=image/jpeg:https://thepressboxlts.com/wp-content/uploads/2024/04/BEAUTE-CACHEE-The-Jenny-Wiley-G1-36th-Running-04-13-24-RRace-9-Keeneland-Race-Course-Flying-Dismount-01-Kurtis-Coady-scaled.jpg
END:VEVENT
BEGIN:VEVENT
DTSTART;TZID=America/Kentucky/Louisville:20240414T130000
DTEND;TZID=America/Kentucky/Louisville:20240414T183000
DTSTAMP:20260421T195514
CREATED:20240408T150753Z
LAST-MODIFIED:20240408T150753Z
UID:62701-1713099600-1713119400@thepressboxlts.com
SUMMARY:Keeneland April Meet
DESCRIPTION:First Post: 1 p.m. ET \nPhoto by Coady Photography
URL:https://thepressboxlts.com/event/keeneland-april-meet-19/
LOCATION:Keeneland Race Course\, KY\, United States
ATTACH;FMTTYPE=image/jpeg:https://thepressboxlts.com/wp-content/uploads/2024/04/SIERRA-LEONE-The-Toyota-Blue-Grass-G1-100th-Running-04-06-24-R10-Keeneland-Race-Course-Come-Back-04-Renee-Torbit-scaled.jpg
END:VEVENT
BEGIN:VEVENT
DTSTART;TZID=America/Kentucky/Louisville:20240413T130000
DTEND;TZID=America/Kentucky/Louisville:20240413T183000
DTSTAMP:20260421T195514
CREATED:20240408T150658Z
LAST-MODIFIED:20240408T150658Z
UID:62699-1713013200-1713033000@thepressboxlts.com
SUMMARY:Keeneland April Meet
DESCRIPTION:First Post: 1 p.m. ET \nPhoto by Coady Photography
URL:https://thepressboxlts.com/event/keeneland-april-meet-18/
LOCATION:Keeneland Race Course\, KY\, United States
ATTACH;FMTTYPE=image/jpeg:https://thepressboxlts.com/wp-content/uploads/2024/04/SIERRA-LEONE-The-Toyota-Blue-Grass-G1-100th-Running-04-06-24-R10-Keeneland-Race-Course-First-Pass-02-Renee-Torbit-scaled.jpg
END:VEVENT
BEGIN:VEVENT
DTSTART;TZID=America/Kentucky/Louisville:20240412T130000
DTEND;TZID=America/Kentucky/Louisville:20240412T183000
DTSTAMP:20260421T195514
CREATED:20240408T150602Z
LAST-MODIFIED:20240408T150602Z
UID:62697-1712926800-1712946600@thepressboxlts.com
SUMMARY:Keeneland April Meet
DESCRIPTION:First Post: 1 p.m. ET \nPhoto by Coady Photography
URL:https://thepressboxlts.com/event/keeneland-april-meet-17/
LOCATION:Keeneland Race Course\, KY\, United States
ATTACH;FMTTYPE=image/jpeg:https://thepressboxlts.com/wp-content/uploads/2024/04/SIERRA-LEONE-The-Toyota-Blue-Grass-G1-100th-Running-04-06-24-R10-Keeneland-Race-Course-Saddle-Towel-01-Renee-Torbit-scaled.jpg
END:VEVENT
BEGIN:VEVENT
DTSTART;TZID=America/Kentucky/Louisville:20240411T130000
DTEND;TZID=America/Kentucky/Louisville:20240411T183000
DTSTAMP:20260421T195514
CREATED:20240408T150501Z
LAST-MODIFIED:20240408T150501Z
UID:62695-1712840400-1712860200@thepressboxlts.com
SUMMARY:Keeneland April Meet
DESCRIPTION:First Post: 1 p.m. ET \nPhoto by Coady Photography
URL:https://thepressboxlts.com/event/keeneland-april-meet-16/
LOCATION:Keeneland Race Course\, KY\, United States
ATTACH;FMTTYPE=image/jpeg:https://thepressboxlts.com/wp-content/uploads/2024/04/DENIM-AND-PEARLS-The-MiddleGround-Capital-Beaumont-G2-04-07-24-R08-Keeneland-Race-Course-Backstretch-01-John-Gallagher-scaled.jpg
END:VEVENT
BEGIN:VEVENT
DTSTART;TZID=America/Kentucky/Louisville:20240410T130000
DTEND;TZID=America/Kentucky/Louisville:20240410T183000
DTSTAMP:20260421T195514
CREATED:20240408T150354Z
LAST-MODIFIED:20240408T150354Z
UID:62693-1712754000-1712773800@thepressboxlts.com
SUMMARY:Keeneland April Meet
DESCRIPTION:First Post: 1 p.m. ET \nPhoto by Coady Photography
URL:https://thepressboxlts.com/event/keeneland-april-meet-15/
LOCATION:Keeneland Race Course\, KY\, United States
ATTACH;FMTTYPE=image/jpeg:https://thepressboxlts.com/wp-content/uploads/2024/04/DENIM-AND-PEARLS-The-MiddleGround-Capital-Beaumont-G2-04-07-24-R08-Keeneland-Race-Course-Winners-Circle-Tight-01-Renee-Torbit-scaled.jpg
END:VEVENT
BEGIN:VEVENT
DTSTART;TZID=America/Kentucky/Louisville:20240408T120000
DTEND;TZID=America/Kentucky/Louisville:20240408T183000
DTSTAMP:20260421T195514
CREATED:20240408T151248Z
LAST-MODIFIED:20240408T151248Z
UID:62703-1712577600-1712601000@thepressboxlts.com
SUMMARY:Horseshoe Indianapolis 2024 Race Meet -- Solar Eclipse Race Day
DESCRIPTION:First Post: 12 noon ET \nPhoto by Coady Photography
URL:https://thepressboxlts.com/event/horseshoe-indianapolis-2024-race-meet-solar-eclipse-race-day/
LOCATION:Horseshoe Indianapolis\, Shelbyville\, IN\, United States
END:VEVENT
BEGIN:VEVENT
DTSTART;TZID=America/Kentucky/Louisville:20240407T130000
DTEND;TZID=America/Kentucky/Louisville:20240407T180000
DTSTAMP:20260421T195514
CREATED:20240402T215030Z
LAST-MODIFIED:20240402T215030Z
UID:62433-1712494800-1712512800@thepressboxlts.com
SUMMARY:Keeneland Spring Meet
DESCRIPTION:First Post: 1 p.m. ET \nPhoto by Coady Photography
URL:https://thepressboxlts.com/event/keeneland-spring-meet-3/
LOCATION:Keeneland Race Course\, KY\, United States
END:VEVENT
BEGIN:VEVENT
DTSTART;TZID=America/Kentucky/Louisville:20240406T130000
DTEND;TZID=America/Kentucky/Louisville:20240406T180000
DTSTAMP:20260421T195514
CREATED:20240402T214923Z
LAST-MODIFIED:20240402T214923Z
UID:62431-1712408400-1712426400@thepressboxlts.com
SUMMARY:Keeneland Spring Meet
DESCRIPTION:First Post: 1 p.m. ET \nPhoto by Coady Photography
URL:https://thepressboxlts.com/event/keeneland-spring-meet-2/
LOCATION:Keeneland Race Course\, KY\, United States
END:VEVENT
BEGIN:VEVENT
DTSTART;TZID=America/Kentucky/Louisville:20240405T130000
DTEND;TZID=America/Kentucky/Louisville:20240405T180000
DTSTAMP:20260421T195514
CREATED:20240402T214801Z
LAST-MODIFIED:20240402T214801Z
UID:62429-1712322000-1712340000@thepressboxlts.com
SUMMARY:Keeneland Spring Meet
DESCRIPTION:First Post: 1 p.m. ET \nPhoto by Coady Photography
URL:https://thepressboxlts.com/event/keeneland-spring-meet/
LOCATION:Keeneland Race Course\, KY\, United States
END:VEVENT
BEGIN:VEVENT
DTSTART;TZID=America/Kentucky/Louisville:20240330T173000
DTEND;TZID=America/Kentucky/Louisville:20240330T223000
DTSTAMP:20260421T195514
CREATED:20240325T201241Z
LAST-MODIFIED:20240325T201241Z
UID:62322-1711819800-1711837800@thepressboxlts.com
SUMMARY:Turfway Park Winter / Spring Meet -- Closing Day of 2024 Meet
DESCRIPTION:First Post: 5:55 p.m. ET \nSerena’s Song Stakes — Final Day / Stakes of the Meet \nPhoto by Coady Photography
URL:https://thepressboxlts.com/event/turfway-park-winter-spring-meet-closing-day-of-2024-meet/
LOCATION:Turfway Park\, Florence\, KY\, United States
ATTACH;FMTTYPE=image/jpeg:https://thepressboxlts.com/wp-content/uploads/2024/03/NICE-AS-PIE-The-Valdale-37th-Running-02-10-24-R07-Turfway-Park-Finish-01-scaled.jpg
END:VEVENT
END:VCALENDAR