BEGIN:VCALENDAR
VERSION:2.0
PRODID:-//The Pressbox - ECPv6.15.19//NONSGML v1.0//EN
CALSCALE:GREGORIAN
METHOD:PUBLISH
X-WR-CALNAME:The Pressbox
X-ORIGINAL-URL:https://thepressboxlts.com
X-WR-CALDESC:Events for The Pressbox
REFRESH-INTERVAL;VALUE=DURATION:PT1H
X-Robots-Tag:noindex
X-PUBLISHED-TTL:PT1H
BEGIN:VTIMEZONE
TZID:America/Kentucky/Louisville
BEGIN:DAYLIGHT
TZOFFSETFROM:-0500
TZOFFSETTO:-0400
TZNAME:EDT
DTSTART:20230312T070000
END:DAYLIGHT
BEGIN:STANDARD
TZOFFSETFROM:-0400
TZOFFSETTO:-0500
TZNAME:EST
DTSTART:20231105T060000
END:STANDARD
BEGIN:DAYLIGHT
TZOFFSETFROM:-0500
TZOFFSETTO:-0400
TZNAME:EDT
DTSTART:20240310T070000
END:DAYLIGHT
BEGIN:STANDARD
TZOFFSETFROM:-0400
TZOFFSETTO:-0500
TZNAME:EST
DTSTART:20241103T060000
END:STANDARD
BEGIN:DAYLIGHT
TZOFFSETFROM:-0500
TZOFFSETTO:-0400
TZNAME:EDT
DTSTART:20250309T070000
END:DAYLIGHT
BEGIN:STANDARD
TZOFFSETFROM:-0400
TZOFFSETTO:-0500
TZNAME:EST
DTSTART:20251102T060000
END:STANDARD
END:VTIMEZONE
BEGIN:VEVENT
DTSTART;TZID=America/Kentucky/Louisville:20240315T170000
DTEND;TZID=America/Kentucky/Louisville:20240315T223000
DTSTAMP:20260422T034221
CREATED:20240312T171237Z
LAST-MODIFIED:20240312T171237Z
UID:62125-1710522000-1710541800@thepressboxlts.com
SUMMARY:Fair Grounds Winter / Spring Meet
DESCRIPTION:Special First Post: 5 p.m. CT \nPhoto by Holly M. Smith
URL:https://thepressboxlts.com/event/fair-grounds-winter-spring-meet-71/
LOCATION:Fair Grounds\, New Orleans\, LA\, United States
END:VEVENT
BEGIN:VEVENT
DTSTART;TZID=America/Kentucky/Louisville:20240314T173000
DTEND;TZID=America/Kentucky/Louisville:20240314T223000
DTSTAMP:20260422T034221
CREATED:20240312T170552Z
LAST-MODIFIED:20240312T170552Z
UID:62115-1710437400-1710455400@thepressboxlts.com
SUMMARY:Turfway Park Winter / Spring Meet
DESCRIPTION:First Post: 5:55 p.m. ET \nPhoto by Coady Photography
URL:https://thepressboxlts.com/event/turfway-park-winter-spring-meet-92/
LOCATION:Turfway Park\, Florence\, KY\, United States
ATTACH;FMTTYPE=image/jpeg:https://thepressboxlts.com/wp-content/uploads/2024/03/MAXISUPERFLY-The-Cincinnati-Trophy-42nd-Running-03-01-24-R06-Turfway-Park-Finish-01-scaled.jpg
END:VEVENT
BEGIN:VEVENT
DTSTART;TZID=America/Kentucky/Louisville:20240314T123000
DTEND;TZID=America/Kentucky/Louisville:20240314T190000
DTSTAMP:20260422T034221
CREATED:20240312T171059Z
LAST-MODIFIED:20240312T171059Z
UID:62123-1710419400-1710442800@thepressboxlts.com
SUMMARY:Fair Grounds Winter / Spring Meet
DESCRIPTION:First Post: 12:45 p.m. CT \nPhoto by Holly M. Smith \n 
URL:https://thepressboxlts.com/event/fair-grounds-winter-spring-meet-70/
LOCATION:Fair Grounds\, New Orleans\, LA\, United States
END:VEVENT
BEGIN:VEVENT
DTSTART;TZID=America/Kentucky/Louisville:20240313T173000
DTEND;TZID=America/Kentucky/Louisville:20240313T223000
DTSTAMP:20260422T034221
CREATED:20240312T170433Z
LAST-MODIFIED:20240312T170433Z
UID:62113-1710351000-1710369000@thepressboxlts.com
SUMMARY:Turfway Park Winter / Spring Meet
DESCRIPTION:First Post: 5:55 p.m. ET \nPhoto by Coady Photography
URL:https://thepressboxlts.com/event/turfway-park-winter-spring-meet-91/
LOCATION:Turfway Park\, Florence\, KY\, United States
ATTACH;FMTTYPE=image/jpeg:https://thepressboxlts.com/wp-content/uploads/2024/03/B-G-WARRIOR-The-Wishing-Well-31st-Running-01-27-24-R08-Turfway-Park-Finish-01-1-scaled.jpg
END:VEVENT
BEGIN:VEVENT
DTSTART;TZID=America/Kentucky/Louisville:20240313T123000
DTEND;TZID=America/Kentucky/Louisville:20240313T190000
DTSTAMP:20260422T034221
CREATED:20240312T170946Z
LAST-MODIFIED:20240312T170946Z
UID:62121-1710333000-1710356400@thepressboxlts.com
SUMMARY:Fair Grounds Winter / Spring Meet
DESCRIPTION:First Post: 12:45 p.m. CT \nPhoto by Holly M. Smith \n 
URL:https://thepressboxlts.com/event/fair-grounds-winter-spring-meet-69/
LOCATION:Fair Grounds\, New Orleans\, LA\, United States
END:VEVENT
BEGIN:VEVENT
DTSTART;TZID=America/Kentucky/Louisville:20240310T123000
DTEND;TZID=America/Kentucky/Louisville:20240310T193000
DTSTAMP:20260422T034221
CREATED:20240304T001107Z
LAST-MODIFIED:20240304T001107Z
UID:62014-1710073800-1710099000@thepressboxlts.com
SUMMARY:Fair Grounds Winter / Spring Meet
DESCRIPTION:First Post: 12:45 p.m. CT \nPhotos by Holly M. Smith
URL:https://thepressboxlts.com/event/fair-grounds-winter-spring-meet-68/
LOCATION:Fair Grounds\, New Orleans\, LA\, United States
END:VEVENT
BEGIN:VEVENT
DTSTART;TZID=America/Kentucky/Louisville:20240309T173000
DTEND;TZID=America/Kentucky/Louisville:20240309T223000
DTSTAMP:20260422T034221
CREATED:20240304T000323Z
LAST-MODIFIED:20240304T000323Z
UID:62004-1710005400-1710023400@thepressboxlts.com
SUMMARY:Turfway Park Winter / Spring Meet
DESCRIPTION:First Post: 5:55 p.m. ET \nPhoto by Coady Photography
URL:https://thepressboxlts.com/event/turfway-park-winter-spring-meet-90/
LOCATION:Turfway Park\, Florence\, KY\, United States
END:VEVENT
BEGIN:VEVENT
DTSTART;TZID=America/Kentucky/Louisville:20240309T123000
DTEND;TZID=America/Kentucky/Louisville:20240309T193000
DTSTAMP:20260422T034221
CREATED:20240304T000951Z
LAST-MODIFIED:20240304T000951Z
UID:62012-1709987400-1710012600@thepressboxlts.com
SUMMARY:Fair Grounds Winter / Spring Meet
DESCRIPTION:First Post: 12:45 p.m. CT \nPhotos by Holly M. Smith
URL:https://thepressboxlts.com/event/fair-grounds-winter-spring-meet-67/
LOCATION:Fair Grounds\, New Orleans\, LA\, United States
END:VEVENT
BEGIN:VEVENT
DTSTART;TZID=America/Kentucky/Louisville:20240308T173000
DTEND;TZID=America/Kentucky/Louisville:20240308T223000
DTSTAMP:20260422T034221
CREATED:20240304T000148Z
LAST-MODIFIED:20240304T000148Z
UID:62002-1709919000-1709937000@thepressboxlts.com
SUMMARY:Turfway Park Winter / Spring Meet
DESCRIPTION:First Post: 5:55 p.m. ET \nPhoto by Coady Photography
URL:https://thepressboxlts.com/event/turfway-park-winter-spring-meet-89/
LOCATION:Turfway Park\, Florence\, KY\, United States
ATTACH;FMTTYPE=image/jpeg:https://thepressboxlts.com/wp-content/uploads/2024/03/ENCINO-The-John-Battaglia-42nd-Running-03-02-24-R06-Turfway-Park-Finish-01-scaled.jpg
END:VEVENT
BEGIN:VEVENT
DTSTART;TZID=America/Kentucky/Louisville:20240308T123000
DTEND;TZID=America/Kentucky/Louisville:20240308T193000
DTSTAMP:20260422T034221
CREATED:20240304T000840Z
LAST-MODIFIED:20240304T000840Z
UID:62010-1709901000-1709926200@thepressboxlts.com
SUMMARY:Fair Grounds Winter / Spring Meet
DESCRIPTION:First Post: 12:45 p.m. CT \nPhotos by Holly M. Smith
URL:https://thepressboxlts.com/event/fair-grounds-winter-spring-meet-66/
LOCATION:Fair Grounds\, New Orleans\, LA\, United States
END:VEVENT
BEGIN:VEVENT
DTSTART;TZID=America/Kentucky/Louisville:20240307T173000
DTEND;TZID=America/Kentucky/Louisville:20240307T223000
DTSTAMP:20260422T034221
CREATED:20240304T000036Z
LAST-MODIFIED:20240304T000036Z
UID:62000-1709832600-1709850600@thepressboxlts.com
SUMMARY:Turfway Park Winter / Spring Meet
DESCRIPTION:First Post: 5:55 p.m. ET \nPhoto by Coady Photography
URL:https://thepressboxlts.com/event/turfway-park-winter-spring-meet-88/
LOCATION:Turfway Park\, Florence\, KY\, United States
ATTACH;FMTTYPE=image/jpeg:https://thepressboxlts.com/wp-content/uploads/2024/03/MAXISUPERFLY-The-Cincinnati-Trophy-42nd-Running-03-01-24-R06-Turfway-Park-Finish-01-scaled.jpg
END:VEVENT
BEGIN:VEVENT
DTSTART;TZID=America/Kentucky/Louisville:20240307T123000
DTEND;TZID=America/Kentucky/Louisville:20240307T193000
DTSTAMP:20260422T034221
CREATED:20240304T000650Z
LAST-MODIFIED:20240304T000650Z
UID:62008-1709814600-1709839800@thepressboxlts.com
SUMMARY:Fair Grounds Winter / Spring Meet
DESCRIPTION:First Post: 12:45 p.m. CT
URL:https://thepressboxlts.com/event/fair-grounds-winter-spring-meet-65/
LOCATION:Fair Grounds\, New Orleans\, LA\, United States
END:VEVENT
BEGIN:VEVENT
DTSTART;TZID=America/Kentucky/Louisville:20240306T173000
DTEND;TZID=America/Kentucky/Louisville:20240306T223000
DTSTAMP:20260422T034221
CREATED:20240303T235936Z
LAST-MODIFIED:20240303T235936Z
UID:61998-1709746200-1709764200@thepressboxlts.com
SUMMARY:Turfway Park Winter / Spring Meet
DESCRIPTION:First Post: 5:55 p.m. ET \nPhoto by Coady Photography
URL:https://thepressboxlts.com/event/turfway-park-winter-spring-meet-87/
LOCATION:Turfway Park\, Florence\, KY\, United States
ATTACH;FMTTYPE=image/jpeg:https://thepressboxlts.com/wp-content/uploads/2024/02/EPIC-RIDE-The-Leonatus-Stakes-34th-Running-02-02-24-R06-Turfway-Park-Finish-02-scaled.jpg
END:VEVENT
BEGIN:VEVENT
DTSTART;TZID=America/Kentucky/Louisville:20240306T123000
DTEND;TZID=America/Kentucky/Louisville:20240306T193000
DTSTAMP:20260422T034221
CREATED:20240304T000515Z
LAST-MODIFIED:20240304T000515Z
UID:62006-1709728200-1709753400@thepressboxlts.com
SUMMARY:Fair Grounds Winter / Spring Meet
DESCRIPTION:First Post: 12:45 p.m. CT \nPhotos by Holly M. Smith
URL:https://thepressboxlts.com/event/fair-grounds-winter-spring-meet-64/
LOCATION:Fair Grounds\, New Orleans\, LA\, United States
END:VEVENT
BEGIN:VEVENT
DTSTART;TZID=America/Kentucky/Louisville:20240303T123000
DTEND;TZID=America/Kentucky/Louisville:20240303T183000
DTSTAMP:20260422T034221
CREATED:20240226T163128Z
LAST-MODIFIED:20240226T163128Z
UID:61916-1709469000-1709490600@thepressboxlts.com
SUMMARY:Fair Grounds Winter / Spring Meet
DESCRIPTION:First Post: 12:45 p.m. CT \nPhoto by Holly M. Smith
URL:https://thepressboxlts.com/event/fair-grounds-winter-spring-meet-63/
LOCATION:Fair Grounds\, New Orleans\, LA\, United States
END:VEVENT
BEGIN:VEVENT
DTSTART;TZID=America/Kentucky/Louisville:20240302T173000
DTEND;TZID=America/Kentucky/Louisville:20240302T223000
DTSTAMP:20260422T034221
CREATED:20240226T162547Z
LAST-MODIFIED:20240226T162547Z
UID:61908-1709400600-1709418600@thepressboxlts.com
SUMMARY:Turfway Park Winter / Spring Meet -- John Battaglia Memorial Stakes
DESCRIPTION:First Post: 5:55 p.m. ET \nJohn Battaglia Memorial Stakes \nPhoto by Coady Photography
URL:https://thepressboxlts.com/event/turfway-park-winter-spring-meet-john-battaglia-memorial-stakes/
LOCATION:Turfway Park\, Florence\, KY\, United States
END:VEVENT
BEGIN:VEVENT
DTSTART;TZID=America/Kentucky/Louisville:20240302T123000
DTEND;TZID=America/Kentucky/Louisville:20240302T183000
DTSTAMP:20260422T034221
CREATED:20240226T163022Z
LAST-MODIFIED:20240226T163022Z
UID:61914-1709382600-1709404200@thepressboxlts.com
SUMMARY:Fair Grounds Winter / Spring Meet
DESCRIPTION:First Post: 12:45 p.m. CT \nPhoto by Holly M. Smith
URL:https://thepressboxlts.com/event/fair-grounds-winter-spring-meet-62/
LOCATION:Fair Grounds\, New Orleans\, LA\, United States
END:VEVENT
BEGIN:VEVENT
DTSTART;TZID=America/Kentucky/Louisville:20240301T173000
DTEND;TZID=America/Kentucky/Louisville:20240301T223000
DTSTAMP:20260422T034221
CREATED:20240226T162410Z
LAST-MODIFIED:20240226T162410Z
UID:61906-1709314200-1709332200@thepressboxlts.com
SUMMARY:Turfway Park Winter / Spring Meet
DESCRIPTION:First Post: 5:55 p.m. ET \nPhoto by Coady Photography
URL:https://thepressboxlts.com/event/turfway-park-winter-spring-meet-86/
LOCATION:Turfway Park\, Florence\, KY\, United States
END:VEVENT
BEGIN:VEVENT
DTSTART;TZID=America/Kentucky/Louisville:20240301T123000
DTEND;TZID=America/Kentucky/Louisville:20240301T183000
DTSTAMP:20260422T034221
CREATED:20240226T162858Z
LAST-MODIFIED:20240226T162858Z
UID:61912-1709296200-1709317800@thepressboxlts.com
SUMMARY:Fair Grounds Winter / Spring Meet
DESCRIPTION:First Post: 12:45 p.m. CT \nPhoto by Holly M. Smith
URL:https://thepressboxlts.com/event/fair-grounds-winter-spring-meet-61/
LOCATION:Fair Grounds\, New Orleans\, LA\, United States
END:VEVENT
BEGIN:VEVENT
DTSTART;TZID=America/Kentucky/Louisville:20240229T173000
DTEND;TZID=America/Kentucky/Louisville:20240229T223000
DTSTAMP:20260422T034221
CREATED:20240226T162248Z
LAST-MODIFIED:20240226T162248Z
UID:61904-1709227800-1709245800@thepressboxlts.com
SUMMARY:Turfway Park Winter / Spring Meet
DESCRIPTION:First Post: 5:55 p.m. ET \nPhoto by Coady Photography
URL:https://thepressboxlts.com/event/turfway-park-winter-spring-meet-85/
LOCATION:Turfway Park\, Florence\, KY\, United States
END:VEVENT
BEGIN:VEVENT
DTSTART;TZID=America/Kentucky/Louisville:20240229T123000
DTEND;TZID=America/Kentucky/Louisville:20240229T183000
DTSTAMP:20260422T034221
CREATED:20240226T162737Z
LAST-MODIFIED:20240226T162737Z
UID:61910-1709209800-1709231400@thepressboxlts.com
SUMMARY:Fair Grounds Winter / Spring Meet
DESCRIPTION:First Post: 12:45 p.m. CT \nPhoto by Holly M. Smith
URL:https://thepressboxlts.com/event/fair-grounds-winter-spring-meet-60/
LOCATION:Fair Grounds\, New Orleans\, LA\, United States
END:VEVENT
BEGIN:VEVENT
DTSTART;TZID=America/Kentucky/Louisville:20240228T173000
DTEND;TZID=America/Kentucky/Louisville:20240228T223000
DTSTAMP:20260422T034221
CREATED:20240226T162046Z
LAST-MODIFIED:20240226T162046Z
UID:61902-1709141400-1709159400@thepressboxlts.com
SUMMARY:Turfway Park Winter / Spring Meet
DESCRIPTION:First Post: 5:55 p.m. ET \nPhoto by Coady Photography
URL:https://thepressboxlts.com/event/turfway-park-winter-spring-meet-84/
LOCATION:Turfway Park\, Florence\, KY\, United States
ATTACH;FMTTYPE=image/jpeg:https://thepressboxlts.com/wp-content/uploads/2024/02/EPIC-RIDE-The-Leonatus-Stakes-34th-Running-02-02-24-R06-Turfway-Park-Finish-02-scaled.jpg
END:VEVENT
BEGIN:VEVENT
DTSTART;TZID=America/Kentucky/Louisville:20240225T123000
DTEND;TZID=America/Kentucky/Louisville:20240225T183000
DTSTAMP:20260422T034221
CREATED:20240220T181433Z
LAST-MODIFIED:20240220T181433Z
UID:61814-1708864200-1708885800@thepressboxlts.com
SUMMARY:Fair Grounds Winter / Spring Meet
DESCRIPTION:First Post: 12:45 p.m. CT \nPhoto by Holly M. Smith
URL:https://thepressboxlts.com/event/fair-grounds-winter-spring-meet-59/
LOCATION:Fair Grounds\, New Orleans\, LA\, United States
END:VEVENT
BEGIN:VEVENT
DTSTART;TZID=America/Kentucky/Louisville:20240224T173000
DTEND;TZID=America/Kentucky/Louisville:20240224T223000
DTSTAMP:20260422T034221
CREATED:20240220T180647Z
LAST-MODIFIED:20240220T180647Z
UID:61806-1708795800-1708813800@thepressboxlts.com
SUMMARY:Turfway Park Winter / Spring Meet
DESCRIPTION:First Post: 5:55 p.m. ET \nEnglished — in the 2nd race on Saturday
URL:https://thepressboxlts.com/event/turfway-park-winter-spring-meet-75/
LOCATION:Turfway Park\, Florence\, KY\, United States
END:VEVENT
BEGIN:VEVENT
DTSTART;TZID=America/Kentucky/Louisville:20240224T123000
DTEND;TZID=America/Kentucky/Louisville:20240224T183000
DTSTAMP:20260422T034221
CREATED:20240220T181312Z
LAST-MODIFIED:20240220T181312Z
UID:61812-1708777800-1708799400@thepressboxlts.com
SUMMARY:Fair Grounds Winter / Spring Meet
DESCRIPTION:First Posts: 12:45 p.m. CT \nPhoto by Holly M. Smith
URL:https://thepressboxlts.com/event/fair-grounds-winter-spring-meet-58/
LOCATION:Fair Grounds\, New Orleans\, LA\, United States
END:VEVENT
BEGIN:VEVENT
DTSTART;TZID=America/Kentucky/Louisville:20240223T173000
DTEND;TZID=America/Kentucky/Louisville:20240223T223000
DTSTAMP:20260422T034221
CREATED:20240220T180451Z
LAST-MODIFIED:20240220T181532Z
UID:61804-1708709400-1708727400@thepressboxlts.com
SUMMARY:Turfway Park Winter / Spring Meet
DESCRIPTION:First Post: 5:55 p.m. ET \nPhoto by Coady Photography
URL:https://thepressboxlts.com/event/turfway-park-winter-spring-meet-74/
LOCATION:Turfway Park\, Florence\, KY\, United States
END:VEVENT
BEGIN:VEVENT
DTSTART;TZID=America/Kentucky/Louisville:20240223T123000
DTEND;TZID=America/Kentucky/Louisville:20240223T183000
DTSTAMP:20260422T034221
CREATED:20240220T181153Z
LAST-MODIFIED:20240220T181153Z
UID:61810-1708691400-1708713000@thepressboxlts.com
SUMMARY:Fair Grounds Winter / Spring Meet
DESCRIPTION:First Post: 12:45 p.m. CT \nPhoto by Holly M. Smith
URL:https://thepressboxlts.com/event/fair-grounds-winter-spring-meet-57/
LOCATION:Fair Grounds\, New Orleans\, LA\, United States
END:VEVENT
BEGIN:VEVENT
DTSTART;TZID=America/Kentucky/Louisville:20240222T173000
DTEND;TZID=America/Kentucky/Louisville:20240222T223000
DTSTAMP:20260422T034221
CREATED:20240220T180345Z
LAST-MODIFIED:20240220T180345Z
UID:61802-1708623000-1708641000@thepressboxlts.com
SUMMARY:Turfway Park Winter / Spring Meet
DESCRIPTION:First Post: 5:55 p.m. ET \nPhoto by Coady Photography
URL:https://thepressboxlts.com/event/turfway-park-winter-spring-meet-73/
LOCATION:Turfway Park\, Florence\, KY\, United States
END:VEVENT
BEGIN:VEVENT
DTSTART;TZID=America/Kentucky/Louisville:20240222T123000
DTEND;TZID=America/Kentucky/Louisville:20240222T183000
DTSTAMP:20260422T034221
CREATED:20240220T181033Z
LAST-MODIFIED:20240220T181033Z
UID:61808-1708605000-1708626600@thepressboxlts.com
SUMMARY:Fair Grounds Winter / Spring Meet
DESCRIPTION:First Post: 12:45 p.m. CT \nPhoto by Holly M. Smith
URL:https://thepressboxlts.com/event/fair-grounds-winter-spring-meet-56/
LOCATION:Fair Grounds\, New Orleans\, LA\, United States
END:VEVENT
BEGIN:VEVENT
DTSTART;TZID=America/Kentucky/Louisville:20240221T173000
DTEND;TZID=America/Kentucky/Louisville:20240221T223000
DTSTAMP:20260422T034221
CREATED:20240220T180240Z
LAST-MODIFIED:20240220T180240Z
UID:61800-1708536600-1708554600@thepressboxlts.com
SUMMARY:Turfway Park Winter / Spring Meet
DESCRIPTION:First Post: 5:55 p.m. ET \nPhoto by Coady Photography
URL:https://thepressboxlts.com/event/turfway-park-winter-spring-meet-72/
LOCATION:Turfway Park\, Florence\, KY\, United States
ATTACH;FMTTYPE=image/jpeg:https://thepressboxlts.com/wp-content/uploads/2024/02/SURLY-FURIOUS-The-Dust-Commander-33rd-Running-02-17-24-R07-Turfway-Park-Finish-01-scaled.jpg
END:VEVENT
END:VCALENDAR