BEGIN:VCALENDAR
VERSION:2.0
PRODID:-//The Pressbox - ECPv6.15.19//NONSGML v1.0//EN
CALSCALE:GREGORIAN
METHOD:PUBLISH
X-ORIGINAL-URL:https://thepressboxlts.com
X-WR-CALDESC:Events for The Pressbox
REFRESH-INTERVAL;VALUE=DURATION:PT1H
X-Robots-Tag:noindex
X-PUBLISHED-TTL:PT1H
BEGIN:VTIMEZONE
TZID:America/Kentucky/Louisville
BEGIN:DAYLIGHT
TZOFFSETFROM:-0500
TZOFFSETTO:-0400
TZNAME:EDT
DTSTART:20250309T070000
END:DAYLIGHT
BEGIN:STANDARD
TZOFFSETFROM:-0400
TZOFFSETTO:-0500
TZNAME:EST
DTSTART:20251102T060000
END:STANDARD
BEGIN:DAYLIGHT
TZOFFSETFROM:-0500
TZOFFSETTO:-0400
TZNAME:EDT
DTSTART:20260308T070000
END:DAYLIGHT
BEGIN:STANDARD
TZOFFSETFROM:-0400
TZOFFSETTO:-0500
TZNAME:EST
DTSTART:20261101T060000
END:STANDARD
BEGIN:DAYLIGHT
TZOFFSETFROM:-0500
TZOFFSETTO:-0400
TZNAME:EDT
DTSTART:20270314T070000
END:DAYLIGHT
BEGIN:STANDARD
TZOFFSETFROM:-0400
TZOFFSETTO:-0500
TZNAME:EST
DTSTART:20271107T060000
END:STANDARD
END:VTIMEZONE
BEGIN:VEVENT
DTSTART;TZID=America/Kentucky/Louisville:20260415T130000
DTEND;TZID=America/Kentucky/Louisville:20260415T183000
DTSTAMP:20260419T230908
CREATED:20260412T125112Z
LAST-MODIFIED:20260412T125112Z
UID:78981-1776258000-1776277800@thepressboxlts.com
SUMMARY:Keeneland Spring Meet
DESCRIPTION:First Post: 1:00 p.m. ET \nPhoto by Coady Media \n 
URL:https://thepressboxlts.com/event/keeneland-spring-meet-35/
LOCATION:Keeneland Race Course\, KY\, United States
ATTACH;FMTTYPE=image/jpeg:https://thepressboxlts.com/wp-content/uploads/2026/04/4BFBD6F8-DE5F-44A7-90BD-720F77568724.jpg
END:VEVENT
BEGIN:VEVENT
DTSTART;TZID=America/Kentucky/Louisville:20260415T140000
DTEND;TZID=America/Kentucky/Louisville:20260415T190000
DTSTAMP:20260419T230908
CREATED:20260412T125001Z
LAST-MODIFIED:20260412T125001Z
UID:78979-1776261600-1776279600@thepressboxlts.com
SUMMARY:Horseshoe Indianapolis Spring Meet
DESCRIPTION:First Post: 2:10 p.m. ET \nPhoto by Coady Media \n 
URL:https://thepressboxlts.com/event/horseshoe-indianapolis-spring-meet-21/
LOCATION:Horseshoe Indianapolis\, Shelbyville\, IN\, United States
ATTACH;FMTTYPE=image/jpeg:https://thepressboxlts.com/wp-content/uploads/2025/10/SPIRITED-JUSTICE-Back-Home-Again-25th-Running-10-01-25-R11-Horseshoe-Indiana-Finish-01-Sammantha-Pagels-scaled.jpg
END:VEVENT
BEGIN:VEVENT
DTSTART;TZID=America/Kentucky/Louisville:20260416T130000
DTEND;TZID=America/Kentucky/Louisville:20260416T183000
DTSTAMP:20260419T230908
CREATED:20260412T125224Z
LAST-MODIFIED:20260412T125224Z
UID:78983-1776344400-1776364200@thepressboxlts.com
SUMMARY:Keeneland Spring Meet
DESCRIPTION:First Post: 1:00 p.m. ET \nPhoto by Coady Media \n 
URL:https://thepressboxlts.com/event/keeneland-spring-meet-36/
LOCATION:Keeneland Race Course\, KY\, United States
ATTACH;FMTTYPE=image/jpeg:https://thepressboxlts.com/wp-content/uploads/2026/04/26_0411_Jenny-Wiley_remote_mw-1435.jpg
END:VEVENT
BEGIN:VEVENT
DTSTART;TZID=America/Kentucky/Louisville:20260417T130000
DTEND;TZID=America/Kentucky/Louisville:20260417T183000
DTSTAMP:20260419T230908
CREATED:20260412T125315Z
LAST-MODIFIED:20260412T125315Z
UID:78985-1776430800-1776450600@thepressboxlts.com
SUMMARY:Keeneland Spring Meet
DESCRIPTION:First Post: 1:00 p.m. ET \nPhoto by Coady Media
URL:https://thepressboxlts.com/event/keeneland-spring-meet-37/
LOCATION:Keeneland Race Course\, KY\, United States
ATTACH;FMTTYPE=image/jpeg:https://thepressboxlts.com/wp-content/uploads/2026/04/26_0410_Zulu-Kingdome_ww-9697.jpg
END:VEVENT
BEGIN:VEVENT
DTSTART;TZID=America/Kentucky/Louisville:20260418T130000
DTEND;TZID=America/Kentucky/Louisville:20260418T183000
DTSTAMP:20260419T230908
CREATED:20260412T125411Z
LAST-MODIFIED:20260412T125411Z
UID:78987-1776517200-1776537000@thepressboxlts.com
SUMMARY:Keeneland Spring Meet
DESCRIPTION:First Post: 1:00 p.m. ET \nPhoto by Coady Media
URL:https://thepressboxlts.com/event/keeneland-spring-meet-38/
LOCATION:Keeneland Race Course\, KY\, United States
ATTACH;FMTTYPE=image/jpeg:https://thepressboxlts.com/wp-content/uploads/2026/04/26_0410_Slay-The-Day_remotes_mw-1845.jpg
END:VEVENT
BEGIN:VEVENT
DTSTART;TZID=America/Kentucky/Louisville:20260419T130000
DTEND;TZID=America/Kentucky/Louisville:20260419T183000
DTSTAMP:20260419T230908
CREATED:20260412T125523Z
LAST-MODIFIED:20260412T125523Z
UID:78989-1776603600-1776623400@thepressboxlts.com
SUMMARY:Keeneland Spring Meet
DESCRIPTION:First Post: 1:00 p.m. ET \nPhoto by Coady Media
URL:https://thepressboxlts.com/event/keeneland-spring-meet-39/
LOCATION:Keeneland Race Course\, KY\, United States
ATTACH;FMTTYPE=image/jpeg:https://thepressboxlts.com/wp-content/uploads/2025/10/ADMIT-The-Bank-of-America-Valley-View-G2-10-24-25-R09-Keeneland-Race-Course-Start-01-Cathy-Alinikov-1-scaled.jpg
END:VEVENT
BEGIN:VEVENT
DTSTART;TZID=America/Kentucky/Louisville:20260421T140000
DTEND;TZID=America/Kentucky/Louisville:20260421T190000
DTSTAMP:20260419T230908
CREATED:20260420T014030Z
LAST-MODIFIED:20260420T014030Z
UID:79250-1776780000-1776798000@thepressboxlts.com
SUMMARY:Horseshoe Indianapolis Spring Meet
DESCRIPTION:First Post: 2:10 p.m. ET \nPhoto by Coady Media
URL:https://thepressboxlts.com/event/horseshoe-indianapolis-spring-meet-22/
LOCATION:Horseshoe Indianapolis\, Shelbyville\, IN\, United States
ATTACH;FMTTYPE=image/jpeg:https://thepressboxlts.com/wp-content/uploads/2025/12/TEMPLE-PAYNTER-The-Indiana-First-Lady-23rd-Running-07-30-25-R07-Horseshoe-Indiana-Start-01-Sammantha-Pagels-scaled.jpg
END:VEVENT
BEGIN:VEVENT
DTSTART;TZID=America/Kentucky/Louisville:20260422T130000
DTEND;TZID=America/Kentucky/Louisville:20260422T183000
DTSTAMP:20260419T230908
CREATED:20260420T014302Z
LAST-MODIFIED:20260420T014302Z
UID:79254-1776862800-1776882600@thepressboxlts.com
SUMMARY:Keeneland Spring Meet
DESCRIPTION:First Post: 1 p.m. ET \nPhoto by Coady Media
URL:https://thepressboxlts.com/event/keeneland-spring-meet-40/
LOCATION:Keeneland Race Course\, KY\, United States
ATTACH;FMTTYPE=image/jpeg:https://thepressboxlts.com/wp-content/uploads/2026/04/26_0419_Reb-Five_remote_mw-3935.jpg
END:VEVENT
BEGIN:VEVENT
DTSTART;TZID=America/Kentucky/Louisville:20260422T140000
DTEND;TZID=America/Kentucky/Louisville:20260422T193000
DTSTAMP:20260419T230908
CREATED:20260420T014146Z
LAST-MODIFIED:20260420T014146Z
UID:79252-1776866400-1776886200@thepressboxlts.com
SUMMARY:Horseshoe Indianapolis Spring Meet
DESCRIPTION:First Post: 2:10 p.m. ET \nPhoto by Coady Media
URL:https://thepressboxlts.com/event/horseshoe-indianapolis-spring-meet-23/
LOCATION:Horseshoe Indianapolis\, Shelbyville\, IN\, United States
ATTACH;FMTTYPE=image/jpeg:https://thepressboxlts.com/wp-content/uploads/2025/07/ENCINO-Jonathan-B-Schuster-Memorial-07-05-25-R08-Horseshoe-Indiana-Turn-01-Kurtis-Coady-scaled.jpg
END:VEVENT
BEGIN:VEVENT
DTSTART;TZID=America/Kentucky/Louisville:20260423T130000
DTEND;TZID=America/Kentucky/Louisville:20260423T183000
DTSTAMP:20260419T230908
CREATED:20260420T014440Z
LAST-MODIFIED:20260420T014440Z
UID:79256-1776949200-1776969000@thepressboxlts.com
SUMMARY:Keeneland Spring Meet
DESCRIPTION:First Post: 1 p.m. ET \nPhoto by Coady Media
URL:https://thepressboxlts.com/event/keeneland-spring-meet-41/
LOCATION:Keeneland Race Course\, KY\, United States
ATTACH;FMTTYPE=image/jpeg:https://thepressboxlts.com/wp-content/uploads/2026/04/26_0418_Burnham-Square_remotes_mw-3788.jpg
END:VEVENT
BEGIN:VEVENT
DTSTART;TZID=America/Kentucky/Louisville:20260424T130000
DTEND;TZID=America/Kentucky/Louisville:20260424T183000
DTSTAMP:20260419T230908
CREATED:20260420T014530Z
LAST-MODIFIED:20260420T014530Z
UID:79258-1777035600-1777055400@thepressboxlts.com
SUMMARY:Keeneland Spring Meet
DESCRIPTION:First Post: 1 p.m. ET \nPhoto by Coady Media
URL:https://thepressboxlts.com/event/keeneland-spring-meet-42/
LOCATION:KY
ATTACH;FMTTYPE=image/jpeg:https://thepressboxlts.com/wp-content/uploads/2026/04/26_0418_Stars-and-Stripes_remote_mw-3345.jpg
END:VEVENT
BEGIN:VEVENT
DTSTART;TZID=America/Kentucky/Louisville:20260425T130000
DTEND;TZID=America/Kentucky/Louisville:20260425T183000
DTSTAMP:20260419T230908
CREATED:20260420T014648Z
LAST-MODIFIED:20260420T014648Z
UID:79260-1777122000-1777141800@thepressboxlts.com
SUMMARY:Keeneland Spring Meet
DESCRIPTION:First Post: 1 p.m. ET \nPhoto by Coady Media
URL:https://thepressboxlts.com/event/keeneland-spring-meet-43/
LOCATION:Keeneland Race Course\, KY\, United States
ATTACH;FMTTYPE=image/jpeg:https://thepressboxlts.com/wp-content/uploads/2026/04/26_0404_Further-Ado_ww-8059.jpg
END:VEVENT
BEGIN:VEVENT
DTSTART;TZID=America/Kentucky/Louisville:20260426T130000
DTEND;TZID=America/Kentucky/Louisville:20260426T183000
DTSTAMP:20260419T230908
CREATED:20260420T014817Z
LAST-MODIFIED:20260420T014817Z
UID:79262-1777208400-1777228200@thepressboxlts.com
SUMMARY:Keeneland Spring Meet
DESCRIPTION:First Post: 1 p.m. ET \nPhoto by Coady Media
URL:https://thepressboxlts.com/event/keeneland-spring-meet-44/
LOCATION:Keeneland Race Course\, KY\, United States
ATTACH;FMTTYPE=image/jpeg:https://thepressboxlts.com/wp-content/uploads/2026/04/26_0404_Storms-wake_ww-7689.jpg
END:VEVENT
END:VCALENDAR