BEGIN:VCALENDAR
VERSION:2.0
PRODID:-//The Pressbox - ECPv6.15.19//NONSGML v1.0//EN
CALSCALE:GREGORIAN
METHOD:PUBLISH
X-WR-CALNAME:The Pressbox
X-ORIGINAL-URL:https://thepressboxlts.com
X-WR-CALDESC:Events for The Pressbox
REFRESH-INTERVAL;VALUE=DURATION:PT1H
X-Robots-Tag:noindex
X-PUBLISHED-TTL:PT1H
BEGIN:VTIMEZONE
TZID:America/Kentucky/Louisville
BEGIN:DAYLIGHT
TZOFFSETFROM:-0500
TZOFFSETTO:-0400
TZNAME:EDT
DTSTART:20230312T070000
END:DAYLIGHT
BEGIN:STANDARD
TZOFFSETFROM:-0400
TZOFFSETTO:-0500
TZNAME:EST
DTSTART:20231105T060000
END:STANDARD
BEGIN:DAYLIGHT
TZOFFSETFROM:-0500
TZOFFSETTO:-0400
TZNAME:EDT
DTSTART:20240310T070000
END:DAYLIGHT
BEGIN:STANDARD
TZOFFSETFROM:-0400
TZOFFSETTO:-0500
TZNAME:EST
DTSTART:20241103T060000
END:STANDARD
BEGIN:DAYLIGHT
TZOFFSETFROM:-0500
TZOFFSETTO:-0400
TZNAME:EDT
DTSTART:20250309T070000
END:DAYLIGHT
BEGIN:STANDARD
TZOFFSETFROM:-0400
TZOFFSETTO:-0500
TZNAME:EST
DTSTART:20251102T060000
END:STANDARD
END:VTIMEZONE
BEGIN:VEVENT
DTSTART;TZID=America/Kentucky/Louisville:20240201T173000
DTEND;TZID=America/Kentucky/Louisville:20240201T223000
DTSTAMP:20260422T053625
CREATED:20240130T154348Z
LAST-MODIFIED:20240130T154348Z
UID:61524-1706808600-1706826600@thepressboxlts.com
SUMMARY:Turfway Park Winter / Spring Meet
DESCRIPTION:First Post: 5:55 p.m. ET \nPhoto by Coady Photography
URL:https://thepressboxlts.com/event/turfway-park-winter-spring-meet-61/
LOCATION:Turfway Park\, Florence\, KY\, United States
END:VEVENT
BEGIN:VEVENT
DTSTART;TZID=America/Kentucky/Louisville:20240201T123000
DTEND;TZID=America/Kentucky/Louisville:20240201T183000
DTSTAMP:20260422T053625
CREATED:20240130T202351Z
LAST-MODIFIED:20240130T202351Z
UID:61537-1706790600-1706812200@thepressboxlts.com
SUMMARY:Fair Grounds Winter / Spring Meet
DESCRIPTION:First Post: 12:45 p.m. CT \nPhoto by Holly M. Smith \n 
URL:https://thepressboxlts.com/event/fair-grounds-winter-spring-meet-43/
LOCATION:Fair Grounds\, New Orleans\, LA\, United States
END:VEVENT
BEGIN:VEVENT
DTSTART;TZID=America/Kentucky/Louisville:20240131T173000
DTEND;TZID=America/Kentucky/Louisville:20240131T223000
DTSTAMP:20260422T053625
CREATED:20240130T154241Z
LAST-MODIFIED:20240130T154241Z
UID:61522-1706722200-1706740200@thepressboxlts.com
SUMMARY:Turfway Park Winter / Spring Meet
DESCRIPTION:First Post: 5:55 p.m. ET \nPhoto by Coady Photography
URL:https://thepressboxlts.com/event/turfway-park-winter-spring-meet-60/
LOCATION:Turfway Park\, Florence\, KY\, United States
END:VEVENT
BEGIN:VEVENT
DTSTART;TZID=America/Kentucky/Louisville:20240127T173000
DTEND;TZID=America/Kentucky/Louisville:20240127T223000
DTSTAMP:20260422T053625
CREATED:20240123T001103Z
LAST-MODIFIED:20240123T001103Z
UID:61441-1706376600-1706394600@thepressboxlts.com
SUMMARY:Turfway Park Winter / Spring Meet
DESCRIPTION:First Post: 5:55 p.m. ET \nPhoto by Coady Photography
URL:https://thepressboxlts.com/event/turfway-park-winter-spring-meet-59/
LOCATION:Turfway Park\, Florence\, KY\, United States
END:VEVENT
BEGIN:VEVENT
DTSTART;TZID=America/Kentucky/Louisville:20240126T173000
DTEND;TZID=America/Kentucky/Louisville:20240126T223000
DTSTAMP:20260422T053625
CREATED:20240123T000850Z
LAST-MODIFIED:20240123T000850Z
UID:61439-1706290200-1706308200@thepressboxlts.com
SUMMARY:Turfway Park Winter / Spring Meet
DESCRIPTION:First Post: 5:55 p.m. ET \nPhoto by Coady Photography
URL:https://thepressboxlts.com/event/turfway-park-winter-spring-meet-58/
LOCATION:Turfway Park\, Florence\, KY\, United States
END:VEVENT
BEGIN:VEVENT
DTSTART;TZID=America/Kentucky/Louisville:20240125T173000
DTEND;TZID=America/Kentucky/Louisville:20240125T223000
DTSTAMP:20260422T053625
CREATED:20240123T000744Z
LAST-MODIFIED:20240123T000744Z
UID:61437-1706203800-1706221800@thepressboxlts.com
SUMMARY:Turfway Park Winter / Spring Meet
DESCRIPTION:First Post: 5:55 p.m. ET \nPhoto by Coady Photography
URL:https://thepressboxlts.com/event/turfway-park-winter-spring-meet-57/
LOCATION:Turfway Park\, Florence\, KY\, United States
END:VEVENT
BEGIN:VEVENT
DTSTART;TZID=America/Kentucky/Louisville:20240124T173000
DTEND;TZID=America/Kentucky/Louisville:20240124T223000
DTSTAMP:20260422T053625
CREATED:20240123T000625Z
LAST-MODIFIED:20240123T000638Z
UID:61434-1706117400-1706135400@thepressboxlts.com
SUMMARY:Turfway Park Winter / Spring Meet
DESCRIPTION:First Post: 5:55 p.m. ET \nPhoto by Coady Photography
URL:https://thepressboxlts.com/event/turfway-pak-winter-spring-meet/
LOCATION:Turfway Park\, Florence\, KY\, United States
END:VEVENT
BEGIN:VEVENT
DTSTART;TZID=America/Kentucky/Louisville:20240121T123000
DTEND;TZID=America/Kentucky/Louisville:20240121T183000
DTSTAMP:20260422T053625
CREATED:20240116T231634Z
LAST-MODIFIED:20240116T231634Z
UID:61385-1705840200-1705861800@thepressboxlts.com
SUMMARY:Fair Grounds Winter / Spring Meet
DESCRIPTION:First Post: 12:45 p.m. CT \nPhoto by Holly M. Smith
URL:https://thepressboxlts.com/event/fair-grounds-winter-spring-meet-42/
LOCATION:Fair Grounds\, New Orleans\, LA\, United States
END:VEVENT
BEGIN:VEVENT
DTSTART;TZID=America/Kentucky/Louisville:20240120T173000
DTEND;TZID=America/Kentucky/Louisville:20240120T223000
DTSTAMP:20260422T053625
CREATED:20240116T230511Z
LAST-MODIFIED:20240116T230511Z
UID:61375-1705771800-1705789800@thepressboxlts.com
SUMMARY:Turfway Park Winter / Spring Meet
DESCRIPTION:First Post: 5:55 p.m. ET \nPhoto by Coady Photography
URL:https://thepressboxlts.com/event/turfway-park-winter-spring-meet-56/
LOCATION:Turfway Park\, Florence\, KY\, United States
END:VEVENT
BEGIN:VEVENT
DTSTART;TZID=America/Kentucky/Louisville:20240120T120000
DTEND;TZID=America/Kentucky/Louisville:20240120T183000
DTSTAMP:20260422T053625
CREATED:20240116T231518Z
LAST-MODIFIED:20240116T231518Z
UID:61383-1705752000-1705775400@thepressboxlts.com
SUMMARY:Fair Grounds Winter / Spring Meet
DESCRIPTION:First Post: 12 Noon CT \nPhoto by Holly M. Smith
URL:https://thepressboxlts.com/event/fair-grounds-winter-spring-meet-41/
LOCATION:Fair Grounds\, New Orleans\, LA\, United States
END:VEVENT
BEGIN:VEVENT
DTSTART;TZID=America/Kentucky/Louisville:20240119T173000
DTEND;TZID=America/Kentucky/Louisville:20240119T223000
DTSTAMP:20260422T053625
CREATED:20240116T230352Z
LAST-MODIFIED:20240116T230352Z
UID:61373-1705685400-1705703400@thepressboxlts.com
SUMMARY:Turfway Park Winter / Spring Meet
DESCRIPTION:First Post: 5:55 p.m. ET \nPhoto by Coady Photography
URL:https://thepressboxlts.com/event/turfway-park-winter-spring-meet-55/
LOCATION:Turfway Park\, Florence\, KY\, United States
END:VEVENT
BEGIN:VEVENT
DTSTART;TZID=America/Kentucky/Louisville:20240119T123000
DTEND;TZID=America/Kentucky/Louisville:20240119T183000
DTSTAMP:20260422T053625
CREATED:20240116T231404Z
LAST-MODIFIED:20240116T231404Z
UID:61381-1705667400-1705689000@thepressboxlts.com
SUMMARY:Fair Grounds Winter / Spring Meet
DESCRIPTION:First Post: 12:45 p.m. CT \nPhoto by Holly M. Smith
URL:https://thepressboxlts.com/event/fair-grounds-winter-spring-meet-40/
LOCATION:Fair Grounds\, New Orleans\, LA\, United States
END:VEVENT
BEGIN:VEVENT
DTSTART;TZID=America/Kentucky/Louisville:20240118T173000
DTEND;TZID=America/Kentucky/Louisville:20240118T223000
DTSTAMP:20260422T053625
CREATED:20240116T230227Z
LAST-MODIFIED:20240116T230227Z
UID:61371-1705599000-1705617000@thepressboxlts.com
SUMMARY:Turfway Park Winter / Spring Meet
DESCRIPTION:First Post: 5:55 p.m. ET \nPhoto by Coady Photography
URL:https://thepressboxlts.com/event/turfway-park-winter-spring-meet-54/
LOCATION:Turfway Park\, Florence\, KY\, United States
END:VEVENT
BEGIN:VEVENT
DTSTART;TZID=America/Kentucky/Louisville:20240118T123000
DTEND;TZID=America/Kentucky/Louisville:20240118T183000
DTSTAMP:20260422T053625
CREATED:20240116T231140Z
LAST-MODIFIED:20240116T231140Z
UID:61379-1705581000-1705602600@thepressboxlts.com
SUMMARY:Fair Grounds Winter / Spring Meet
DESCRIPTION:First Post: 12:45 p.m. CT \nPhoto by Holly M. Smith
URL:https://thepressboxlts.com/event/fair-grounds-winter-spring-meet-39/
LOCATION:Fair Grounds\, New Orleans\, LA\, United States
END:VEVENT
BEGIN:VEVENT
DTSTART;TZID=America/Kentucky/Louisville:20240117T173000
DTEND;TZID=America/Kentucky/Louisville:20240117T223000
DTSTAMP:20260422T053625
CREATED:20240116T230111Z
LAST-MODIFIED:20240116T230111Z
UID:61369-1705512600-1705530600@thepressboxlts.com
SUMMARY:Turfway Park Winter / Spring Meet
DESCRIPTION:First Post: 5:55 p.m. ET \nPhoto by Coady Photography
URL:https://thepressboxlts.com/event/turfway-park-winter-spring-meet-53/
LOCATION:Turfway Park\, Florence\, KY\, United States
END:VEVENT
BEGIN:VEVENT
DTSTART;TZID=America/Kentucky/Louisville:20240115T123000
DTEND;TZID=America/Kentucky/Louisville:20240115T193000
DTSTAMP:20260422T053625
CREATED:20240109T200331Z
LAST-MODIFIED:20240109T200331Z
UID:61174-1705321800-1705347000@thepressboxlts.com
SUMMARY:Fair Grounds Winter / Spring Meet
DESCRIPTION:First Post: 12:45 p.m. CT \nSpecial Martin Luther King Birthday Racing Program \nPhoto by Holly M. Smith
URL:https://thepressboxlts.com/event/fair-grounds-winter-spring-meet-38/
LOCATION:Fair Grounds\, New Orleans\, LA\, United States
END:VEVENT
BEGIN:VEVENT
DTSTART;TZID=America/Kentucky/Louisville:20240113T173000
DTEND;TZID=America/Kentucky/Louisville:20240113T223000
DTSTAMP:20260422T053625
CREATED:20240109T195310Z
LAST-MODIFIED:20240109T195310Z
UID:61166-1705167000-1705185000@thepressboxlts.com
SUMMARY:Turfway Park Winter / Spring Meet
DESCRIPTION:First Post: 5:55 p.m. ET \nPhoto by Coady Photography
URL:https://thepressboxlts.com/event/turfway-park-winter-spring-meet-52/
LOCATION:Turfway Park\, Florence\, KY\, United States
END:VEVENT
BEGIN:VEVENT
DTSTART;TZID=America/Kentucky/Louisville:20240113T123000
DTEND;TZID=America/Kentucky/Louisville:20240113T183000
DTSTAMP:20260422T053625
CREATED:20240109T200114Z
LAST-MODIFIED:20240109T200114Z
UID:61172-1705149000-1705170600@thepressboxlts.com
SUMMARY:Fair Grounds Winter / Spring Meet
DESCRIPTION:First Post: 12:45 p.m. CT \nPhoto by Holly M. Smith
URL:https://thepressboxlts.com/event/fair-grounds-winter-spring-meet-37/
LOCATION:Fair Grounds\, New Orleans\, LA\, United States
END:VEVENT
BEGIN:VEVENT
DTSTART;TZID=America/Kentucky/Louisville:20240112T173000
DTEND;TZID=America/Kentucky/Louisville:20240112T223000
DTSTAMP:20260422T053625
CREATED:20240109T195041Z
LAST-MODIFIED:20240109T195041Z
UID:61164-1705080600-1705098600@thepressboxlts.com
SUMMARY:Turfway Park Winter / Spring Meet
DESCRIPTION:First Post: 5:55 p.m. ET \nPhoto by Coady Photography
URL:https://thepressboxlts.com/event/turfway-park-winter-spring-meet-51/
LOCATION:Turfway Park\, Florence\, KY\, United States
END:VEVENT
BEGIN:VEVENT
DTSTART;TZID=America/Kentucky/Louisville:20240112T123000
DTEND;TZID=America/Kentucky/Louisville:20240112T183000
DTSTAMP:20260422T053625
CREATED:20240109T195959Z
LAST-MODIFIED:20240109T195959Z
UID:61170-1705062600-1705084200@thepressboxlts.com
SUMMARY:Fair Grounds Winter / Spring Meet
DESCRIPTION:First Post: 12:45 p.m. CT \nPhoto by Holly M. Smith \n 
URL:https://thepressboxlts.com/event/fair-grounds-winter-spring-meet-36/
LOCATION:Fair Grounds\, New Orleans\, LA\, United States
END:VEVENT
BEGIN:VEVENT
DTSTART;TZID=America/Kentucky/Louisville:20240111T173000
DTEND;TZID=America/Kentucky/Louisville:20240111T223000
DTSTAMP:20260422T053625
CREATED:20240109T194926Z
LAST-MODIFIED:20240109T194926Z
UID:61162-1704994200-1705012200@thepressboxlts.com
SUMMARY:Turfway Park Winter / Spring Meet
DESCRIPTION:First Post: 5:55 p.m. ET \nPhoto by Coady Photography
URL:https://thepressboxlts.com/event/turfway-park-winter-spring-meet-50/
LOCATION:Turfway Park\, Florence\, KY\, United States
END:VEVENT
BEGIN:VEVENT
DTSTART;TZID=America/Kentucky/Louisville:20240111T123000
DTEND;TZID=America/Kentucky/Louisville:20240111T183000
DTSTAMP:20260422T053625
CREATED:20240109T195704Z
LAST-MODIFIED:20240109T195704Z
UID:61168-1704976200-1704997800@thepressboxlts.com
SUMMARY:Fair Grounds Winter / Spring Meet
DESCRIPTION:First Post: 12:45 p.m. CT \nPhoto by Holly M. Smith
URL:https://thepressboxlts.com/event/fair-grounds-winter-spring-meet-35/
LOCATION:Fair Grounds\, New Orleans\, LA\, United States
END:VEVENT
BEGIN:VEVENT
DTSTART;TZID=America/Kentucky/Louisville:20240110T173000
DTEND;TZID=America/Kentucky/Louisville:20240110T223000
DTSTAMP:20260422T053625
CREATED:20240109T194823Z
LAST-MODIFIED:20240109T194823Z
UID:61160-1704907800-1704925800@thepressboxlts.com
SUMMARY:Turfway Park Winter / Spring Meet
DESCRIPTION:First Post: 5:55 p.m. ET \nPhoto by Coady Photography
URL:https://thepressboxlts.com/event/turfway-park-winter-spring-meet-49/
LOCATION:Turfway Park\, Florence\, KY\, United States
END:VEVENT
BEGIN:VEVENT
DTSTART;TZID=America/Kentucky/Louisville:20240106T173000
DTEND;TZID=America/Kentucky/Louisville:20240106T223000
DTSTAMP:20260422T053625
CREATED:20240103T164949Z
LAST-MODIFIED:20240103T164949Z
UID:61006-1704562200-1704580200@thepressboxlts.com
SUMMARY:Turfway Park Winter / Spring Meet
DESCRIPTION:First Post: 5:55 p.m. ET \nPhoto by Coady Photography \n 
URL:https://thepressboxlts.com/event/turfway-park-winter-spring-meet-48/
LOCATION:Turfway Park\, Florence\, KY\, United States
END:VEVENT
BEGIN:VEVENT
DTSTART;TZID=America/Kentucky/Louisville:20240106T123000
DTEND;TZID=America/Kentucky/Louisville:20240106T183000
DTSTAMP:20260422T053625
CREATED:20240103T165442Z
LAST-MODIFIED:20240103T165442Z
UID:61012-1704544200-1704565800@thepressboxlts.com
SUMMARY:Fair Grounds Winter / Spring Meet
DESCRIPTION:First Post: 12:45 p.m. CT \nPhoto by Holly M. Smith
URL:https://thepressboxlts.com/event/fair-grounds-winter-spring-meet-34/
LOCATION:Fair Grounds\, New Orleans\, LA\, United States
END:VEVENT
BEGIN:VEVENT
DTSTART;TZID=America/Kentucky/Louisville:20240105T173000
DTEND;TZID=America/Kentucky/Louisville:20240105T223000
DTSTAMP:20260422T053625
CREATED:20240103T164826Z
LAST-MODIFIED:20240103T164826Z
UID:61004-1704475800-1704493800@thepressboxlts.com
SUMMARY:Turfway Park Winter / Spring Meet
DESCRIPTION:First Post: 5:55 p.m. ET \nPhoto by Coady Photography
URL:https://thepressboxlts.com/event/turfway-park-winter-spring-meet-47/
LOCATION:Turfway Park\, Florence\, KY\, United States
END:VEVENT
BEGIN:VEVENT
DTSTART;TZID=America/Kentucky/Louisville:20240105T123000
DTEND;TZID=America/Kentucky/Louisville:20240105T183000
DTSTAMP:20260422T053625
CREATED:20240103T165314Z
LAST-MODIFIED:20240103T165314Z
UID:61010-1704457800-1704479400@thepressboxlts.com
SUMMARY:Fair Grounds Winter / Spring Meet
DESCRIPTION:First Post: 12:45 p.m. CT \nPhoto by Holly M. Smith
URL:https://thepressboxlts.com/event/fair-grounds-winter-spring-meet-33/
LOCATION:Fair Grounds\, New Orleans\, LA\, United States
END:VEVENT
BEGIN:VEVENT
DTSTART;TZID=America/Kentucky/Louisville:20240104T173000
DTEND;TZID=America/Kentucky/Louisville:20240104T223000
DTSTAMP:20260422T053625
CREATED:20240103T164720Z
LAST-MODIFIED:20240103T164720Z
UID:61002-1704389400-1704407400@thepressboxlts.com
SUMMARY:Turfway Park Winter / Spring Meet
DESCRIPTION:First Post: 5:55 p.m. ET \nPhoto by Coady Photography
URL:https://thepressboxlts.com/event/turfway-park-winter-spring-meet-46/
LOCATION:Turfway Park\, Florence\, KY\, United States
END:VEVENT
BEGIN:VEVENT
DTSTART;TZID=America/Kentucky/Louisville:20240104T123000
DTEND;TZID=America/Kentucky/Louisville:20240104T183000
DTSTAMP:20260422T053625
CREATED:20240103T165154Z
LAST-MODIFIED:20240103T165154Z
UID:61008-1704371400-1704393000@thepressboxlts.com
SUMMARY:Fair Grounds Winter / Spring Meet
DESCRIPTION:First Post: 12:45 p.m. CT \nPhoto by Holly M. Smith
URL:https://thepressboxlts.com/event/fair-grounds-winter-spring-meet-32/
LOCATION:Fair Grounds\, New Orleans\, LA\, United States
END:VEVENT
BEGIN:VEVENT
DTSTART;TZID=America/Kentucky/Louisville:20240103T173000
DTEND;TZID=America/Kentucky/Louisville:20240103T223000
DTSTAMP:20260422T053625
CREATED:20240103T164544Z
LAST-MODIFIED:20240103T164544Z
UID:61000-1704303000-1704321000@thepressboxlts.com
SUMMARY:Turfway Park Winter / Spring Meet
DESCRIPTION:First Post: 5:55 p.m. ET \nPhoto by Coady Photography
URL:https://thepressboxlts.com/event/turfway-park-winter-spring-meet-45/
LOCATION:Turfway Park\, Florence\, KY\, United States
END:VEVENT
END:VCALENDAR