BEGIN:VCALENDAR
VERSION:2.0
PRODID:-//The Pressbox - ECPv6.15.19//NONSGML v1.0//EN
CALSCALE:GREGORIAN
METHOD:PUBLISH
X-WR-CALNAME:The Pressbox
X-ORIGINAL-URL:https://thepressboxlts.com
X-WR-CALDESC:Events for The Pressbox
REFRESH-INTERVAL;VALUE=DURATION:PT1H
X-Robots-Tag:noindex
X-PUBLISHED-TTL:PT1H
BEGIN:VTIMEZONE
TZID:America/Kentucky/Louisville
BEGIN:DAYLIGHT
TZOFFSETFROM:-0500
TZOFFSETTO:-0400
TZNAME:EDT
DTSTART:20220313T070000
END:DAYLIGHT
BEGIN:STANDARD
TZOFFSETFROM:-0400
TZOFFSETTO:-0500
TZNAME:EST
DTSTART:20221106T060000
END:STANDARD
BEGIN:DAYLIGHT
TZOFFSETFROM:-0500
TZOFFSETTO:-0400
TZNAME:EDT
DTSTART:20230312T070000
END:DAYLIGHT
BEGIN:STANDARD
TZOFFSETFROM:-0400
TZOFFSETTO:-0500
TZNAME:EST
DTSTART:20231105T060000
END:STANDARD
BEGIN:DAYLIGHT
TZOFFSETFROM:-0500
TZOFFSETTO:-0400
TZNAME:EDT
DTSTART:20240310T070000
END:DAYLIGHT
BEGIN:STANDARD
TZOFFSETFROM:-0400
TZOFFSETTO:-0500
TZNAME:EST
DTSTART:20241103T060000
END:STANDARD
END:VTIMEZONE
BEGIN:VEVENT
DTSTART;TZID=America/Kentucky/Louisville:20231111T130000
DTEND;TZID=America/Kentucky/Louisville:20231111T190000
DTSTAMP:20260422T152219
CREATED:20231107T145608Z
LAST-MODIFIED:20231107T145608Z
UID:60117-1699707600-1699729200@thepressboxlts.com
SUMMARY:Churchill Downs Fall Meet
DESCRIPTION:First Post: 1 p.m. ET \nMilitary Appreciation Day \nPhoto by Holly M. Smith
URL:https://thepressboxlts.com/event/churchill-downs-fall-meet-18/
LOCATION:Churchill Downs\, Louisville\, KY\, United States
END:VEVENT
BEGIN:VEVENT
DTSTART;TZID=America/Kentucky/Louisville:20231110T140000
DTEND;TZID=America/Kentucky/Louisville:20231110T190000
DTSTAMP:20260422T152219
CREATED:20231107T145122Z
LAST-MODIFIED:20231107T145122Z
UID:60109-1699624800-1699642800@thepressboxlts.com
SUMMARY:Horseshoe Indianapolis Fall Meet
DESCRIPTION:First Post: 2:10 p.m. ET \nPhoto by Coady Photography
URL:https://thepressboxlts.com/event/horseshoe-indianapolis-fall-meet-49/
LOCATION:Horseshoe Indianapolis\, Shelbyville\, IN\, United States
END:VEVENT
BEGIN:VEVENT
DTSTART;TZID=America/Kentucky/Louisville:20231110T130000
DTEND;TZID=America/Kentucky/Louisville:20231110T190000
DTSTAMP:20260422T152219
CREATED:20231107T145501Z
LAST-MODIFIED:20231107T145501Z
UID:60115-1699621200-1699642800@thepressboxlts.com
SUMMARY:Churchill Downs Fall Meet
DESCRIPTION:First Post: 1 p.m. ET \nPhoto by Holly M. Smith
URL:https://thepressboxlts.com/event/churchill-downs-fall-meet-17/
LOCATION:Churchill Downs\, Louisville\, KY\, United States
END:VEVENT
BEGIN:VEVENT
DTSTART;TZID=America/Kentucky/Louisville:20231109T140000
DTEND;TZID=America/Kentucky/Louisville:20231109T193000
DTSTAMP:20260422T152219
CREATED:20231107T145008Z
LAST-MODIFIED:20231107T145008Z
UID:60107-1699538400-1699558200@thepressboxlts.com
SUMMARY:Horseshoe Indianapolis Fall Meet
DESCRIPTION:First Post: 2:10 p.m. ET \nPhoto by Coady Photography
URL:https://thepressboxlts.com/event/horseshoe-indianapolis-fall-meet-48/
LOCATION:Horseshoe Indianapolis\, Shelbyville\, IN\, United States
END:VEVENT
BEGIN:VEVENT
DTSTART;TZID=America/Kentucky/Louisville:20231109T130000
DTEND;TZID=America/Kentucky/Louisville:20231109T190000
DTSTAMP:20260422T152219
CREATED:20231107T145404Z
LAST-MODIFIED:20231107T145404Z
UID:60113-1699534800-1699556400@thepressboxlts.com
SUMMARY:Churchill Downs Fall Meet
DESCRIPTION:First Post: 1 p.m. ET \nPhoto by Holly M. Smith
URL:https://thepressboxlts.com/event/churchill-downs-fall-meet-16/
LOCATION:Churchill Downs\, Louisville\, KY\, United States
END:VEVENT
BEGIN:VEVENT
DTSTART;TZID=America/Kentucky/Louisville:20231108T143000
DTEND;TZID=America/Kentucky/Louisville:20231108T190000
DTSTAMP:20260422T152219
CREATED:20231107T144734Z
LAST-MODIFIED:20231107T144734Z
UID:60105-1699453800-1699470000@thepressboxlts.com
SUMMARY:Horseshoe Indianapolis Fall Meet
DESCRIPTION:First Post: 2:30 p.m. ET \nPhoto by Coady Photography
URL:https://thepressboxlts.com/event/horseshoe-indianapolis-fall-meet-47/
LOCATION:Horseshoe Indianapolis\, Shelbyville\, IN\, United States
END:VEVENT
BEGIN:VEVENT
DTSTART;TZID=America/Kentucky/Louisville:20231108T130000
DTEND;TZID=America/Kentucky/Louisville:20231108T183000
DTSTAMP:20260422T152219
CREATED:20231107T145310Z
LAST-MODIFIED:20231107T145310Z
UID:60111-1699448400-1699468200@thepressboxlts.com
SUMMARY:Churchill Downs Fall Meet
DESCRIPTION:First Post: 1:00 p.m. ET \nPhoto by Holly M. Smith
URL:https://thepressboxlts.com/event/churchill-downs-fall-meet-15/
LOCATION:Churchill Downs\, Louisville\, KY\, United States
END:VEVENT
BEGIN:VEVENT
DTSTART;TZID=America/Kentucky/Louisville:20231107T143000
DTEND;TZID=America/Kentucky/Louisville:20231107T183000
DTSTAMP:20260422T152219
CREATED:20231107T144606Z
LAST-MODIFIED:20231107T144606Z
UID:60103-1699367400-1699381800@thepressboxlts.com
SUMMARY:Horseshoe Indianapolis Fall Meet
DESCRIPTION:First Post: 2:30 p.m. ET \nPhoto by Coady Photography
URL:https://thepressboxlts.com/event/horseshoe-indianapolis-fall-meet-46/
LOCATION:Horseshoe Indianapolis\, Shelbyville\, IN\, United States
END:VEVENT
BEGIN:VEVENT
DTSTART;TZID=America/Kentucky/Louisville:20231105T130000
DTEND;TZID=America/Kentucky/Louisville:20231105T183000
DTSTAMP:20260422T152219
CREATED:20231102T230909Z
LAST-MODIFIED:20231102T230909Z
UID:59881-1699189200-1699209000@thepressboxlts.com
SUMMARY:Churchill Downs Fall Meet
DESCRIPTION:First Post: 1 p.m. ET
URL:https://thepressboxlts.com/event/churchill-downs-fall-meet-14/
LOCATION:Churchill Downs\, Louisville\, KY\, United States
END:VEVENT
BEGIN:VEVENT
DTSTART;TZID=America/Kentucky/Louisville:20231104T143000
DTEND;TZID=America/Kentucky/Louisville:20231104T200000
DTSTAMP:20260422T152219
CREATED:20231102T230806Z
LAST-MODIFIED:20231102T230806Z
UID:59879-1699108200-1699128000@thepressboxlts.com
SUMMARY:Breeders' Cup Saturday at Santa Anita
DESCRIPTION:First Breeders’ Cup Post: 2:30 p.m. ET
URL:https://thepressboxlts.com/event/breeders-cup-saturday-at-santa-anita/
LOCATION:Santa Anita
END:VEVENT
BEGIN:VEVENT
DTSTART;TZID=America/Kentucky/Louisville:20231104T130000
DTEND;TZID=America/Kentucky/Louisville:20231104T200000
DTSTAMP:20260422T152219
CREATED:20231102T230624Z
LAST-MODIFIED:20231102T230624Z
UID:59877-1699102800-1699128000@thepressboxlts.com
SUMMARY:Churchill Downs' Fall Meet & Breeders' Cup Simulcasting
DESCRIPTION:First Post: 1 p.m. ET
URL:https://thepressboxlts.com/event/churchill-downs-fall-meet-breeders-cup-simulcasting-2/
LOCATION:Churchill Downs\, Louisville\, KY\, United States
END:VEVENT
BEGIN:VEVENT
DTSTART;TZID=America/Kentucky/Louisville:20231103T170000
DTEND;TZID=America/Kentucky/Louisville:20231103T210000
DTSTAMP:20260422T152219
CREATED:20231102T230049Z
LAST-MODIFIED:20231102T230049Z
UID:59873-1699030800-1699045200@thepressboxlts.com
SUMMARY:Breeders' Cup Friday at Santa Anita
DESCRIPTION:First Breeders’ Cup Stakes: 5 p.m. ET
URL:https://thepressboxlts.com/event/breeders-cup-friday-at-santa-anita/
LOCATION:Santa Anita
END:VEVENT
BEGIN:VEVENT
DTSTART;TZID=America/Kentucky/Louisville:20231103T130000
DTEND;TZID=America/Kentucky/Louisville:20231103T210000
DTSTAMP:20260422T152219
CREATED:20231102T230258Z
LAST-MODIFIED:20231102T230258Z
UID:59875-1699016400-1699045200@thepressboxlts.com
SUMMARY:Churchill Downs' Fall Meet & Breeders' Cup Simulcasting
DESCRIPTION:First Post: 1 p.m. ET
URL:https://thepressboxlts.com/event/churchill-downs-fall-meet-breeders-cup-simulcasting/
LOCATION:Churchill Downs\, Louisville\, KY\, United States
END:VEVENT
BEGIN:VEVENT
DTSTART;TZID=America/Kentucky/Louisville:20231029T123000
DTEND;TZID=America/Kentucky/Louisville:20231029T190000
DTSTAMP:20260422T152219
CREATED:20231024T143532Z
LAST-MODIFIED:20231024T143532Z
UID:59637-1698582600-1698606000@thepressboxlts.com
SUMMARY:Churchill Downs Fall Meet
DESCRIPTION:First Post: 12:46 p.m. ET \nPhoto by Holly M. Smith
URL:https://thepressboxlts.com/event/churchill-downs-fall-meet-13/
LOCATION:Churchill Downs\, Louisville\, KY\, United States
END:VEVENT
BEGIN:VEVENT
DTSTART;TZID=America/Kentucky/Louisville:20231028T130000
DTEND;TZID=America/Kentucky/Louisville:20231028T180000
DTSTAMP:20260422T152219
CREATED:20231024T140349Z
LAST-MODIFIED:20231024T140349Z
UID:59627-1698498000-1698516000@thepressboxlts.com
SUMMARY:Keeneland October Meet
DESCRIPTION:First Post: 1 p.m. ET \nPhoto by Coady Photography
URL:https://thepressboxlts.com/event/keeneland-october-meet-30/
LOCATION:Keeneland Race Course\, KY\, United States
END:VEVENT
BEGIN:VEVENT
DTSTART;TZID=America/Kentucky/Louisville:20231028T120000
DTEND;TZID=America/Kentucky/Louisville:20231028T190000
DTSTAMP:20260422T152219
CREATED:20231024T141831Z
LAST-MODIFIED:20231024T141831Z
UID:59635-1698494400-1698519600@thepressboxlts.com
SUMMARY:Horseshoe Indianapolis Fall Meet
DESCRIPTION:First Post: 12 Noon \nChampions Day
URL:https://thepressboxlts.com/event/horseshoe-indianapolis-fall-meet-45/
LOCATION:Horseshoe Indianapolis\, Shelbyville\, IN\, United States
END:VEVENT
BEGIN:VEVENT
DTSTART;TZID=America/Kentucky/Louisville:20231027T130000
DTEND;TZID=America/Kentucky/Louisville:20231027T180000
DTSTAMP:20260422T152219
CREATED:20231024T140139Z
LAST-MODIFIED:20231024T140139Z
UID:59625-1698411600-1698429600@thepressboxlts.com
SUMMARY:Keeneland October Meet
DESCRIPTION:First Post: 1 p.m. ET \nPhoto by Coady Photography
URL:https://thepressboxlts.com/event/keeneland-october-meet-29/
LOCATION:Keeneland Race Course\, KY\, United States
END:VEVENT
BEGIN:VEVENT
DTSTART;TZID=America/Kentucky/Louisville:20231026T140000
DTEND;TZID=America/Kentucky/Louisville:20231026T190000
DTSTAMP:20260422T152219
CREATED:20231024T141611Z
LAST-MODIFIED:20231024T141611Z
UID:59633-1698328800-1698346800@thepressboxlts.com
SUMMARY:Horseshoe Indianapolis Fall Meet
DESCRIPTION:First Post: 2:10 p.m. ET
URL:https://thepressboxlts.com/event/horseshoe-indianapolis-fall-meet-44/
LOCATION:Horseshoe Indianapolis\, Shelbyville\, IN\, United States
END:VEVENT
BEGIN:VEVENT
DTSTART;TZID=America/Kentucky/Louisville:20231026T130000
DTEND;TZID=America/Kentucky/Louisville:20231026T180000
DTSTAMP:20260422T152219
CREATED:20231024T135821Z
LAST-MODIFIED:20231024T135821Z
UID:59623-1698325200-1698343200@thepressboxlts.com
SUMMARY:Keeneland October Meet
DESCRIPTION:First Post: 1 p.m. ET \nPhoto by Coady Photography
URL:https://thepressboxlts.com/event/keeneland-october-meet-28/
LOCATION:Keeneland Race Course\, KY\, United States
END:VEVENT
BEGIN:VEVENT
DTSTART;TZID=America/Kentucky/Louisville:20231025T143000
DTEND;TZID=America/Kentucky/Louisville:20231025T193000
DTSTAMP:20260422T152219
CREATED:20231024T141408Z
LAST-MODIFIED:20231024T141408Z
UID:59631-1698244200-1698262200@thepressboxlts.com
SUMMARY:Horseshoe Indianapolis Fall Meet
DESCRIPTION:First Post: 2:30 p.m. ET
URL:https://thepressboxlts.com/event/horseshoe-indianapolis-fall-meet-43/
LOCATION:Horseshoe Indianapolis\, Shelbyville\, IN\, United States
END:VEVENT
BEGIN:VEVENT
DTSTART;TZID=America/Kentucky/Louisville:20231025T130000
DTEND;TZID=America/Kentucky/Louisville:20231025T180000
DTSTAMP:20260422T152219
CREATED:20231024T135551Z
LAST-MODIFIED:20231024T135551Z
UID:59621-1698238800-1698256800@thepressboxlts.com
SUMMARY:Keeneland October Meet
DESCRIPTION:First Post: 1 p.m. ET \nPhoto by Coady Photography
URL:https://thepressboxlts.com/event/keeneland-october-meet-27/
LOCATION:Keeneland Race Course\, KY\, United States
END:VEVENT
BEGIN:VEVENT
DTSTART;TZID=America/Kentucky/Louisville:20231024T143000
DTEND;TZID=America/Kentucky/Louisville:20231024T193000
DTSTAMP:20260422T152219
CREATED:20231024T141253Z
LAST-MODIFIED:20231024T141253Z
UID:59629-1698157800-1698175800@thepressboxlts.com
SUMMARY:Horseshoe Indianapolis Fall Meet
DESCRIPTION:First Post: 2:30 p.m. ET
URL:https://thepressboxlts.com/event/horseshoe-indianapolis-fall-meet-42/
LOCATION:Horseshoe Indianapolis\, Shelbyville\, IN\, United States
END:VEVENT
BEGIN:VEVENT
DTSTART;TZID=America/Kentucky/Louisville:20231022T130000
DTEND;TZID=America/Kentucky/Louisville:20231022T183000
DTSTAMP:20260422T152219
CREATED:20231016T133319Z
LAST-MODIFIED:20231016T133319Z
UID:59489-1697979600-1697999400@thepressboxlts.com
SUMMARY:Keeneland October Meet
DESCRIPTION:First Post: 1 p.m. ET \nPhoto of Mawj winning the G1 QE II at Keeneland by Coady Photography
URL:https://thepressboxlts.com/event/keeneland-october-meet-26/
LOCATION:Keeneland Race Course\, KY\, United States
END:VEVENT
BEGIN:VEVENT
DTSTART;TZID=America/Kentucky/Louisville:20231021T130000
DTEND;TZID=America/Kentucky/Louisville:20231021T183000
DTSTAMP:20260422T152219
CREATED:20231016T133148Z
LAST-MODIFIED:20231016T133148Z
UID:59487-1697893200-1697913000@thepressboxlts.com
SUMMARY:Keeneland October Meet
DESCRIPTION:First Post: 1 p.m. ET \nPhoto of Tony Ann at Keeneland by Coady Photograph
URL:https://thepressboxlts.com/event/keeneland-october-meet-25/
LOCATION:Keeneland Race Course\, KY\, United States
END:VEVENT
BEGIN:VEVENT
DTSTART;TZID=America/Kentucky/Louisville:20231020T130000
DTEND;TZID=America/Kentucky/Louisville:20231020T183000
DTSTAMP:20260422T152219
CREATED:20231016T133036Z
LAST-MODIFIED:20231016T133036Z
UID:59485-1697806800-1697826600@thepressboxlts.com
SUMMARY:Keeneland October Meet
DESCRIPTION:First Post: 1 p.m. ET \nPhoto of Mawj by Coady Photography
URL:https://thepressboxlts.com/event/keeneland-october-meet-24/
LOCATION:Keeneland Race Course\, KY\, United States
END:VEVENT
BEGIN:VEVENT
DTSTART;TZID=America/Kentucky/Louisville:20231019T140000
DTEND;TZID=America/Kentucky/Louisville:20231019T200000
DTSTAMP:20260422T152219
CREATED:20231016T134000Z
LAST-MODIFIED:20231016T134000Z
UID:59498-1697724000-1697745600@thepressboxlts.com
SUMMARY:Horseshoe Indianapolis Fall Meet
DESCRIPTION:First Post: 2:10 p.m. ET \nPhoto by Coady Photography
URL:https://thepressboxlts.com/event/horseshoe-indianapolis-fall-meet-41/
LOCATION:Horseshoe Indianapolis\, Shelbyville\, IN\, United States
END:VEVENT
BEGIN:VEVENT
DTSTART;TZID=America/Kentucky/Louisville:20231019T130000
DTEND;TZID=America/Kentucky/Louisville:20231019T183000
DTSTAMP:20260422T152219
CREATED:20231016T132922Z
LAST-MODIFIED:20231016T132922Z
UID:59483-1697720400-1697740200@thepressboxlts.com
SUMMARY:Keeneland October Meet
DESCRIPTION:First Post: 1 p.m. ET \nPhoto of Tony Ann by Coady Photography
URL:https://thepressboxlts.com/event/keeneland-october-meet-23/
LOCATION:Keeneland Race Course\, KY\, United States
END:VEVENT
BEGIN:VEVENT
DTSTART;TZID=America/Kentucky/Louisville:20231018T143000
DTEND;TZID=America/Kentucky/Louisville:20231018T200000
DTSTAMP:20260422T152219
CREATED:20231016T133846Z
LAST-MODIFIED:20231016T133846Z
UID:59496-1697639400-1697659200@thepressboxlts.com
SUMMARY:Horseshoe Indianapolis Fall Meet
DESCRIPTION:First Post: 2:30 p.m. ET \nPhoto by Coady Photography
URL:https://thepressboxlts.com/event/horseshoe-indianapolis-fall-meet-40/
LOCATION:Horseshoe Indianapolis\, Shelbyville\, IN\, United States
END:VEVENT
BEGIN:VEVENT
DTSTART;TZID=America/Kentucky/Louisville:20231018T130000
DTEND;TZID=America/Kentucky/Louisville:20231018T183000
DTSTAMP:20260422T152219
CREATED:20231016T132756Z
LAST-MODIFIED:20231016T132756Z
UID:59481-1697634000-1697653800@thepressboxlts.com
SUMMARY:Keeneland October Meet
DESCRIPTION:First Post: 1 p.m. ET \nPhoto of Mawj is by Coady Photography
URL:https://thepressboxlts.com/event/keeneland-october-meet-22/
LOCATION:Keeneland Race Course\, KY\, United States
END:VEVENT
BEGIN:VEVENT
DTSTART;TZID=America/Kentucky/Louisville:20231017T143000
DTEND;TZID=America/Kentucky/Louisville:20231017T200000
DTSTAMP:20260422T152219
CREATED:20231016T133747Z
LAST-MODIFIED:20231016T133747Z
UID:59493-1697553000-1697572800@thepressboxlts.com
SUMMARY:Horseshoe Indianapolis Fall Meet
DESCRIPTION:First Post: 2:30 p.m. ET \nPhoto by Coady Photography
URL:https://thepressboxlts.com/event/horseshoe-indianapolis-fall-meet-39/
LOCATION:Horseshoe Indianapolis\, Shelbyville\, IN\, United States
END:VEVENT
END:VCALENDAR