BEGIN:VCALENDAR
VERSION:2.0
PRODID:-//The Pressbox - ECPv6.15.19//NONSGML v1.0//EN
CALSCALE:GREGORIAN
METHOD:PUBLISH
X-WR-CALNAME:The Pressbox
X-ORIGINAL-URL:https://thepressboxlts.com
X-WR-CALDESC:Events for The Pressbox
REFRESH-INTERVAL;VALUE=DURATION:PT1H
X-Robots-Tag:noindex
X-PUBLISHED-TTL:PT1H
BEGIN:VTIMEZONE
TZID:America/Kentucky/Louisville
BEGIN:DAYLIGHT
TZOFFSETFROM:-0500
TZOFFSETTO:-0400
TZNAME:EDT
DTSTART:20220313T070000
END:DAYLIGHT
BEGIN:STANDARD
TZOFFSETFROM:-0400
TZOFFSETTO:-0500
TZNAME:EST
DTSTART:20221106T060000
END:STANDARD
BEGIN:DAYLIGHT
TZOFFSETFROM:-0500
TZOFFSETTO:-0400
TZNAME:EDT
DTSTART:20230312T070000
END:DAYLIGHT
BEGIN:STANDARD
TZOFFSETFROM:-0400
TZOFFSETTO:-0500
TZNAME:EST
DTSTART:20231105T060000
END:STANDARD
BEGIN:DAYLIGHT
TZOFFSETFROM:-0500
TZOFFSETTO:-0400
TZNAME:EDT
DTSTART:20240310T070000
END:DAYLIGHT
BEGIN:STANDARD
TZOFFSETFROM:-0400
TZOFFSETTO:-0500
TZNAME:EST
DTSTART:20241103T060000
END:STANDARD
END:VTIMEZONE
BEGIN:VEVENT
DTSTART;TZID=America/Kentucky/Louisville:20230928T170000
DTEND;TZID=America/Kentucky/Louisville:20230928T220000
DTSTAMP:20260422T183508
CREATED:20230925T150249Z
LAST-MODIFIED:20230925T150249Z
UID:59119-1695920400-1695938400@thepressboxlts.com
SUMMARY:Churchill Downs September Meet
DESCRIPTION:First Post: 5 p.m. ET \nTwilight Thursday
URL:https://thepressboxlts.com/event/churchill-downs-september-meet-13/
LOCATION:Churchill Downs\, Louisville\, KY\, United States
END:VEVENT
BEGIN:VEVENT
DTSTART;TZID=America/Kentucky/Louisville:20230928T140000
DTEND;TZID=America/Kentucky/Louisville:20230928T200000
DTSTAMP:20260422T183508
CREATED:20230925T151157Z
LAST-MODIFIED:20230925T151157Z
UID:59133-1695909600-1695931200@thepressboxlts.com
SUMMARY:Horseshoe Indianapolis Fall Meet
DESCRIPTION:First Post: 2:10 p.m. ET
URL:https://thepressboxlts.com/event/horseshoe-indianapolis-fall-meet-31/
LOCATION:Horseshoe Indianapolis\, Shelbyville\, IN\, United States
END:VEVENT
BEGIN:VEVENT
DTSTART;TZID=America/Kentucky/Louisville:20230927T143000
DTEND;TZID=America/Kentucky/Louisville:20230927T203000
DTSTAMP:20260422T183508
CREATED:20230925T151041Z
LAST-MODIFIED:20230925T151041Z
UID:59131-1695825000-1695846600@thepressboxlts.com
SUMMARY:Horseshoe Indianapolis Fall Meet
DESCRIPTION:First Post: 2:30 p.m. ET
URL:https://thepressboxlts.com/event/horseshoe-indianapolis-fall-meet-30/
LOCATION:Horseshoe Indianapolis\, Shelbyville\, IN\, United States
END:VEVENT
BEGIN:VEVENT
DTSTART;TZID=America/Kentucky/Louisville:20230927T123000
DTEND;TZID=America/Kentucky/Louisville:20230927T190000
DTSTAMP:20260422T183508
CREATED:20230925T150138Z
LAST-MODIFIED:20230925T150138Z
UID:59117-1695817800-1695841200@thepressboxlts.com
SUMMARY:Churchill Downs September Meet
DESCRIPTION:First Post: 12:45 p.m. ET
URL:https://thepressboxlts.com/event/churchill-downs-september-meet-12/
LOCATION:Churchill Downs\, Louisville\, KY\, United States
END:VEVENT
BEGIN:VEVENT
DTSTART;TZID=America/Kentucky/Louisville:20230926T143000
DTEND;TZID=America/Kentucky/Louisville:20230926T203000
DTSTAMP:20260422T183508
CREATED:20230925T150934Z
LAST-MODIFIED:20230925T150934Z
UID:59129-1695738600-1695760200@thepressboxlts.com
SUMMARY:Horseshoe Indianapolis Fall Meet
DESCRIPTION:First Post: 2:30 p.m. ET
URL:https://thepressboxlts.com/event/horseshoe-indianapolis-fall-meet-29/
LOCATION:Horseshoe Indianapolis\, Shelbyville\, IN\, United States
END:VEVENT
BEGIN:VEVENT
DTSTART;TZID=America/Kentucky/Louisville:20230925T143000
DTEND;TZID=America/Kentucky/Louisville:20230925T203000
DTSTAMP:20260422T183508
CREATED:20230925T150814Z
LAST-MODIFIED:20230925T150814Z
UID:59127-1695652200-1695673800@thepressboxlts.com
SUMMARY:Horseshoe Indianapolis Fall Meet
DESCRIPTION:First Post: 2:30 p.m. ET
URL:https://thepressboxlts.com/event/horseshoe-indianapolis-fall-meet-28/
LOCATION:Horseshoe Indianapolis\, Shelbyville\, IN\, United States
END:VEVENT
BEGIN:VEVENT
DTSTART;TZID=America/Kentucky/Louisville:20230924T123000
DTEND;TZID=America/Kentucky/Louisville:20230924T193000
DTSTAMP:20260422T183508
CREATED:20230918T213138Z
LAST-MODIFIED:20230918T213138Z
UID:59048-1695558600-1695583800@thepressboxlts.com
SUMMARY:Churchill Downs' September Meet
DESCRIPTION:First Post: 12:45 p.m. ET
URL:https://thepressboxlts.com/event/churchill-downs-september-meet-11/
LOCATION:Churchill Downs\, Louisville\, KY\, United States
END:VEVENT
BEGIN:VEVENT
DTSTART;TZID=America/Kentucky/Louisville:20230923T123000
DTEND;TZID=America/Kentucky/Louisville:20230923T193000
DTSTAMP:20260422T183508
CREATED:20230918T212835Z
LAST-MODIFIED:20230918T212835Z
UID:59046-1695472200-1695497400@thepressboxlts.com
SUMMARY:Churchill Downs' September Meet
DESCRIPTION:First Post: 12:45 p.m. ET
URL:https://thepressboxlts.com/event/churchill-downs-september-meet-10/
LOCATION:Churchill Downs\, Louisville\, KY\, United States
END:VEVENT
BEGIN:VEVENT
DTSTART;TZID=America/Kentucky/Louisville:20230922T123000
DTEND;TZID=America/Kentucky/Louisville:20230922T190000
DTSTAMP:20260422T183508
CREATED:20230918T212726Z
LAST-MODIFIED:20230918T212726Z
UID:59044-1695385800-1695409200@thepressboxlts.com
SUMMARY:Churchill Downs' September Meet
DESCRIPTION:First Post: 12:45 p.m. ET
URL:https://thepressboxlts.com/event/churchill-downs-september-meet-9/
LOCATION:Churchill Downs\, Louisville\, KY\, United States
END:VEVENT
BEGIN:VEVENT
DTSTART;TZID=America/Kentucky/Louisville:20230921T170000
DTEND;TZID=America/Kentucky/Louisville:20230921T220000
DTSTAMP:20260422T183508
CREATED:20230918T212623Z
LAST-MODIFIED:20230918T212623Z
UID:59042-1695315600-1695333600@thepressboxlts.com
SUMMARY:Churchill Downs' September Meet
DESCRIPTION:First Post: 5 p.m. ET
URL:https://thepressboxlts.com/event/churchill-downs-september-meet-8/
LOCATION:Churchill Downs\, Louisville\, KY\, United States
END:VEVENT
BEGIN:VEVENT
DTSTART;TZID=America/Kentucky/Louisville:20230920T123000
DTEND;TZID=America/Kentucky/Louisville:20230920T190000
DTSTAMP:20260422T183508
CREATED:20230918T212530Z
LAST-MODIFIED:20230918T212530Z
UID:59040-1695213000-1695236400@thepressboxlts.com
SUMMARY:Churchill Downs' September Meet
DESCRIPTION:First Post: 12:45 p.m. ET
URL:https://thepressboxlts.com/event/churchill-downs-september-meet-7/
LOCATION:Churchill Downs\, Louisville\, KY\, United States
END:VEVENT
BEGIN:VEVENT
DTSTART;TZID=America/Kentucky/Louisville:20230917T123000
DTEND;TZID=America/Kentucky/Louisville:20230917T183000
DTSTAMP:20260422T183508
CREATED:20230911T143305Z
LAST-MODIFIED:20230911T143305Z
UID:58825-1694953800-1694975400@thepressboxlts.com
SUMMARY:Churchill Downs' September Race Meet
DESCRIPTION:First Post: 12:45 p.m. ET
URL:https://thepressboxlts.com/event/churchill-downs-september-race-meet-4/
LOCATION:Churchill Downs\, Louisville\, KY\, United States
END:VEVENT
BEGIN:VEVENT
DTSTART;TZID=America/Kentucky/Louisville:20230916T123000
DTEND;TZID=America/Kentucky/Louisville:20230916T183000
DTSTAMP:20260422T183508
CREATED:20230911T143149Z
LAST-MODIFIED:20230911T143149Z
UID:58823-1694867400-1694889000@thepressboxlts.com
SUMMARY:Churchill Downs' September Race Meet
DESCRIPTION:First Post: 12:45 p.m. ET
URL:https://thepressboxlts.com/event/churchill-downs-september-race-meet-3/
LOCATION:KY
END:VEVENT
BEGIN:VEVENT
DTSTART;TZID=America/Kentucky/Louisville:20230915T123000
DTEND;TZID=America/Kentucky/Louisville:20230915T183000
DTSTAMP:20260422T183508
CREATED:20230911T142958Z
LAST-MODIFIED:20230911T142958Z
UID:58821-1694781000-1694802600@thepressboxlts.com
SUMMARY:Churchill Downs' September Race Meet
DESCRIPTION:First Post: 12:45 p.m. ET
URL:https://thepressboxlts.com/event/churchill-downs-september-race-meet-2/
LOCATION:Churchill Downs\, Louisville\, KY\, United States
END:VEVENT
BEGIN:VEVENT
DTSTART;TZID=America/Kentucky/Louisville:20230914T170000
DTEND;TZID=America/Kentucky/Louisville:20230914T223000
DTSTAMP:20260422T183508
CREATED:20230911T142845Z
LAST-MODIFIED:20230911T142845Z
UID:58819-1694710800-1694730600@thepressboxlts.com
SUMMARY:Churchill Downs' September Race Meet
DESCRIPTION:First Post: 5:00 p.m. ET \nTwilight Thursday
URL:https://thepressboxlts.com/event/churchill-downs-september-race-meet/
LOCATION:Churchill Downs\, Louisville\, KY\, United States
END:VEVENT
BEGIN:VEVENT
DTSTART;TZID=America/Kentucky/Louisville:20230914T140000
DTEND;TZID=America/Kentucky/Louisville:20230914T203000
DTSTAMP:20260422T183508
CREATED:20230911T142607Z
LAST-MODIFIED:20230911T142607Z
UID:58816-1694700000-1694723400@thepressboxlts.com
SUMMARY:Horseshoe Indianapolis Summer Meet
DESCRIPTION:First Post: 2:30 p.m. ET \nPhoto by Coady Photography
URL:https://thepressboxlts.com/event/horseshoe-indianapolis-summer-meet-105/
LOCATION:Horseshoe Indianapolis\, Shelbyville\, IN\, United States
END:VEVENT
BEGIN:VEVENT
DTSTART;TZID=America/Kentucky/Louisville:20230913T123000
DTEND;TZID=America/Kentucky/Louisville:20230913T190000
DTSTAMP:20260422T183508
CREATED:20230901T142806Z
LAST-MODIFIED:20230901T142806Z
UID:58481-1694608200-1694631600@thepressboxlts.com
SUMMARY:KY Downs Summer Meet
DESCRIPTION:First Post: 12:30 p.m. CT \nPhoto by Coady Photography
URL:https://thepressboxlts.com/event/ky-downs-summer-meet-8/
LOCATION:Kentucky Downs\, Franklin\, KY\, KY\, United States
END:VEVENT
BEGIN:VEVENT
DTSTART;TZID=America/Kentucky/Louisville:20230913T080000
DTEND;TZID=America/Kentucky/Louisville:20230913T170000
DTSTAMP:20260422T183508
CREATED:20230911T142451Z
LAST-MODIFIED:20230911T142451Z
UID:58814-1694592000-1694624400@thepressboxlts.com
SUMMARY:Horseshoe Indianapolis Summer Meet
DESCRIPTION:First Post: 2:30 p.m. ET \nPhoto by Coady Photography
URL:https://thepressboxlts.com/event/horseshoe-indianapolis-summer-meet-104/
LOCATION:Horseshoe Indianapolis\, Shelbyville\, IN\, United States
END:VEVENT
BEGIN:VEVENT
DTSTART;TZID=America/Kentucky/Louisville:20230912T143000
DTEND;TZID=America/Kentucky/Louisville:20230912T200000
DTSTAMP:20260422T183508
CREATED:20230911T142340Z
LAST-MODIFIED:20230911T142340Z
UID:58812-1694529000-1694548800@thepressboxlts.com
SUMMARY:Horseshoe Indianapolis Summer Meet
DESCRIPTION:First Post: 2:30 p.m. ET \nPhoto by Coady Photography
URL:https://thepressboxlts.com/event/horseshoe-indianapolis-summer-meet-103/
LOCATION:Horseshoe Indianapolis\, Shelbyville\, IN\, United States
END:VEVENT
BEGIN:VEVENT
DTSTART;TZID=America/Kentucky/Louisville:20230911T143000
DTEND;TZID=America/Kentucky/Louisville:20230911T200000
DTSTAMP:20260422T183508
CREATED:20230911T142114Z
LAST-MODIFIED:20230911T142114Z
UID:58810-1694442600-1694462400@thepressboxlts.com
SUMMARY:Horseshoe Indianapolis Summer Meet
DESCRIPTION:First Post: 2:30 p.m. ET \nPhoto by Coady Photography
URL:https://thepressboxlts.com/event/horseshoe-indianapolis-summer-meet-102/
LOCATION:Horseshoe Indianapolis\, Shelbyville\, IN\, United States
END:VEVENT
BEGIN:VEVENT
DTSTART;TZID=America/Kentucky/Louisville:20230910T123000
DTEND;TZID=America/Kentucky/Louisville:20230910T190000
DTSTAMP:20260422T183508
CREATED:20230901T142711Z
LAST-MODIFIED:20230901T142711Z
UID:58479-1694349000-1694372400@thepressboxlts.com
SUMMARY:KY Downs Summer Meet
DESCRIPTION:First Post: 12:30 p.m. CT \nPhoto by Coady Photography
URL:https://thepressboxlts.com/event/ky-downs-summer-meet-7/
LOCATION:Kentucky Downs\, Franklin\, KY\, KY\, United States
END:VEVENT
BEGIN:VEVENT
DTSTART;TZID=America/Kentucky/Louisville:20230909T113000
DTEND;TZID=America/Kentucky/Louisville:20230909T200000
DTSTAMP:20260422T183508
CREATED:20230901T142607Z
LAST-MODIFIED:20230901T142607Z
UID:58477-1694259000-1694289600@thepressboxlts.com
SUMMARY:KY Downs Summer Meet
DESCRIPTION:First Post: 11:30 a.m. CT (Note Special Start Time) \nPhoto by Coady Photography
URL:https://thepressboxlts.com/event/ky-downs-summer-meet-6/
LOCATION:Kentucky Downs\, Franklin\, KY\, KY\, United States
END:VEVENT
BEGIN:VEVENT
DTSTART;TZID=America/Kentucky/Louisville:20230908T140000
DTEND;TZID=America/Kentucky/Louisville:20230908T200000
DTSTAMP:20260422T183508
CREATED:20230901T143444Z
LAST-MODIFIED:20230901T143444Z
UID:58489-1694181600-1694203200@thepressboxlts.com
SUMMARY:Horseshoe Indianapolis Summer Meet
DESCRIPTION:First Post: 2:10 p.m. ET \nPhoto by Coady Photography
URL:https://thepressboxlts.com/event/horseshoe-indianapolis-summer-meet-101/
LOCATION:Horseshoe Indianapolis\, Shelbyville\, IN\, United States
END:VEVENT
BEGIN:VEVENT
DTSTART;TZID=America/Kentucky/Louisville:20230907T140000
DTEND;TZID=America/Kentucky/Louisville:20230907T200000
DTSTAMP:20260422T183508
CREATED:20230901T143332Z
LAST-MODIFIED:20230901T143332Z
UID:58487-1694095200-1694116800@thepressboxlts.com
SUMMARY:Horseshoe Indianapolis Summer Meet
DESCRIPTION:First Post: 2:10 p.m. ET
URL:https://thepressboxlts.com/event/horseshoe-indianapolis-summer-meet-100/
LOCATION:Horseshoe Indianapolis\, Shelbyville\, IN\, United States
END:VEVENT
BEGIN:VEVENT
DTSTART;TZID=America/Kentucky/Louisville:20230907T123000
DTEND;TZID=America/Kentucky/Louisville:20230907T190000
DTSTAMP:20260422T183508
CREATED:20230901T142500Z
LAST-MODIFIED:20230901T142500Z
UID:58475-1694089800-1694113200@thepressboxlts.com
SUMMARY:KY Downs Summer Meet
DESCRIPTION:First Post: 12:30 p.m. CT \nPhoto by Coady Photography
URL:https://thepressboxlts.com/event/ky-downs-summer-meet-5/
LOCATION:Kentucky Downs\, Franklin\, KY\, KY\, United States
END:VEVENT
BEGIN:VEVENT
DTSTART;TZID=America/Kentucky/Louisville:20230906T143000
DTEND;TZID=America/Kentucky/Louisville:20230906T203000
DTSTAMP:20260422T183508
CREATED:20230901T143209Z
LAST-MODIFIED:20230901T143209Z
UID:58485-1694010600-1694032200@thepressboxlts.com
SUMMARY:Horseshoe Indianapolis Summer Meet
DESCRIPTION:First Post: 2:30 p.m. ET \nPhoto by Coady Photography
URL:https://thepressboxlts.com/event/horseshoe-indianapolis-summer-meet-99/
LOCATION:Horseshoe Indianapolis\, Shelbyville\, IN\, United States
END:VEVENT
BEGIN:VEVENT
DTSTART;TZID=America/Kentucky/Louisville:20230905T143000
DTEND;TZID=America/Kentucky/Louisville:20230905T203000
DTSTAMP:20260422T183508
CREATED:20230901T143101Z
LAST-MODIFIED:20230901T143101Z
UID:58483-1693924200-1693945800@thepressboxlts.com
SUMMARY:Horseshoe Indianapolis Summer Meet
DESCRIPTION:First Post: 2:30 p.m. ET \nPhoto by Coady Photography
URL:https://thepressboxlts.com/event/horseshoe-indianapolis-summer-meet-98/
LOCATION:Horseshoe Indianapolis\, Shelbyville\, IN\, United States
END:VEVENT
BEGIN:VEVENT
DTSTART;TZID=America/Kentucky/Louisville:20230903T123000
DTEND;TZID=America/Kentucky/Louisville:20230903T190000
DTSTAMP:20260422T183508
CREATED:20230901T142404Z
LAST-MODIFIED:20230901T142404Z
UID:58473-1693744200-1693767600@thepressboxlts.com
SUMMARY:KY Downs Summer Meet
DESCRIPTION:First Post: 12:30 p.m. CT \nPhoto by Coady Photography
URL:https://thepressboxlts.com/event/ky-downs-summer-meet-2/
LOCATION:Kentucky Downs\, Franklin\, KY\, KY\, United States
END:VEVENT
BEGIN:VEVENT
DTSTART;TZID=America/Kentucky/Louisville:20230902T003000
DTEND;TZID=America/Kentucky/Louisville:20230902T193000
DTSTAMP:20260422T183508
CREATED:20230901T142305Z
LAST-MODIFIED:20230901T142305Z
UID:58471-1693614600-1693683000@thepressboxlts.com
SUMMARY:KY Downs Summer Meet
DESCRIPTION:First Post: 12:30 p.m. CT
URL:https://thepressboxlts.com/event/ky-downs-summer-meet/
LOCATION:Kentucky Downs\, Franklin\, KY\, KY\, United States
END:VEVENT
BEGIN:VEVENT
DTSTART;TZID=America/Kentucky/Louisville:20230831T140000
DTEND;TZID=America/Kentucky/Louisville:20230831T200000
DTSTAMP:20260422T183508
CREATED:20230827T230802Z
LAST-MODIFIED:20230827T230802Z
UID:58411-1693490400-1693512000@thepressboxlts.com
SUMMARY:Horseshoe Indianapolis Summer Meet
DESCRIPTION:First Post: 2:10 p.m. ET
URL:https://thepressboxlts.com/event/horseshoe-indianapolis-summer-meet-96/
LOCATION:Horseshoe Indianapolis\, Shelbyville\, IN\, United States
END:VEVENT
END:VCALENDAR