BEGIN:VCALENDAR
VERSION:2.0
PRODID:-//The Pressbox - ECPv6.15.19//NONSGML v1.0//EN
CALSCALE:GREGORIAN
METHOD:PUBLISH
X-WR-CALNAME:The Pressbox
X-ORIGINAL-URL:https://thepressboxlts.com
X-WR-CALDESC:Events for The Pressbox
REFRESH-INTERVAL;VALUE=DURATION:PT1H
X-Robots-Tag:noindex
X-PUBLISHED-TTL:PT1H
BEGIN:VTIMEZONE
TZID:America/Kentucky/Louisville
BEGIN:DAYLIGHT
TZOFFSETFROM:-0500
TZOFFSETTO:-0400
TZNAME:EDT
DTSTART:20220313T070000
END:DAYLIGHT
BEGIN:STANDARD
TZOFFSETFROM:-0400
TZOFFSETTO:-0500
TZNAME:EST
DTSTART:20221106T060000
END:STANDARD
BEGIN:DAYLIGHT
TZOFFSETFROM:-0500
TZOFFSETTO:-0400
TZNAME:EDT
DTSTART:20230312T070000
END:DAYLIGHT
BEGIN:STANDARD
TZOFFSETFROM:-0400
TZOFFSETTO:-0500
TZNAME:EST
DTSTART:20231105T060000
END:STANDARD
BEGIN:DAYLIGHT
TZOFFSETFROM:-0500
TZOFFSETTO:-0400
TZNAME:EDT
DTSTART:20240310T070000
END:DAYLIGHT
BEGIN:STANDARD
TZOFFSETFROM:-0400
TZOFFSETTO:-0500
TZNAME:EST
DTSTART:20241103T060000
END:STANDARD
END:VTIMEZONE
BEGIN:VEVENT
DTSTART;TZID=America/Kentucky/Louisville:20230624T113000
DTEND;TZID=America/Kentucky/Louisville:20230624T183000
DTSTAMP:20260423T000950
CREATED:20230619T135619Z
LAST-MODIFIED:20230619T135619Z
UID:57222-1687606200-1687631400@thepressboxlts.com
SUMMARY:Ellis Park Summer Meet
DESCRIPTION:First Post: 11:45 a.m. CT
URL:https://thepressboxlts.com/event/ellis-park-summer-meet-3/
LOCATION:Ellis Park\, Henderson\, KY\, United States
END:VEVENT
BEGIN:VEVENT
DTSTART;TZID=America/Kentucky/Louisville:20230623T113000
DTEND;TZID=America/Kentucky/Louisville:20230623T183000
DTSTAMP:20260423T000950
CREATED:20230619T135445Z
LAST-MODIFIED:20230619T135445Z
UID:57220-1687519800-1687545000@thepressboxlts.com
SUMMARY:Ellis Park Summer Meet
DESCRIPTION:First Post: 11:45 a.m. ET
URL:https://thepressboxlts.com/event/ellis-park-summer-meet-2/
LOCATION:Ellis Park\, Henderson\, KY\, United States
END:VEVENT
BEGIN:VEVENT
DTSTART;TZID=America/Kentucky/Louisville:20230622T140000
DTEND;TZID=America/Kentucky/Louisville:20230622T200000
DTSTAMP:20260423T000950
CREATED:20230619T134913Z
LAST-MODIFIED:20230619T134913Z
UID:57214-1687442400-1687464000@thepressboxlts.com
SUMMARY:Horseshoe Indianapolis Summer Meet
DESCRIPTION:First Post: 2:10 p.m. ET \n 
URL:https://thepressboxlts.com/event/horseshoe-indianapolis-summer-meet-68/
LOCATION:Horseshoe Indianapolis\, Shelbyville\, IN\, United States
END:VEVENT
BEGIN:VEVENT
DTSTART;TZID=America/Kentucky/Louisville:20230622T113000
DTEND;TZID=America/Kentucky/Louisville:20230622T183000
DTSTAMP:20260423T000950
CREATED:20230619T135342Z
LAST-MODIFIED:20230619T135342Z
UID:57218-1687433400-1687458600@thepressboxlts.com
SUMMARY:Ellis Park Summer Meet
DESCRIPTION:First Post: 11:45 a.m. CT
URL:https://thepressboxlts.com/event/ellis-park-summer-meet/
LOCATION:Ellis Park\, Henderson\, KY\, United States
END:VEVENT
BEGIN:VEVENT
DTSTART;TZID=America/Kentucky/Louisville:20230621T143000
DTEND;TZID=America/Kentucky/Louisville:20230621T203000
DTSTAMP:20260423T000950
CREATED:20230619T134810Z
LAST-MODIFIED:20230619T134810Z
UID:57212-1687357800-1687379400@thepressboxlts.com
SUMMARY:Horseshoe Indianapolis Summer Meet
DESCRIPTION:First Post: 2:30 p.m. ET \nPhoto by Coady Photography
URL:https://thepressboxlts.com/event/horseshoe-indianapolis-summer-meet-67/
LOCATION:Horseshoe Indianapolis\, Shelbyville\, IN\, United States
END:VEVENT
BEGIN:VEVENT
DTSTART;TZID=America/Kentucky/Louisville:20230620T143000
DTEND;TZID=America/Kentucky/Louisville:20230620T203000
DTSTAMP:20260423T000950
CREATED:20230619T134657Z
LAST-MODIFIED:20230619T134657Z
UID:57210-1687271400-1687293000@thepressboxlts.com
SUMMARY:Horseshoe Indianapolis Summer Meet
DESCRIPTION:First Post: 2:30 p.m. ET
URL:https://thepressboxlts.com/event/horseshoe-indianapolis-summer-meet-66/
LOCATION:Horseshoe Indianapolis\, Shelbyville\, IN\, United States
END:VEVENT
BEGIN:VEVENT
DTSTART;TZID=America/Kentucky/Louisville:20230618T123000
DTEND;TZID=America/Kentucky/Louisville:20230618T183000
DTSTAMP:20260423T000950
CREATED:20230611T165344Z
LAST-MODIFIED:20230611T165344Z
UID:57076-1687091400-1687113000@thepressboxlts.com
SUMMARY:Churchill Downs @ Ellis Park
DESCRIPTION:First Post: 12:50 p.m. CT
URL:https://thepressboxlts.com/event/churchill-downs-ellis-park-4/
LOCATION:Ellis Park\, Henderson\, KY\, United States
END:VEVENT
BEGIN:VEVENT
DTSTART;TZID=America/Kentucky/Louisville:20230617T173000
DTEND;TZID=America/Kentucky/Louisville:20230617T223000
DTSTAMP:20260423T000950
CREATED:20230611T165941Z
LAST-MODIFIED:20230611T165941Z
UID:57084-1687023000-1687041000@thepressboxlts.com
SUMMARY:Horseshoe Indianapolis Summer Meet
DESCRIPTION:First Post: 5:30 p.m. ET \nPhoto by Coady Photography
URL:https://thepressboxlts.com/event/horseshoe-indianapolis-summer-meet-65/
LOCATION:Horseshoe Indianapolis\, Shelbyville\, IN\, United States
END:VEVENT
BEGIN:VEVENT
DTSTART;TZID=America/Kentucky/Louisville:20230617T123000
DTEND;TZID=America/Kentucky/Louisville:20230617T183000
DTSTAMP:20260423T000950
CREATED:20230611T165238Z
LAST-MODIFIED:20230611T165238Z
UID:57074-1687005000-1687026600@thepressboxlts.com
SUMMARY:Churchill Downs @ Ellis Park
DESCRIPTION:First Post: 12:50 p.m. CT
URL:https://thepressboxlts.com/event/churchill-downs-ellis-park-3/
LOCATION:Ellis Park\, Henderson\, KY\, United States
END:VEVENT
BEGIN:VEVENT
DTSTART;TZID=America/Kentucky/Louisville:20230616T123000
DTEND;TZID=America/Kentucky/Louisville:20230616T183000
DTSTAMP:20260423T000950
CREATED:20230611T165139Z
LAST-MODIFIED:20230611T165139Z
UID:57072-1686918600-1686940200@thepressboxlts.com
SUMMARY:Churchill Downs @ Ellis Park
DESCRIPTION:First Post: 12:50 p.m. CT
URL:https://thepressboxlts.com/event/churchill-downs-ellis-park-2/
LOCATION:Ellis Park\, Henderson\, KY\, United States
END:VEVENT
BEGIN:VEVENT
DTSTART;TZID=America/Kentucky/Louisville:20230615T140000
DTEND;TZID=America/Kentucky/Louisville:20230615T200000
DTSTAMP:20260423T000950
CREATED:20230611T165820Z
LAST-MODIFIED:20230611T165820Z
UID:57082-1686837600-1686859200@thepressboxlts.com
SUMMARY:Horseshoe Indianapolis Summer Meet
DESCRIPTION:First Post: 2:10 p.m. ET \nPhoto by Coady Photography
URL:https://thepressboxlts.com/event/horseshoe-indianapolis-summer-meet-64/
LOCATION:Horseshoe Indianapolis\, Shelbyville\, IN\, United States
END:VEVENT
BEGIN:VEVENT
DTSTART;TZID=America/Kentucky/Louisville:20230615T123000
DTEND;TZID=America/Kentucky/Louisville:20230615T183000
DTSTAMP:20260423T000950
CREATED:20230611T165023Z
LAST-MODIFIED:20230611T165023Z
UID:57069-1686832200-1686853800@thepressboxlts.com
SUMMARY:Churchill Downs @ Ellis Park
DESCRIPTION:First Post: 12:50 p.m. CT
URL:https://thepressboxlts.com/event/churchill-downs-ellis-park/
LOCATION:Ellis Park\, Henderson\, KY\, United States
END:VEVENT
BEGIN:VEVENT
DTSTART;TZID=America/Kentucky/Louisville:20230614T143000
DTEND;TZID=America/Kentucky/Louisville:20230614T203000
DTSTAMP:20260423T000950
CREATED:20230611T165652Z
LAST-MODIFIED:20230611T165652Z
UID:57080-1686753000-1686774600@thepressboxlts.com
SUMMARY:Horseshoe Indianapolis Summer Meet
DESCRIPTION:First Post: 2:30 p.m. ET
URL:https://thepressboxlts.com/event/horseshoe-indianapolis-summer-meet-63/
LOCATION:Horseshoe Indianapolis\, Shelbyville\, IN\, United States
END:VEVENT
BEGIN:VEVENT
DTSTART;TZID=America/Kentucky/Louisville:20230613T143000
DTEND;TZID=America/Kentucky/Louisville:20230613T203000
DTSTAMP:20260423T000950
CREATED:20230611T165528Z
LAST-MODIFIED:20230611T165528Z
UID:57078-1686666600-1686688200@thepressboxlts.com
SUMMARY:Horseshoe Indianapolis Summer Meet
DESCRIPTION:First Post: 2:30 p.m. ET
URL:https://thepressboxlts.com/event/horseshoe-indianapolis-summer-meet-62/
LOCATION:Horseshoe Indianapolis\, Shelbyville\, IN\, United States
END:VEVENT
BEGIN:VEVENT
DTSTART;TZID=America/Kentucky/Louisville:20230610T123000
DTEND;TZID=America/Kentucky/Louisville:20230610T183000
DTSTAMP:20260423T000950
CREATED:20230605T141958Z
LAST-MODIFIED:20230605T141958Z
UID:56983-1686400200-1686421800@thepressboxlts.com
SUMMARY:Churchill Downs Summer Meet at Ellis Park
DESCRIPTION:First Post: 12:30 p.m. CT
URL:https://thepressboxlts.com/event/churchill-downs-summer-meet-at-ellis-park/
LOCATION:Ellis Park\, Henderson\, KY\, United States
END:VEVENT
BEGIN:VEVENT
DTSTART;TZID=America/Kentucky/Louisville:20230608T143000
DTEND;TZID=America/Kentucky/Louisville:20230608T203000
DTSTAMP:20260423T000950
CREATED:20230605T141629Z
LAST-MODIFIED:20230605T141629Z
UID:56981-1686234600-1686256200@thepressboxlts.com
SUMMARY:Horseshoe Indianapolis Summer Meet
DESCRIPTION:First Post: 2 p.m. ET
URL:https://thepressboxlts.com/event/horseshoe-indianapolis-summer-meet-61/
LOCATION:Horseshoe Indianapolis\, Shelbyville\, IN\, United States
END:VEVENT
BEGIN:VEVENT
DTSTART;TZID=America/Kentucky/Louisville:20230607T143000
DTEND;TZID=America/Kentucky/Louisville:20230607T203000
DTSTAMP:20260423T000950
CREATED:20230605T141448Z
LAST-MODIFIED:20230605T141448Z
UID:56979-1686148200-1686169800@thepressboxlts.com
SUMMARY:Horseshoe Indianapolis Summer Meet
DESCRIPTION:First Post: 2:30 p.m. ET
URL:https://thepressboxlts.com/event/horseshoe-indianapolis-summer-meet-60/
LOCATION:Horseshoe Indianapolis\, Shelbyville\, IN\, United States
END:VEVENT
BEGIN:VEVENT
DTSTART;TZID=America/Kentucky/Louisville:20230606T143000
DTEND;TZID=America/Kentucky/Louisville:20230606T203000
DTSTAMP:20260423T000950
CREATED:20230605T141313Z
LAST-MODIFIED:20230605T141313Z
UID:56977-1686061800-1686083400@thepressboxlts.com
SUMMARY:Horseshoe Indianapolis Summer Meet
DESCRIPTION:First Post: 2:30 p.m. ET
URL:https://thepressboxlts.com/event/horseshoe-indianapolis-summer-meet-59/
LOCATION:Horseshoe Indianapolis\, Shelbyville\, IN\, United States
END:VEVENT
BEGIN:VEVENT
DTSTART;TZID=America/Kentucky/Louisville:20230604T123000
DTEND;TZID=America/Kentucky/Louisville:20230604T183000
DTSTAMP:20260423T000950
CREATED:20230604T155112Z
LAST-MODIFIED:20230604T155112Z
UID:56945-1685881800-1685903400@thepressboxlts.com
SUMMARY:Churchill Downs Spring / Summer Meet
DESCRIPTION:First Post: 12:30 p.m. ET
URL:https://thepressboxlts.com/event/churchill-downs-spring-summer-meet-11/
LOCATION:Churchill Downs\, Louisville\, KY\, United States
END:VEVENT
BEGIN:VEVENT
DTSTART;TZID=America/Kentucky/Louisville:20230530T143000
DTEND;TZID=America/Kentucky/Louisville:20230530T193000
DTSTAMP:20260423T000950
CREATED:20230525T223051Z
LAST-MODIFIED:20230525T223051Z
UID:56692-1685457000-1685475000@thepressboxlts.com
SUMMARY:Horseshoe Indianapolis Spring / Summer Meet
DESCRIPTION:First Post: 2:30 p.m. ET \nDiamond Solitaire gets her first start of 2023
URL:https://thepressboxlts.com/event/horseshoe-indianapolis-spring-summer-meet-6/
LOCATION:Horseshoe Indianapolis\, Shelbyville\, IN\, United States
END:VEVENT
BEGIN:VEVENT
DTSTART;TZID=America/Kentucky/Louisville:20230529T123000
DTEND;TZID=America/Kentucky/Louisville:20230529T183000
DTSTAMP:20260423T000950
CREATED:20230525T222759Z
LAST-MODIFIED:20230525T222759Z
UID:56690-1685363400-1685385000@thepressboxlts.com
SUMMARY:Churchill Downs Spring / Summer Meet
DESCRIPTION:First Post: 12:30 p.m. ET
URL:https://thepressboxlts.com/event/churchill-downs-spring-summer-meet-10/
LOCATION:Churchill Downs\, Louisville\, KY\, United States
END:VEVENT
BEGIN:VEVENT
DTSTART;TZID=America/Kentucky/Louisville:20230528T123000
DTEND;TZID=America/Kentucky/Louisville:20230528T183000
DTSTAMP:20260423T000950
CREATED:20230525T222659Z
LAST-MODIFIED:20230525T222659Z
UID:56688-1685277000-1685298600@thepressboxlts.com
SUMMARY:Churchill Downs Spring / Summer Meet
DESCRIPTION:First Post: 12:30 p.m. ET
URL:https://thepressboxlts.com/event/churchill-downs-spring-summer-meet-9/
LOCATION:Churchill Downs\, Louisville\, KY\, United States
END:VEVENT
BEGIN:VEVENT
DTSTART;TZID=America/Kentucky/Louisville:20230527T123000
DTEND;TZID=America/Kentucky/Louisville:20230527T183000
DTSTAMP:20260423T000950
CREATED:20230525T222600Z
LAST-MODIFIED:20230525T222600Z
UID:56686-1685190600-1685212200@thepressboxlts.com
SUMMARY:Churchill Downs Spring / Summer Meet
DESCRIPTION:First Post: 12:30 p.m. ET
URL:https://thepressboxlts.com/event/churchill-downs-spring-summer-meet-8/
LOCATION:Churchill Downs\, Louisville\, KY\, United States
END:VEVENT
BEGIN:VEVENT
DTSTART;TZID=America/Kentucky/Louisville:20230526T123000
DTEND;TZID=America/Kentucky/Louisville:20230526T183000
DTSTAMP:20260423T000950
CREATED:20230525T222504Z
LAST-MODIFIED:20230525T222504Z
UID:56684-1685104200-1685125800@thepressboxlts.com
SUMMARY:Churchill Downs Spring / Summer Meet
DESCRIPTION:First Post: 12:30 p.m. ET
URL:https://thepressboxlts.com/event/churchill-downs-spring-summer-meet-7/
LOCATION:Churchill Downs\, Louisville\, KY\, United States
END:VEVENT
BEGIN:VEVENT
DTSTART;TZID=America/Kentucky/Louisville:20230525T170000
DTEND;TZID=America/Kentucky/Louisville:20230525T223000
DTSTAMP:20260423T000950
CREATED:20230525T222344Z
LAST-MODIFIED:20230525T222344Z
UID:56682-1685034000-1685053800@thepressboxlts.com
SUMMARY:Churchill Downs Spring / Summer Meet
DESCRIPTION:First Post: 5 p.m. ET
URL:https://thepressboxlts.com/event/churchill-downs-spring-summer-meet-6/
LOCATION:Churchill Downs\, Louisville\, KY\, United States
END:VEVENT
BEGIN:VEVENT
DTSTART;TZID=America/Kentucky/Louisville:20230521T123000
DTEND;TZID=America/Kentucky/Louisville:20230521T180000
DTSTAMP:20260423T000950
CREATED:20230521T000938Z
LAST-MODIFIED:20230521T000938Z
UID:56580-1684672200-1684692000@thepressboxlts.com
SUMMARY:Churchill Downs Sprint / Summer Meet
DESCRIPTION:First Post: 12:30 p.m. ET \nPhoto is Pretty Mischievous / By Holly M. Smith
URL:https://thepressboxlts.com/event/churchill-downs-sprint-summer-meet/
LOCATION:Churchill Downs\, Louisville\, KY\, United States
END:VEVENT
BEGIN:VEVENT
DTSTART;TZID=America/Kentucky/Louisville:20230518T050000
DTEND;TZID=America/Kentucky/Louisville:20230518T210000
DTSTAMP:20260423T000950
CREATED:20230516T234153Z
LAST-MODIFIED:20230516T234153Z
UID:56512-1684386000-1684443600@thepressboxlts.com
SUMMARY:Churchill Downs Twilight Thursday
DESCRIPTION:First Post: 5 p.m. ET
URL:https://thepressboxlts.com/event/churchill-downs-twilight-thursday/
LOCATION:Churchill Downs\, Louisville\, KY\, United States
END:VEVENT
BEGIN:VEVENT
DTSTART;TZID=America/Kentucky/Louisville:20230517T143000
DTEND;TZID=America/Kentucky/Louisville:20230517T203000
DTSTAMP:20260423T000950
CREATED:20230516T234032Z
LAST-MODIFIED:20230516T234032Z
UID:56510-1684333800-1684355400@thepressboxlts.com
SUMMARY:Horseshoe Indianapolis Stakes Day -- Wednesday\, May 17
DESCRIPTION:First Post: 2:30 p.m. ET \n4 Stakes Carded
URL:https://thepressboxlts.com/event/horseshoe-indianapolis-stakes-day-wednesday-may-17/
LOCATION:Horseshoe Indianapolis\, Shelbyville\, IN\, United States
END:VEVENT
BEGIN:VEVENT
DTSTART;TZID=America/Kentucky/Louisville:20230515T143000
DTEND;TZID=America/Kentucky/Louisville:20230515T193000
DTSTAMP:20260423T000950
CREATED:20230511T142333Z
LAST-MODIFIED:20230511T142333Z
UID:56432-1684161000-1684179000@thepressboxlts.com
SUMMARY:Horseshoe Indianapolis Spring / Summer Meet
DESCRIPTION:First Post: 2:30 p.m. ET
URL:https://thepressboxlts.com/event/horseshoe-indianapolis-spring-summer-meet-5/
LOCATION:Horseshoe Indianapolis\, Shelbyville\, IN\, United States
END:VEVENT
BEGIN:VEVENT
DTSTART;TZID=America/Kentucky/Louisville:20230514T123000
DTEND;TZID=America/Kentucky/Louisville:20230514T183000
DTSTAMP:20260423T000950
CREATED:20230511T142042Z
LAST-MODIFIED:20230511T142042Z
UID:56430-1684067400-1684089000@thepressboxlts.com
SUMMARY:Churchill Downs Spring / Summer Meet
DESCRIPTION:First Post: 12:45 p.m. ET / Mother’s Day Program \nPhoto: Mage / by Holly M. Smith
URL:https://thepressboxlts.com/event/churchill-downs-spring-summer-meet-5/
LOCATION:Churchill Downs\, Louisville\, KY\, United States
END:VEVENT
END:VCALENDAR