BEGIN:VCALENDAR
VERSION:2.0
PRODID:-//The Pressbox - ECPv6.15.19//NONSGML v1.0//EN
CALSCALE:GREGORIAN
METHOD:PUBLISH
X-WR-CALNAME:The Pressbox
X-ORIGINAL-URL:https://thepressboxlts.com
X-WR-CALDESC:Events for The Pressbox
REFRESH-INTERVAL;VALUE=DURATION:PT1H
X-Robots-Tag:noindex
X-PUBLISHED-TTL:PT1H
BEGIN:VTIMEZONE
TZID:America/Kentucky/Louisville
BEGIN:DAYLIGHT
TZOFFSETFROM:-0500
TZOFFSETTO:-0400
TZNAME:EDT
DTSTART:20220313T070000
END:DAYLIGHT
BEGIN:STANDARD
TZOFFSETFROM:-0400
TZOFFSETTO:-0500
TZNAME:EST
DTSTART:20221106T060000
END:STANDARD
BEGIN:DAYLIGHT
TZOFFSETFROM:-0500
TZOFFSETTO:-0400
TZNAME:EDT
DTSTART:20230312T070000
END:DAYLIGHT
BEGIN:STANDARD
TZOFFSETFROM:-0400
TZOFFSETTO:-0500
TZNAME:EST
DTSTART:20231105T060000
END:STANDARD
BEGIN:DAYLIGHT
TZOFFSETFROM:-0500
TZOFFSETTO:-0400
TZNAME:EDT
DTSTART:20240310T070000
END:DAYLIGHT
BEGIN:STANDARD
TZOFFSETFROM:-0400
TZOFFSETTO:-0500
TZNAME:EST
DTSTART:20241103T060000
END:STANDARD
END:VTIMEZONE
BEGIN:VEVENT
DTSTART;TZID=America/Kentucky/Louisville:20230818T113000
DTEND;TZID=America/Kentucky/Louisville:20230818T183000
DTSTAMP:20260422T201952
CREATED:20230815T160947Z
LAST-MODIFIED:20230815T160947Z
UID:58253-1692358200-1692383400@thepressboxlts.com
SUMMARY:Ellis Park Summer Meet
DESCRIPTION:First Post: 11:45 a.m. CT
URL:https://thepressboxlts.com/event/ellis-park-summer-meet-23/
LOCATION:Ellis Park\, Henderson\, KY\, United States
END:VEVENT
BEGIN:VEVENT
DTSTART;TZID=America/Kentucky/Louisville:20230817T140000
DTEND;TZID=America/Kentucky/Louisville:20230817T200000
DTSTAMP:20260422T201952
CREATED:20230815T161904Z
LAST-MODIFIED:20230815T161904Z
UID:58263-1692280800-1692302400@thepressboxlts.com
SUMMARY:Horseshoe Indianapolis Summer Meet
DESCRIPTION:First Post: 2:10 p.m. ET \nPhoto by Coady Photography / Horseshoe Indianapolis
URL:https://thepressboxlts.com/event/horseshoe-indianapolis-summer-meet-88/
LOCATION:Horseshoe Indianapolis\, Shelbyville\, IN\, United States
END:VEVENT
BEGIN:VEVENT
DTSTART;TZID=America/Kentucky/Louisville:20230816T143000
DTEND;TZID=America/Kentucky/Louisville:20230816T203000
DTSTAMP:20260422T201952
CREATED:20230815T161724Z
LAST-MODIFIED:20230815T161724Z
UID:58261-1692196200-1692217800@thepressboxlts.com
SUMMARY:Horseshoe Indianapolis Summer Meet
DESCRIPTION:First Post: 2:30 p.m. ET \nPhoto by Coady Photography / King Ice
URL:https://thepressboxlts.com/event/horseshoe-indianapolis-summer-meet-87/
LOCATION:Horseshoe Indianapolis\, Shelbyville\, IN\, United States
END:VEVENT
BEGIN:VEVENT
DTSTART;TZID=America/Kentucky/Louisville:20230815T143000
DTEND;TZID=America/Kentucky/Louisville:20230815T203000
DTSTAMP:20260422T201952
CREATED:20230815T161602Z
LAST-MODIFIED:20230815T161602Z
UID:58259-1692109800-1692131400@thepressboxlts.com
SUMMARY:Horseshoe Indianapolis Summer Meet
DESCRIPTION:First Post: 2:30 p.m. ET \nPhoto by Coady Photography / Corningstone
URL:https://thepressboxlts.com/event/horseshoe-indianapolis-summer-meet-86/
LOCATION:Horseshoe Indianapolis\, Shelbyville\, IN\, United States
END:VEVENT
BEGIN:VEVENT
DTSTART;TZID=America/Kentucky/Louisville:20230813T113000
DTEND;TZID=America/Kentucky/Louisville:20230813T190000
DTSTAMP:20260422T201952
CREATED:20230807T190549Z
LAST-MODIFIED:20230807T190549Z
UID:58120-1691926200-1691953200@thepressboxlts.com
SUMMARY:Ellis Park Summer Meet: Super Sunday Card -- Groupie Doll Stakes
DESCRIPTION:First Post: 11:45 a.m. CT \n“Super Sunday Card” — featuring Groupie Dolls Stakes and many others
URL:https://thepressboxlts.com/event/ellis-park-summer-meet-super-sunday-card-groupie-doll-stakes/
LOCATION:Ellis Park\, Henderson\, KY\, United States
END:VEVENT
BEGIN:VEVENT
DTSTART;TZID=America/Kentucky/Louisville:20230812T113000
DTEND;TZID=America/Kentucky/Louisville:20230812T190000
DTSTAMP:20260422T201952
CREATED:20230807T190350Z
LAST-MODIFIED:20230807T190350Z
UID:58118-1691839800-1691866800@thepressboxlts.com
SUMMARY:Ellis Park Summer Meet
DESCRIPTION:First Post: 11:45 a.m. CT
URL:https://thepressboxlts.com/event/ellis-park-summer-meet-22/
LOCATION:Ellis Park\, Henderson\, KY\, United States
END:VEVENT
BEGIN:VEVENT
DTSTART;TZID=America/Kentucky/Louisville:20230811T140000
DTEND;TZID=America/Kentucky/Louisville:20230811T193000
DTSTAMP:20260422T201952
CREATED:20230807T190012Z
LAST-MODIFIED:20230807T190012Z
UID:58112-1691762400-1691782200@thepressboxlts.com
SUMMARY:Horseshoe Indianapolis Summer Meet
DESCRIPTION:First Post: 2:10 p.m. ET \nPhoto: Coady Photography
URL:https://thepressboxlts.com/event/horseshoe-indianapolis-summer-meet-85/
LOCATION:Horseshoe Indianapolis\, Shelbyville\, IN\, United States
END:VEVENT
BEGIN:VEVENT
DTSTART;TZID=America/Kentucky/Louisville:20230811T113000
DTEND;TZID=America/Kentucky/Louisville:20230811T183000
DTSTAMP:20260422T201952
CREATED:20230807T190248Z
LAST-MODIFIED:20230807T190248Z
UID:58116-1691753400-1691778600@thepressboxlts.com
SUMMARY:Ellis Park Summer Meet
DESCRIPTION:First Post: 11:45 a.m. CT
URL:https://thepressboxlts.com/event/ellis-park-summer-meet-21/
LOCATION:Ellis Park\, Henderson\, KY\, United States
END:VEVENT
BEGIN:VEVENT
DTSTART;TZID=America/Kentucky/Louisville:20230810T140000
DTEND;TZID=America/Kentucky/Louisville:20230810T193000
DTSTAMP:20260422T201952
CREATED:20230807T185902Z
LAST-MODIFIED:20230807T185902Z
UID:58110-1691676000-1691695800@thepressboxlts.com
SUMMARY:Horseshoe Indianapolis Summer Meet
DESCRIPTION:First Post: 2:10 p.m. ET \nPhoto: Coady Photography
URL:https://thepressboxlts.com/event/horseshoe-indianapolis-summer-meet-84/
LOCATION:Horseshoe Indianapolis\, Shelbyville\, IN\, United States
END:VEVENT
BEGIN:VEVENT
DTSTART;TZID=America/Kentucky/Louisville:20230809T143000
DTEND;TZID=America/Kentucky/Louisville:20230809T200000
DTSTAMP:20260422T201952
CREATED:20230807T185753Z
LAST-MODIFIED:20230807T185753Z
UID:58108-1691591400-1691611200@thepressboxlts.com
SUMMARY:Horseshoe Indianapolis Summer Meet
DESCRIPTION:First Post: 2:30 p.m. ET \nPhoto: Coady Photography
URL:https://thepressboxlts.com/event/horseshoe-indianapolis-summer-meet-83/
LOCATION:Horseshoe Indianapolis\, Shelbyville\, IN\, United States
END:VEVENT
BEGIN:VEVENT
DTSTART;TZID=America/Kentucky/Louisville:20230808T143000
DTEND;TZID=America/Kentucky/Louisville:20230808T200000
DTSTAMP:20260422T201952
CREATED:20230807T185642Z
LAST-MODIFIED:20230807T185642Z
UID:58106-1691505000-1691524800@thepressboxlts.com
SUMMARY:Horseshoe Indianapolis Summer Meet
DESCRIPTION:First Post: 2:30 p.m. ET \nPhoto: Coady Photography
URL:https://thepressboxlts.com/event/horseshoe-indianapolis-summer-meet-82/
LOCATION:Horseshoe Indianapolis\, Shelbyville\, IN\, United States
END:VEVENT
BEGIN:VEVENT
DTSTART;TZID=America/Kentucky/Louisville:20230807T080000
DTEND;TZID=America/Kentucky/Louisville:20230807T170000
DTSTAMP:20260422T201952
CREATED:20230807T190142Z
LAST-MODIFIED:20230807T190142Z
UID:58114-1691395200-1691427600@thepressboxlts.com
SUMMARY:Horseshoe Indianapolis Summer Meet: Quarter Horse Day
DESCRIPTION:First Post: 10:45 a.m. ET \nPhoto: Coady Photography
URL:https://thepressboxlts.com/event/horseshoe-indianapolis-summer-meet-quarter-horse-day/
LOCATION:Horseshoe Indianapolis\, Shelbyville\, IN\, United States
END:VEVENT
BEGIN:VEVENT
DTSTART;TZID=America/Kentucky/Louisville:20230806T113000
DTEND;TZID=America/Kentucky/Louisville:20230806T183000
DTSTAMP:20260422T201952
CREATED:20230731T163441Z
LAST-MODIFIED:20230731T163441Z
UID:58008-1691321400-1691346600@thepressboxlts.com
SUMMARY:Ellis Park Summer Meet
DESCRIPTION:First Post: 11:45 a.m. CT
URL:https://thepressboxlts.com/event/ellis-park-summer-meet-20/
LOCATION:Ellis Park\, Henderson\, KY\, United States
END:VEVENT
BEGIN:VEVENT
DTSTART;TZID=America/Kentucky/Louisville:20230805T113000
DTEND;TZID=America/Kentucky/Louisville:20230805T183000
DTSTAMP:20260422T201952
CREATED:20230731T161303Z
LAST-MODIFIED:20230731T161303Z
UID:58006-1691235000-1691260200@thepressboxlts.com
SUMMARY:Ellis Park Summer Meet
DESCRIPTION:First Post: 11:45 a.m. CT \nKY Downs Preview Day — #1
URL:https://thepressboxlts.com/event/ellis-park-summer-meet-19/
LOCATION:Ellis Park\, Henderson\, KY\, United States
END:VEVENT
BEGIN:VEVENT
DTSTART;TZID=America/Kentucky/Louisville:20230804T113000
DTEND;TZID=America/Kentucky/Louisville:20230804T183000
DTSTAMP:20260422T201952
CREATED:20230731T161207Z
LAST-MODIFIED:20230731T161207Z
UID:58004-1691148600-1691173800@thepressboxlts.com
SUMMARY:Ellis Park Summer Meet
DESCRIPTION:First Post: 11:45 a.m. CT
URL:https://thepressboxlts.com/event/ellis-park-summer-meet-18/
LOCATION:Ellis Park\, Henderson\, KY\, United States
END:VEVENT
BEGIN:VEVENT
DTSTART;TZID=America/Kentucky/Louisville:20230801T113000
DTEND;TZID=America/Kentucky/Louisville:20230801T180000
DTSTAMP:20260422T201952
CREATED:20230731T161115Z
LAST-MODIFIED:20230731T161115Z
UID:58002-1690889400-1690912800@thepressboxlts.com
SUMMARY:Ellis Park Summer Meet
DESCRIPTION:First Post: 11:45 a.m. CT
URL:https://thepressboxlts.com/event/ellis-park-summer-meet-17/
LOCATION:Ellis Park\, Henderson\, KY\, United States
END:VEVENT
BEGIN:VEVENT
DTSTART;TZID=America/Kentucky/Louisville:20230731T113000
DTEND;TZID=America/Kentucky/Louisville:20230731T180000
DTSTAMP:20260422T201952
CREATED:20230731T161023Z
LAST-MODIFIED:20230731T161023Z
UID:58000-1690803000-1690826400@thepressboxlts.com
SUMMARY:Ellis Park Summer Meet
DESCRIPTION:First Post: 11:45 p.m. CT
URL:https://thepressboxlts.com/event/ellis-park-summer-meet-16/
LOCATION:Ellis Park\, Henderson\, KY\, United States
END:VEVENT
BEGIN:VEVENT
DTSTART;TZID=America/Kentucky/Louisville:20230730T113000
DTEND;TZID=America/Kentucky/Louisville:20230730T183000
DTSTAMP:20260422T201952
CREATED:20230724T160135Z
LAST-MODIFIED:20230724T160135Z
UID:57877-1690716600-1690741800@thepressboxlts.com
SUMMARY:Ellis Park Summer Meet
DESCRIPTION:First Post: 11:45 a.m. CT
URL:https://thepressboxlts.com/event/ellis-park-summer-meet-15/
LOCATION:Ellis Park\, Henderson\, KY\, United States
END:VEVENT
BEGIN:VEVENT
DTSTART;TZID=America/Kentucky/Louisville:20230729T130000
DTEND;TZID=America/Kentucky/Louisville:20230729T183000
DTSTAMP:20260422T201952
CREATED:20230724T161236Z
LAST-MODIFIED:20230724T161236Z
UID:57886-1690635600-1690655400@thepressboxlts.com
SUMMARY:Saratoga Summer Meet
DESCRIPTION:Fist Post: 1:10 p.m. ET \nG2 Jim Dandy Stakes Day \nPhoto: Forte at Churchill Downs / Photo by Holly M. Smith
URL:https://thepressboxlts.com/event/saratoga-summer-meet-4/
LOCATION:Saratoga Race Course\, 267 Union Ave\, Saratoga Springs\, NY\, 12866\, United States
END:VEVENT
BEGIN:VEVENT
DTSTART;TZID=America/Kentucky/Louisville:20230729T113000
DTEND;TZID=America/Kentucky/Louisville:20230729T183000
DTSTAMP:20260422T201952
CREATED:20230724T160018Z
LAST-MODIFIED:20230724T160018Z
UID:57875-1690630200-1690655400@thepressboxlts.com
SUMMARY:Ellis Park Summer Meet
DESCRIPTION:First Post: 11:45 a.m. CT
URL:https://thepressboxlts.com/event/ellis-park-summer-meet-14/
END:VEVENT
BEGIN:VEVENT
DTSTART;TZID=America/Kentucky/Louisville:20230728T130000
DTEND;TZID=America/Kentucky/Louisville:20230728T183000
DTSTAMP:20260422T201952
CREATED:20230724T161039Z
LAST-MODIFIED:20230724T161039Z
UID:57884-1690549200-1690569000@thepressboxlts.com
SUMMARY:Saratoga Summer Meet
DESCRIPTION:First Post: 1:10 p.m. ET \nPhoto: Damons Mound wins the 2022 Saratoga Special / Photo Courtesy of NYRA
URL:https://thepressboxlts.com/event/saratoga-summer-meet-3/
LOCATION:Saratoga Race Course\, 267 Union Ave\, Saratoga Springs\, NY\, 12866\, United States
END:VEVENT
BEGIN:VEVENT
DTSTART;TZID=America/Kentucky/Louisville:20230728T113000
DTEND;TZID=America/Kentucky/Louisville:20230728T183000
DTSTAMP:20260422T201952
CREATED:20230724T155857Z
LAST-MODIFIED:20230724T155857Z
UID:57873-1690543800-1690569000@thepressboxlts.com
SUMMARY:Ellis Park Summer Meet
DESCRIPTION:First Post: 11:45 a.m. CT
URL:https://thepressboxlts.com/event/ellis-park-summer-meet-13/
END:VEVENT
BEGIN:VEVENT
DTSTART;TZID=America/Kentucky/Louisville:20230727T130000
DTEND;TZID=America/Kentucky/Louisville:20230727T183000
DTSTAMP:20260422T201952
CREATED:20230724T160821Z
LAST-MODIFIED:20230724T160821Z
UID:57881-1690462800-1690482600@thepressboxlts.com
SUMMARY:Saratoga Summer Meet
DESCRIPTION:First Post: 1:10 p.m. ET \nPhoto: Epicenter wins the 2022 G2 Jim Dandy Stakes / Photo Courtesy of NYRA
URL:https://thepressboxlts.com/event/saratoga-summer-meet-2/
LOCATION:Saratoga Race Course\, 267 Union Ave\, Saratoga Springs\, NY\, 12866\, United States
END:VEVENT
BEGIN:VEVENT
DTSTART;TZID=America/Kentucky/Louisville:20230726T130000
DTEND;TZID=America/Kentucky/Louisville:20230726T183000
DTSTAMP:20260422T201952
CREATED:20230724T160603Z
LAST-MODIFIED:20230724T160603Z
UID:57879-1690376400-1690396200@thepressboxlts.com
SUMMARY:Saratoga Summer Meet
DESCRIPTION:First Post: 1:10 p.m. ET
URL:https://thepressboxlts.com/event/saratoga-summer-meet/
LOCATION:Saratoga Race Course\, 267 Union Ave\, Saratoga Springs\, NY\, 12866\, United States
END:VEVENT
BEGIN:VEVENT
DTSTART;TZID=America/Kentucky/Louisville:20230723T113000
DTEND;TZID=America/Kentucky/Louisville:20230723T190000
DTSTAMP:20260422T201952
CREATED:20230717T210424Z
LAST-MODIFIED:20230717T210424Z
UID:57762-1690111800-1690138800@thepressboxlts.com
SUMMARY:Ellis Park Summer Meet
DESCRIPTION:First Post: 11:45 a.m. CT
URL:https://thepressboxlts.com/event/ellis-park-summer-meet-12/
LOCATION:Ellis Park\, Henderson\, KY\, United States
END:VEVENT
BEGIN:VEVENT
DTSTART;TZID=America/Kentucky/Louisville:20230722T113000
DTEND;TZID=America/Kentucky/Louisville:20230722T190000
DTSTAMP:20260422T201952
CREATED:20230717T210326Z
LAST-MODIFIED:20230717T210326Z
UID:57760-1690025400-1690052400@thepressboxlts.com
SUMMARY:Ellis Park Summer Meet
DESCRIPTION:First Post: 11:45 a.m. CT
URL:https://thepressboxlts.com/event/ellis-park-summer-meet-11/
LOCATION:Ellis Park\, Henderson\, KY\, United States
END:VEVENT
BEGIN:VEVENT
DTSTART;TZID=America/Kentucky/Louisville:20230721T140000
DTEND;TZID=America/Kentucky/Louisville:20230721T203000
DTSTAMP:20260422T201952
CREATED:20230717T211049Z
LAST-MODIFIED:20230717T211049Z
UID:57770-1689948000-1689971400@thepressboxlts.com
SUMMARY:Horseshoe Indianapolis Summer Meet
DESCRIPTION:First Post: 2:10 p.m. ET \nPhoto by Coady Photography
URL:https://thepressboxlts.com/event/horseshoe-indianapolis-summer-meet-81/
LOCATION:Horseshoe Indianapolis\, Shelbyville\, IN\, United States
END:VEVENT
BEGIN:VEVENT
DTSTART;TZID=America/Kentucky/Louisville:20230721T113000
DTEND;TZID=America/Kentucky/Louisville:20230721T183000
DTSTAMP:20260422T201952
CREATED:20230717T210206Z
LAST-MODIFIED:20230717T210206Z
UID:57758-1689939000-1689964200@thepressboxlts.com
SUMMARY:Ellis Park Summer Meet
DESCRIPTION:First Post: 11:45 a.m. CT
URL:https://thepressboxlts.com/event/ellis-park-summer-meet-10/
LOCATION:Ellis Park\, Henderson\, KY\, United States
END:VEVENT
BEGIN:VEVENT
DTSTART;TZID=America/Kentucky/Louisville:20230720T140000
DTEND;TZID=America/Kentucky/Louisville:20230720T200000
DTSTAMP:20260422T201952
CREATED:20230717T210920Z
LAST-MODIFIED:20230717T210920Z
UID:57768-1689861600-1689883200@thepressboxlts.com
SUMMARY:Horseshoe Indianapolis Summer Meet
DESCRIPTION:First Post: 2:10 p.m. ET \nPhoto by Coady Photography
URL:https://thepressboxlts.com/event/horseshoe-indianapolis-summer-meet-80/
LOCATION:Horseshoe Indianapolis\, Shelbyville\, IN\, United States
END:VEVENT
BEGIN:VEVENT
DTSTART;TZID=America/Kentucky/Louisville:20230719T143000
DTEND;TZID=America/Kentucky/Louisville:20230719T203000
DTSTAMP:20260422T201952
CREATED:20230717T210804Z
LAST-MODIFIED:20230717T210804Z
UID:57766-1689777000-1689798600@thepressboxlts.com
SUMMARY:Horseshoe Indianapolis Summer Meet
DESCRIPTION:First Post: 2:30 p.m. ET
URL:https://thepressboxlts.com/event/horseshoe-indianapolis-summer-meet-79/
LOCATION:Horseshoe Indianapolis\, Shelbyville\, IN\, United States
END:VEVENT
END:VCALENDAR