BEGIN:VCALENDAR
VERSION:2.0
PRODID:-//The Pressbox - ECPv6.15.19//NONSGML v1.0//EN
CALSCALE:GREGORIAN
METHOD:PUBLISH
X-WR-CALNAME:The Pressbox
X-ORIGINAL-URL:https://thepressboxlts.com
X-WR-CALDESC:Events for The Pressbox
REFRESH-INTERVAL;VALUE=DURATION:PT1H
X-Robots-Tag:noindex
X-PUBLISHED-TTL:PT1H
BEGIN:VTIMEZONE
TZID:America/Kentucky/Louisville
BEGIN:DAYLIGHT
TZOFFSETFROM:-0500
TZOFFSETTO:-0400
TZNAME:EDT
DTSTART:20210314T070000
END:DAYLIGHT
BEGIN:STANDARD
TZOFFSETFROM:-0400
TZOFFSETTO:-0500
TZNAME:EST
DTSTART:20211107T060000
END:STANDARD
BEGIN:DAYLIGHT
TZOFFSETFROM:-0500
TZOFFSETTO:-0400
TZNAME:EDT
DTSTART:20220313T070000
END:DAYLIGHT
BEGIN:STANDARD
TZOFFSETFROM:-0400
TZOFFSETTO:-0500
TZNAME:EST
DTSTART:20221106T060000
END:STANDARD
BEGIN:DAYLIGHT
TZOFFSETFROM:-0500
TZOFFSETTO:-0400
TZNAME:EDT
DTSTART:20230312T070000
END:DAYLIGHT
BEGIN:STANDARD
TZOFFSETFROM:-0400
TZOFFSETTO:-0500
TZNAME:EST
DTSTART:20231105T060000
END:STANDARD
BEGIN:DAYLIGHT
TZOFFSETFROM:-0500
TZOFFSETTO:-0400
TZNAME:EDT
DTSTART:20240310T070000
END:DAYLIGHT
BEGIN:STANDARD
TZOFFSETFROM:-0400
TZOFFSETTO:-0500
TZNAME:EST
DTSTART:20241103T060000
END:STANDARD
END:VTIMEZONE
BEGIN:VEVENT
DTSTART;TZID=America/Kentucky/Louisville:20230125T173000
DTEND;TZID=America/Kentucky/Louisville:20230125T223000
DTSTAMP:20260423T072041
CREATED:20230124T201145Z
LAST-MODIFIED:20230124T201145Z
UID:53571-1674667800-1674685800@thepressboxlts.com
SUMMARY:Turfway Park Winter / Spring Meet
DESCRIPTION:First Post: 5:50 p.m. ET
URL:https://thepressboxlts.com/event/turfway-park-winter-spring-meet-13/
LOCATION:Turfway Park\, Florence\, KY\, United States
END:VEVENT
BEGIN:VEVENT
DTSTART;TZID=America/Kentucky/Louisville:20230122T130000
DTEND;TZID=America/Kentucky/Louisville:20230122T183000
DTSTAMP:20260423T072041
CREATED:20230115T163932Z
LAST-MODIFIED:20230115T163932Z
UID:53433-1674392400-1674412200@thepressboxlts.com
SUMMARY:Fair Grounds Winter / Spring Meet
DESCRIPTION:Firsts Post: 1:15 p.m. CT
URL:https://thepressboxlts.com/event/fair-grounds-winter-spring-meet-9/
LOCATION:Fair Grounds\, New Orleans\, LA\, United States
END:VEVENT
BEGIN:VEVENT
DTSTART;TZID=America/Kentucky/Louisville:20230121T173000
DTEND;TZID=America/Kentucky/Louisville:20230121T223000
DTSTAMP:20260423T072041
CREATED:20230115T163350Z
LAST-MODIFIED:20230115T163350Z
UID:53425-1674322200-1674340200@thepressboxlts.com
SUMMARY:Turfway Park Winter / Spring Meet
DESCRIPTION:First Post: 5:50 p.m. ET
URL:https://thepressboxlts.com/event/turfway-park-winter-spring-meet-12/
LOCATION:Turfway Park\, Florence\, KY\, United States
END:VEVENT
BEGIN:VEVENT
DTSTART;TZID=America/Kentucky/Louisville:20230121T120000
DTEND;TZID=America/Kentucky/Louisville:20230121T190000
DTSTAMP:20260423T072041
CREATED:20230115T163815Z
LAST-MODIFIED:20230115T163815Z
UID:53431-1674302400-1674327600@thepressboxlts.com
SUMMARY:Fair Grounds Winter / Spring Meet
DESCRIPTION:First Post: 12 noon CT \nRoad To Kentucky Derby Program
URL:https://thepressboxlts.com/event/fair-grounds-winter-spring-meet-8/
LOCATION:Fair Grounds\, New Orleans\, LA\, United States
END:VEVENT
BEGIN:VEVENT
DTSTART;TZID=America/Kentucky/Louisville:20230120T173000
DTEND;TZID=America/Kentucky/Louisville:20230120T223000
DTSTAMP:20260423T072041
CREATED:20230115T163255Z
LAST-MODIFIED:20230115T163255Z
UID:53423-1674235800-1674253800@thepressboxlts.com
SUMMARY:Turfway Park Winter / Spring Meet
DESCRIPTION:First Post: 5:50 p.m. ET
URL:https://thepressboxlts.com/event/turfway-park-winter-spring-meet-11/
LOCATION:Turfway Park\, Florence\, KY\, United States
END:VEVENT
BEGIN:VEVENT
DTSTART;TZID=America/Kentucky/Louisville:20230120T130000
DTEND;TZID=America/Kentucky/Louisville:20230120T183000
DTSTAMP:20260423T072041
CREATED:20230115T163647Z
LAST-MODIFIED:20230115T163647Z
UID:53429-1674219600-1674239400@thepressboxlts.com
SUMMARY:Fair Grounds Winter / Spring Meet
DESCRIPTION:First Post: 1:15 p.m. CT
URL:https://thepressboxlts.com/event/fair-grounds-winter-spring-meet-7/
LOCATION:Fair Grounds\, New Orleans\, LA\, United States
END:VEVENT
BEGIN:VEVENT
DTSTART;TZID=America/Kentucky/Louisville:20230119T173000
DTEND;TZID=America/Kentucky/Louisville:20230119T223000
DTSTAMP:20260423T072041
CREATED:20230115T163155Z
LAST-MODIFIED:20230115T163155Z
UID:53421-1674149400-1674167400@thepressboxlts.com
SUMMARY:Turfway Park Winter / Spring Meet
DESCRIPTION:First Post: 5:50 p.m. ET
URL:https://thepressboxlts.com/event/turfway-park-winter-spring-meet-10/
LOCATION:Turfway Park\, Florence\, KY\, United States
END:VEVENT
BEGIN:VEVENT
DTSTART;TZID=America/Kentucky/Louisville:20230119T130000
DTEND;TZID=America/Kentucky/Louisville:20230119T180000
DTSTAMP:20260423T072041
CREATED:20230115T163540Z
LAST-MODIFIED:20230115T163540Z
UID:53427-1674133200-1674151200@thepressboxlts.com
SUMMARY:Fair Grounds Winter / Spring Meet
DESCRIPTION:First Post: 1:15 p.m. CT
URL:https://thepressboxlts.com/event/fair-grounds-winter-spring-meet-6/
LOCATION:Fair Grounds\, New Orleans\, LA\, United States
END:VEVENT
BEGIN:VEVENT
DTSTART;TZID=America/Kentucky/Louisville:20230118T173000
DTEND;TZID=America/Kentucky/Louisville:20230118T223000
DTSTAMP:20260423T072041
CREATED:20230115T163051Z
LAST-MODIFIED:20230115T163051Z
UID:53419-1674063000-1674081000@thepressboxlts.com
SUMMARY:Turfway Park Winter / Spring Meet
DESCRIPTION:First Post: 5:50 p.m. ET
URL:https://thepressboxlts.com/event/turfway-park-winter-spring-meet-9/
LOCATION:Turfway Park\, Florence\, KY\, United States
END:VEVENT
BEGIN:VEVENT
DTSTART;TZID=America/Kentucky/Louisville:20230116T130000
DTEND;TZID=America/Kentucky/Louisville:20230116T183000
DTSTAMP:20260423T072041
CREATED:20230110T142326Z
LAST-MODIFIED:20230110T142326Z
UID:53326-1673874000-1673893800@thepressboxlts.com
SUMMARY:Fair Grounds Winter / Spring Meet
DESCRIPTION:First Post: 1:15 p.m. CT
URL:https://thepressboxlts.com/event/fair-grounds-winter-spring-meet-5/
LOCATION:Fair Grounds\, New Orleans\, LA\, United States
END:VEVENT
BEGIN:VEVENT
DTSTART;TZID=America/Kentucky/Louisville:20230115T130000
DTEND;TZID=America/Kentucky/Louisville:20230115T183000
DTSTAMP:20260423T072041
CREATED:20230110T142229Z
LAST-MODIFIED:20230110T142229Z
UID:53324-1673787600-1673807400@thepressboxlts.com
SUMMARY:Fair Grounds Winter / Spring Meet
DESCRIPTION:First Post: 1:15 p.m. CT
URL:https://thepressboxlts.com/event/fair-grounds-winter-spring-meet-4/
LOCATION:Fair Grounds\, New Orleans\, LA\, United States
END:VEVENT
BEGIN:VEVENT
DTSTART;TZID=America/Kentucky/Louisville:20230114T130000
DTEND;TZID=America/Kentucky/Louisville:20230114T183000
DTSTAMP:20260423T072041
CREATED:20230110T142125Z
LAST-MODIFIED:20230110T142125Z
UID:53322-1673701200-1673721000@thepressboxlts.com
SUMMARY:Fair Grounds Winter / Spring Meet
DESCRIPTION:First Post: 1:15 p.m. CT
URL:https://thepressboxlts.com/event/fair-grounds-winter-spring-meet-3/
LOCATION:Fair Grounds\, New Orleans\, LA\, United States
END:VEVENT
BEGIN:VEVENT
DTSTART;TZID=America/Kentucky/Louisville:20230114T123000
DTEND;TZID=America/Kentucky/Louisville:20230114T183000
DTSTAMP:20260423T072041
CREATED:20230110T141736Z
LAST-MODIFIED:20230110T141736Z
UID:53316-1673699400-1673721000@thepressboxlts.com
SUMMARY:Turfway Park Winter / Spring Meet
DESCRIPTION:First Post: 12:45 p.m. ET
URL:https://thepressboxlts.com/event/turfway-park-winter-spring-meet-8/
LOCATION:Turfway Park\, Florence\, KY\, United States
END:VEVENT
BEGIN:VEVENT
DTSTART;TZID=America/Kentucky/Louisville:20230113T173000
DTEND;TZID=America/Kentucky/Louisville:20230113T223000
DTSTAMP:20260423T072041
CREATED:20230110T141642Z
LAST-MODIFIED:20230110T141642Z
UID:53314-1673631000-1673649000@thepressboxlts.com
SUMMARY:Turfway Park Winter / Spring Meet
DESCRIPTION:First Post: 5:50 p.m. ET
URL:https://thepressboxlts.com/event/turfway-park-winter-spring-meet-7/
LOCATION:Turfway Park\, Florence\, KY\, United States
END:VEVENT
BEGIN:VEVENT
DTSTART;TZID=America/Kentucky/Louisville:20230113T130000
DTEND;TZID=America/Kentucky/Louisville:20230113T183000
DTSTAMP:20260423T072041
CREATED:20230110T142025Z
LAST-MODIFIED:20230110T142025Z
UID:53320-1673614800-1673634600@thepressboxlts.com
SUMMARY:Fair Grounds Winter / Spring Meet
DESCRIPTION:First Post: 1:15 p.m. CT
URL:https://thepressboxlts.com/event/fair-grounds-winter-spring-meet-2/
LOCATION:Fair Grounds\, New Orleans\, LA\, United States
END:VEVENT
BEGIN:VEVENT
DTSTART;TZID=America/Kentucky/Louisville:20230112T173000
DTEND;TZID=America/Kentucky/Louisville:20230112T223000
DTSTAMP:20260423T072041
CREATED:20230110T141540Z
LAST-MODIFIED:20230110T141540Z
UID:53312-1673544600-1673562600@thepressboxlts.com
SUMMARY:Turfway Park Winter / Spring Meet
DESCRIPTION:First Post: 5:50 p.m. ET
URL:https://thepressboxlts.com/event/turfway-park-winter-spring-meet-6/
LOCATION:Turfway Park\, Florence\, KY\, United States
END:VEVENT
BEGIN:VEVENT
DTSTART;TZID=America/Kentucky/Louisville:20230112T130000
DTEND;TZID=America/Kentucky/Louisville:20230112T183000
DTSTAMP:20260423T072041
CREATED:20230110T141913Z
LAST-MODIFIED:20230110T141913Z
UID:53318-1673528400-1673548200@thepressboxlts.com
SUMMARY:Fair Grounds Winter / Spring Meet
DESCRIPTION:First Post: 1:15 p.m. CT
URL:https://thepressboxlts.com/event/fair-grounds-winter-spring-meet/
LOCATION:Fair Grounds\, New Orleans\, LA\, United States
END:VEVENT
BEGIN:VEVENT
DTSTART;TZID=America/Kentucky/Louisville:20230111T173000
DTEND;TZID=America/Kentucky/Louisville:20230111T223000
DTSTAMP:20260423T072041
CREATED:20230110T141422Z
LAST-MODIFIED:20230110T141422Z
UID:53310-1673458200-1673476200@thepressboxlts.com
SUMMARY:Turfway Park Winter / Spring Meet
DESCRIPTION:First Post: 5:50 p.m. ET
URL:https://thepressboxlts.com/event/turfway-park-winter-spring-meet-5/
LOCATION:Turfway Park\, Florence\, KY\, United States
END:VEVENT
BEGIN:VEVENT
DTSTART;TZID=America/Kentucky/Louisville:20230108T130000
DTEND;TZID=America/Kentucky/Louisville:20230108T190000
DTSTAMP:20260423T072041
CREATED:20230102T214244Z
LAST-MODIFIED:20230102T214244Z
UID:53192-1673182800-1673204400@thepressboxlts.com
SUMMARY:The Fairgrounds Winter / Spring Meet
DESCRIPTION:First Post: 1:15 p.m. CT
URL:https://thepressboxlts.com/event/the-fairgrounds-winter-spring-meet-4/
LOCATION:Fair Grounds\, New Orleans\, LA\, United States
END:VEVENT
BEGIN:VEVENT
DTSTART;TZID=America/Kentucky/Louisville:20230107T123000
DTEND;TZID=America/Kentucky/Louisville:20230107T193000
DTSTAMP:20260423T072041
CREATED:20230102T213640Z
LAST-MODIFIED:20230102T213640Z
UID:53184-1673094600-1673119800@thepressboxlts.com
SUMMARY:Turfway Park Winter / Spring Meet
DESCRIPTION:First Post: 12:45 p.m.
URL:https://thepressboxlts.com/event/turfway-park-winter-spring-meet-4/
LOCATION:Turfway Park\, Florence\, KY\, United States
END:VEVENT
BEGIN:VEVENT
DTSTART;TZID=America/Kentucky/Louisville:20230107T010000
DTEND;TZID=America/Kentucky/Louisville:20230107T190000
DTSTAMP:20260423T072041
CREATED:20230102T214118Z
LAST-MODIFIED:20230102T214118Z
UID:53190-1673053200-1673118000@thepressboxlts.com
SUMMARY:The Fairgrounds Winter / Spring Meet
DESCRIPTION:First Post: 1:15 p.m. CT
URL:https://thepressboxlts.com/event/the-fairgrounds-winter-spring-meet-3/
LOCATION:Fair Grounds\, New Orleans\, LA\, United States
END:VEVENT
BEGIN:VEVENT
DTSTART;TZID=America/Kentucky/Louisville:20230106T173000
DTEND;TZID=America/Kentucky/Louisville:20230106T223000
DTSTAMP:20260423T072041
CREATED:20230102T213527Z
LAST-MODIFIED:20230102T213527Z
UID:53182-1673026200-1673044200@thepressboxlts.com
SUMMARY:Turfway Park Winter / Spring Meet
DESCRIPTION:First Post: 5:55 p.m. ET
URL:https://thepressboxlts.com/event/turfway-park-winter-spring-meet-3/
LOCATION:Turfway Park\, Florence\, KY\, United States
END:VEVENT
BEGIN:VEVENT
DTSTART;TZID=America/Kentucky/Louisville:20230106T133000
DTEND;TZID=America/Kentucky/Louisville:20230106T190000
DTSTAMP:20260423T072041
CREATED:20230102T214001Z
LAST-MODIFIED:20230102T214001Z
UID:53188-1673011800-1673031600@thepressboxlts.com
SUMMARY:The Fairgrounds Winter / Spring Meet
DESCRIPTION:First Post: 1:15 p.m. CT
URL:https://thepressboxlts.com/event/the-fairgrounds-winter-spring-meet-2/
LOCATION:Fair Grounds\, New Orleans\, LA\, United States
END:VEVENT
BEGIN:VEVENT
DTSTART;TZID=America/Kentucky/Louisville:20230105T173000
DTEND;TZID=America/Kentucky/Louisville:20230105T223000
DTSTAMP:20260423T072041
CREATED:20230102T213417Z
LAST-MODIFIED:20230102T213417Z
UID:53180-1672939800-1672957800@thepressboxlts.com
SUMMARY:Turfway Park Winter / Spring Meet
DESCRIPTION:First Post: 5:55 p.m. ET
URL:https://thepressboxlts.com/event/turfway-park-winter-spring-meet-2/
LOCATION:Turfway Park\, Florence\, KY\, United States
END:VEVENT
BEGIN:VEVENT
DTSTART;TZID=America/Kentucky/Louisville:20230105T130000
DTEND;TZID=America/Kentucky/Louisville:20230105T190000
DTSTAMP:20260423T072041
CREATED:20230102T213839Z
LAST-MODIFIED:20230102T213839Z
UID:53186-1672923600-1672945200@thepressboxlts.com
SUMMARY:The Fairgrounds Winter / Spring Meet
DESCRIPTION:First Post: 1:15 p.m. CT
URL:https://thepressboxlts.com/event/the-fairgrounds-winter-spring-meet/
LOCATION:Fair Grounds\, New Orleans\, LA\, United States
END:VEVENT
BEGIN:VEVENT
DTSTART;TZID=America/Kentucky/Louisville:20230104T173000
DTEND;TZID=America/Kentucky/Louisville:20230104T223000
DTSTAMP:20260423T072041
CREATED:20230102T213257Z
LAST-MODIFIED:20230102T213257Z
UID:53178-1672853400-1672871400@thepressboxlts.com
SUMMARY:Turfway Park Winter / Spring Meet
DESCRIPTION:First Post: 5:55 p.m. ET
URL:https://thepressboxlts.com/event/turfway-park-winter-spring-meet/
LOCATION:Turfway Park\, Florence\, KY\, United States
END:VEVENT
BEGIN:VEVENT
DTSTART;TZID=America/Kentucky/Louisville:20230101T130000
DTEND;TZID=America/Kentucky/Louisville:20230101T183000
DTSTAMP:20260423T072041
CREATED:20221228T144057Z
LAST-MODIFIED:20221228T144057Z
UID:53121-1672578000-1672597800@thepressboxlts.com
SUMMARY:The Fairgrounds Winter Meet
DESCRIPTION:First Post: 1:15 p.m. CT
URL:https://thepressboxlts.com/event/the-fairgrounds-winter-meet-4/
LOCATION:Fair Grounds\, New Orleans\, LA\, United States
END:VEVENT
BEGIN:VEVENT
DTSTART;TZID=America/Kentucky/Louisville:20221231T130000
DTEND;TZID=America/Kentucky/Louisville:20221231T183000
DTSTAMP:20260423T072041
CREATED:20221228T144000Z
LAST-MODIFIED:20221228T144000Z
UID:53119-1672491600-1672511400@thepressboxlts.com
SUMMARY:The Fairgrounds Winter Meet
DESCRIPTION:First Post: 1:15 p.m. CT
URL:https://thepressboxlts.com/event/the-fairgrounds-winter-meet-3/
LOCATION:Fair Grounds\, New Orleans\, LA\, United States
END:VEVENT
BEGIN:VEVENT
DTSTART;TZID=America/Kentucky/Louisville:20221231T120000
DTEND;TZID=America/Kentucky/Louisville:20221231T183000
DTSTAMP:20260423T072041
CREATED:20221228T143429Z
LAST-MODIFIED:20221228T143429Z
UID:53113-1672488000-1672511400@thepressboxlts.com
SUMMARY:Turfway Park Holiday Meet
DESCRIPTION:First Post: 12:15 p.m. ET \nGowell Stakes
URL:https://thepressboxlts.com/event/turfway-park-holiday-meet-19/
LOCATION:Turfway Park\, Florence\, KY\, United States
CATEGORIES:Stakes Race
END:VEVENT
BEGIN:VEVENT
DTSTART;TZID=America/Kentucky/Louisville:20221230T173000
DTEND;TZID=America/Kentucky/Louisville:20221230T230000
DTSTAMP:20260423T072041
CREATED:20221225T144833Z
LAST-MODIFIED:20221225T144833Z
UID:53071-1672421400-1672441200@thepressboxlts.com
SUMMARY:Turfway Park Holiday Meet
DESCRIPTION:First Post: 5:55 p.m. ET
URL:https://thepressboxlts.com/event/turfway-park-holiday-meet-18/
LOCATION:Turfway Park\, Florence\, KY\, United States
END:VEVENT
END:VCALENDAR