BEGIN:VCALENDAR
VERSION:2.0
PRODID:-//The Pressbox - ECPv6.15.19//NONSGML v1.0//EN
CALSCALE:GREGORIAN
METHOD:PUBLISH
X-WR-CALNAME:The Pressbox
X-ORIGINAL-URL:https://thepressboxlts.com
X-WR-CALDESC:Events for The Pressbox
REFRESH-INTERVAL;VALUE=DURATION:PT1H
X-Robots-Tag:noindex
X-PUBLISHED-TTL:PT1H
BEGIN:VTIMEZONE
TZID:America/Kentucky/Louisville
BEGIN:DAYLIGHT
TZOFFSETFROM:-0500
TZOFFSETTO:-0400
TZNAME:EDT
DTSTART:20210314T070000
END:DAYLIGHT
BEGIN:STANDARD
TZOFFSETFROM:-0400
TZOFFSETTO:-0500
TZNAME:EST
DTSTART:20211107T060000
END:STANDARD
BEGIN:DAYLIGHT
TZOFFSETFROM:-0500
TZOFFSETTO:-0400
TZNAME:EDT
DTSTART:20220313T070000
END:DAYLIGHT
BEGIN:STANDARD
TZOFFSETFROM:-0400
TZOFFSETTO:-0500
TZNAME:EST
DTSTART:20221106T060000
END:STANDARD
BEGIN:DAYLIGHT
TZOFFSETFROM:-0500
TZOFFSETTO:-0400
TZNAME:EDT
DTSTART:20230312T070000
END:DAYLIGHT
BEGIN:STANDARD
TZOFFSETFROM:-0400
TZOFFSETTO:-0500
TZNAME:EST
DTSTART:20231105T060000
END:STANDARD
END:VTIMEZONE
BEGIN:VEVENT
DTSTART;TZID=America/Kentucky/Louisville:20221111T130000
DTEND;TZID=America/Kentucky/Louisville:20221111T190000
DTSTAMP:20260423T132605
CREATED:20221109T211222Z
LAST-MODIFIED:20221109T211222Z
UID:52184-1668171600-1668193200@thepressboxlts.com
SUMMARY:Churchill Downs' November Meet
DESCRIPTION:First Post: 1 p.m. ET
URL:https://thepressboxlts.com/event/churchill-downs-november-meet-2/
LOCATION:Churchill Downs\, Louisville\, KY\, United States
END:VEVENT
BEGIN:VEVENT
DTSTART;TZID=America/Kentucky/Louisville:20221110T140000
DTEND;TZID=America/Kentucky/Louisville:20221110T193000
DTSTAMP:20260423T132605
CREATED:20221109T210627Z
LAST-MODIFIED:20221109T210627Z
UID:52177-1668088800-1668108600@thepressboxlts.com
SUMMARY:Horseshoe Indianapolis Fall Meet
DESCRIPTION:First Post: 2:10 p.m. ET
URL:https://thepressboxlts.com/event/horseshoe-indianapolis-fall-meet-20/
LOCATION:Horseshoe Indianapolis\, Shelbyville\, IN\, United States
END:VEVENT
BEGIN:VEVENT
DTSTART;TZID=America/Kentucky/Louisville:20221110T130000
DTEND;TZID=America/Kentucky/Louisville:20221110T183000
DTSTAMP:20260423T132605
CREATED:20221109T211007Z
LAST-MODIFIED:20221109T211007Z
UID:52182-1668085200-1668105000@thepressboxlts.com
SUMMARY:Churchill Downs' November Meet
DESCRIPTION:First Post: 1:00 p.m. ET \nPhoto by Coady Photography
URL:https://thepressboxlts.com/event/churchill-downs-november-meet/
LOCATION:Churchill Downs\, Louisville\, KY\, United States
END:VEVENT
BEGIN:VEVENT
DTSTART;TZID=America/Kentucky/Louisville:20221105T103000
DTEND;TZID=America/Kentucky/Louisville:20221105T190000
DTSTAMP:20260423T132605
CREATED:20221103T161327Z
LAST-MODIFIED:20221103T161327Z
UID:51875-1667644200-1667674800@thepressboxlts.com
SUMMARY:Breeders' Cup Saturday -- Keeneland -- Nov. 5
DESCRIPTION:First Post: 10:30 a.m. ET \nFirst Breeders’ Cup Race: 11:50 a.m. ET \nPhoto of Flightline / Coady Photography
URL:https://thepressboxlts.com/event/breeders-cup-saturday-keeneland-nov-5/
LOCATION:Keeneland Race Course\, KY\, United States
END:VEVENT
BEGIN:VEVENT
DTSTART;TZID=America/Kentucky/Louisville:20221104T113000
DTEND;TZID=America/Kentucky/Louisville:20221104T190000
DTSTAMP:20260423T132605
CREATED:20221103T161109Z
LAST-MODIFIED:20221103T161109Z
UID:51873-1667561400-1667588400@thepressboxlts.com
SUMMARY:Breeders' Cup Friday -- Keeneland -- Nov. 4
DESCRIPTION:First Post: 11:55 a.m. ET \nFirst Breeders’ Cup Race: 3 p.m. ET \nPhoto by Coady Photography
URL:https://thepressboxlts.com/event/breeders-cup-friday-keeneland-nov-4/
LOCATION:Keeneland Race Course\, KY\, United States
END:VEVENT
BEGIN:VEVENT
DTSTART;TZID=America/Kentucky/Louisville:20221103T130000
DTEND;TZID=America/Kentucky/Louisville:20221103T183000
DTSTAMP:20260423T132605
CREATED:20221030T225419Z
LAST-MODIFIED:20221030T225419Z
UID:51723-1667480400-1667500200@thepressboxlts.com
SUMMARY:Churchill Downs' Fall Meet
DESCRIPTION:First Post: 1 p.m.
URL:https://thepressboxlts.com/event/churchill-downs-fall-meet-3/
LOCATION:Churchill Downs\, Louisville\, KY\, United States
END:VEVENT
BEGIN:VEVENT
DTSTART;TZID=America/Kentucky/Louisville:20221102T130000
DTEND;TZID=America/Kentucky/Louisville:20221102T183000
DTSTAMP:20260423T132605
CREATED:20221030T225309Z
LAST-MODIFIED:20221030T225309Z
UID:51721-1667394000-1667413800@thepressboxlts.com
SUMMARY:Churchill Downs' Fall Meet
DESCRIPTION:First Post: 1 p.m. ET
URL:https://thepressboxlts.com/event/churchill-downs-fall-meet-2/
LOCATION:Churchill Downs\, Louisville\, KY\, United States
END:VEVENT
BEGIN:VEVENT
DTSTART;TZID=America/Kentucky/Louisville:20221030T130000
DTEND;TZID=America/Kentucky/Louisville:20221030T183000
DTSTAMP:20260423T132605
CREATED:20221030T133523Z
LAST-MODIFIED:20221030T133523Z
UID:51697-1667134800-1667154600@thepressboxlts.com
SUMMARY:Churchill Downs' Fall Meet
DESCRIPTION:First Post: 1 p.m. ET
URL:https://thepressboxlts.com/event/churchill-downs-fall-meet/
LOCATION:Churchill Downs\, Louisville\, KY\, United States
END:VEVENT
BEGIN:VEVENT
DTSTART;TZID=America/Kentucky/Louisville:20221029T130000
DTEND;TZID=America/Kentucky/Louisville:20221029T183000
DTSTAMP:20260423T132605
CREATED:20221027T144735Z
LAST-MODIFIED:20221027T144735Z
UID:51574-1667048400-1667068200@thepressboxlts.com
SUMMARY:Keeneland October Meet
DESCRIPTION:First Post: 1 p.m. ET \nPhoto by Coady Photography
URL:https://thepressboxlts.com/event/keeneland-october-meet-13/
LOCATION:Keeneland Race Course\, KY\, United States
END:VEVENT
BEGIN:VEVENT
DTSTART;TZID=America/Kentucky/Louisville:20221029T120000
DTEND;TZID=America/Kentucky/Louisville:20221029T190000
DTSTAMP:20260423T132605
CREATED:20221027T145330Z
LAST-MODIFIED:20221027T145330Z
UID:51578-1667044800-1667070000@thepressboxlts.com
SUMMARY:Horseshoe Indianapolis Fall Meet
DESCRIPTION:First Post: 12:10 p.m. ET \nIndiana Championship Day \n 
URL:https://thepressboxlts.com/event/horseshoe-indianapolis-fall-meet-19/
LOCATION:Horseshoe Indianapolis\, Shelbyville\, IN\, United States
END:VEVENT
BEGIN:VEVENT
DTSTART;TZID=America/Kentucky/Louisville:20221028T130000
DTEND;TZID=America/Kentucky/Louisville:20221028T173000
DTSTAMP:20260423T132605
CREATED:20221027T144538Z
LAST-MODIFIED:20221027T144538Z
UID:51572-1666962000-1666978200@thepressboxlts.com
SUMMARY:Keeneland October Meet
DESCRIPTION:First Post: 1 p.m. ET \nPhoto by Coady Photography
URL:https://thepressboxlts.com/event/keeneland-october-meet-12/
LOCATION:Keeneland Race Course\, KY\, United States
END:VEVENT
BEGIN:VEVENT
DTSTART;TZID=America/Kentucky/Louisville:20221027T140000
DTEND;TZID=America/Kentucky/Louisville:20221027T183000
DTSTAMP:20260423T132605
CREATED:20221023T193025Z
LAST-MODIFIED:20221023T193025Z
UID:51460-1666879200-1666895400@thepressboxlts.com
SUMMARY:Horseshoe Indianapolis Fall meet
DESCRIPTION:First Post: 2:10 p.m. ET
URL:https://thepressboxlts.com/event/horseshoe-indianapolis-fall-meet-18/
LOCATION:Horseshoe Indianapolis\, Shelbyville\, IN\, United States
END:VEVENT
BEGIN:VEVENT
DTSTART;TZID=America/Kentucky/Louisville:20221026T140000
DTEND;TZID=America/Kentucky/Louisville:20221026T183000
DTSTAMP:20260423T132605
CREATED:20221023T192914Z
LAST-MODIFIED:20221023T192914Z
UID:51458-1666792800-1666809000@thepressboxlts.com
SUMMARY:Horseshoe Indianapolis Fall Meet
DESCRIPTION:First Post: 2:10 p.m. ET
URL:https://thepressboxlts.com/event/horseshoe-indianapolis-fall-meet-17/
LOCATION:Horseshoe Indianapolis\, Shelbyville\, IN\, United States
END:VEVENT
BEGIN:VEVENT
DTSTART;TZID=America/Kentucky/Louisville:20221026T130000
DTEND;TZID=America/Kentucky/Louisville:20221026T183000
DTSTAMP:20260423T132605
CREATED:20221023T193402Z
LAST-MODIFIED:20221023T193402Z
UID:51462-1666789200-1666809000@thepressboxlts.com
SUMMARY:Keeneland October Meet
DESCRIPTION:First Post: 1 p.m. ET \nPhoto of Wicked Halo / Coady Photography
URL:https://thepressboxlts.com/event/keeneland-october-meet-11/
LOCATION:Keeneland Race Course\, KY\, United States
END:VEVENT
BEGIN:VEVENT
DTSTART;TZID=America/Kentucky/Louisville:20221025T140000
DTEND;TZID=America/Kentucky/Louisville:20221025T183000
DTSTAMP:20260423T132605
CREATED:20221023T192643Z
LAST-MODIFIED:20221023T192643Z
UID:51456-1666706400-1666722600@thepressboxlts.com
SUMMARY:Horseshoe Indianapolis Fall Meet
DESCRIPTION:First Post: 2:10 p.m. ET
URL:https://thepressboxlts.com/event/horseshoe-indianapolis-fall-meet-16/
LOCATION:Horseshoe Indianapolis\, Shelbyville\, IN\, United States
END:VEVENT
BEGIN:VEVENT
DTSTART;TZID=America/Kentucky/Louisville:20221024T140000
DTEND;TZID=America/Kentucky/Louisville:20221024T183000
DTSTAMP:20260423T132605
CREATED:20221023T192529Z
LAST-MODIFIED:20221023T192529Z
UID:51454-1666620000-1666636200@thepressboxlts.com
SUMMARY:Horseshoe Indianapolis Fall Meet
DESCRIPTION:First Post: 2:10 p.m. ET
URL:https://thepressboxlts.com/event/horseshoe-indianapolis-fall-meet-15/
LOCATION:Horseshoe Indianapolis\, Shelbyville\, IN\, United States
END:VEVENT
BEGIN:VEVENT
DTSTART;TZID=America/Kentucky/Louisville:20221023T130000
DTEND;TZID=America/Kentucky/Louisville:20221023T183000
DTSTAMP:20260423T132605
CREATED:20221017T015027Z
LAST-MODIFIED:20221017T015027Z
UID:51282-1666530000-1666549800@thepressboxlts.com
SUMMARY:Keeneland October Meet
DESCRIPTION:First Post: 1 p.m. ET \nPhoto by Coady Photography
URL:https://thepressboxlts.com/event/keeneland-october-meet-10/
LOCATION:Keeneland Race Course\, KY\, United States
END:VEVENT
BEGIN:VEVENT
DTSTART;TZID=America/Kentucky/Louisville:20221022T130000
DTEND;TZID=America/Kentucky/Louisville:20221022T183000
DTSTAMP:20260423T132605
CREATED:20221017T014912Z
LAST-MODIFIED:20221017T014912Z
UID:51280-1666443600-1666463400@thepressboxlts.com
SUMMARY:Keeneland October Meet
DESCRIPTION:First Post: 1 p.m. ET \nPhoto by Coady Photography
URL:https://thepressboxlts.com/event/keeneland-october-meet-9/
LOCATION:Keeneland Race Course\, KY\, United States
END:VEVENT
BEGIN:VEVENT
DTSTART;TZID=America/Kentucky/Louisville:20221021T130000
DTEND;TZID=America/Kentucky/Louisville:20221021T183000
DTSTAMP:20260423T132605
CREATED:20221017T014802Z
LAST-MODIFIED:20221017T014802Z
UID:51278-1666357200-1666377000@thepressboxlts.com
SUMMARY:Keeneland October Meet
DESCRIPTION:First Post: 1 p.m. ET \nPhoto by Coady Photography
URL:https://thepressboxlts.com/event/keeneland-october-meet-8/
LOCATION:Keeneland Race Course\, KY\, United States
END:VEVENT
BEGIN:VEVENT
DTSTART;TZID=America/Kentucky/Louisville:20221020T140000
DTEND;TZID=America/Kentucky/Louisville:20221020T193000
DTSTAMP:20260423T132605
CREATED:20221017T014401Z
LAST-MODIFIED:20221017T014401Z
UID:51272-1666274400-1666294200@thepressboxlts.com
SUMMARY:Horseshoe Indianapolis Fall Meet
DESCRIPTION:First Post: 2:10 p.m. ET
URL:https://thepressboxlts.com/event/horseshoe-indianapolis-fall-meet-14/
LOCATION:Horseshoe Indianapolis\, Shelbyville\, IN\, United States
END:VEVENT
BEGIN:VEVENT
DTSTART;TZID=America/Kentucky/Louisville:20221020T130000
DTEND;TZID=America/Kentucky/Louisville:20221020T183000
DTSTAMP:20260423T132605
CREATED:20221017T014638Z
LAST-MODIFIED:20221017T014638Z
UID:51276-1666270800-1666290600@thepressboxlts.com
SUMMARY:Keeneland October Meet
DESCRIPTION:First Post: 1 p.m. ET \nPhoto by Coady Photography
URL:https://thepressboxlts.com/event/keeneland-october-meet-7/
LOCATION:Keeneland Race Course\, KY\, United States
END:VEVENT
BEGIN:VEVENT
DTSTART;TZID=America/Kentucky/Louisville:20221019T140000
DTEND;TZID=America/Kentucky/Louisville:20221019T193000
DTSTAMP:20260423T132605
CREATED:20221017T014217Z
LAST-MODIFIED:20221017T014217Z
UID:51270-1666188000-1666207800@thepressboxlts.com
SUMMARY:Horseshoe Indianapolis Fall Meet
DESCRIPTION:First Post: 2:10 p.m. ET
URL:https://thepressboxlts.com/event/horseshoe-indianapolis-fall-meet-13/
LOCATION:Horseshoe Indianapolis\, Shelbyville\, IN\, United States
END:VEVENT
BEGIN:VEVENT
DTSTART;TZID=America/Kentucky/Louisville:20221019T130000
DTEND;TZID=America/Kentucky/Louisville:20221019T183000
DTSTAMP:20260423T132605
CREATED:20221017T014514Z
LAST-MODIFIED:20221017T014514Z
UID:51274-1666184400-1666204200@thepressboxlts.com
SUMMARY:Keeneland October Meet
DESCRIPTION:First Post: 1 p.m. ET \nPhoto by Coady Photography
URL:https://thepressboxlts.com/event/keeneland-october-meet-6/
LOCATION:Keeneland Race Course\, KY\, United States
END:VEVENT
BEGIN:VEVENT
DTSTART;TZID=America/Kentucky/Louisville:20221018T140000
DTEND;TZID=America/Kentucky/Louisville:20221018T193000
DTSTAMP:20260423T132605
CREATED:20221017T013930Z
LAST-MODIFIED:20221017T013930Z
UID:51268-1666101600-1666121400@thepressboxlts.com
SUMMARY:Horseshoe Indianapolis Fall Meet
DESCRIPTION:First Post: 2:10 p.m. ET
URL:https://thepressboxlts.com/event/horseshoe-indianapolis-fall-meet-12/
LOCATION:Horseshoe Indianapolis\, Shelbyville\, IN\, United States
END:VEVENT
BEGIN:VEVENT
DTSTART;TZID=America/Kentucky/Louisville:20221017T140000
DTEND;TZID=America/Kentucky/Louisville:20221017T193000
DTSTAMP:20260423T132605
CREATED:20221017T013727Z
LAST-MODIFIED:20221017T013727Z
UID:51266-1666015200-1666035000@thepressboxlts.com
SUMMARY:Horseshoe Indianapolis Fall Meet
DESCRIPTION:First Post: 2:10 p.m. ET
URL:https://thepressboxlts.com/event/horseshoe-indianapolis-fall-meet-11/
LOCATION:Horseshoe Indianapolis\, Shelbyville\, IN\, United States
END:VEVENT
BEGIN:VEVENT
DTSTART;TZID=America/Kentucky/Louisville:20221016T130000
DTEND;TZID=America/Kentucky/Louisville:20221016T183000
DTSTAMP:20260423T132605
CREATED:20221010T144306Z
LAST-MODIFIED:20221010T144306Z
UID:51058-1665925200-1665945000@thepressboxlts.com
SUMMARY:Keeneland October Meet
DESCRIPTION:First Post: 1 p.m. ET \nFranklin County Stakes \nPhotos by Coady Photography
URL:https://thepressboxlts.com/event/keeneland-october-meet-5/
LOCATION:Keeneland Race Course\, KY\, United States
CATEGORIES:Stakes Race
END:VEVENT
BEGIN:VEVENT
DTSTART;TZID=America/Kentucky/Louisville:20221015T130000
DTEND;TZID=America/Kentucky/Louisville:20221015T183000
DTSTAMP:20260423T132605
CREATED:20221010T144141Z
LAST-MODIFIED:20221010T144141Z
UID:51056-1665838800-1665858600@thepressboxlts.com
SUMMARY:Keeneland October Meet
DESCRIPTION:First Post: 1 p.m. ET \nQE II Challenge Cup Stakes \nPhotos by Coady Photography
URL:https://thepressboxlts.com/event/keeneland-october-meet-4/
LOCATION:Keeneland Race Course\, KY\, United States
END:VEVENT
BEGIN:VEVENT
DTSTART;TZID=America/Kentucky/Louisville:20221014T130000
DTEND;TZID=America/Kentucky/Louisville:20221014T183000
DTSTAMP:20260423T132605
CREATED:20221010T143953Z
LAST-MODIFIED:20221010T143953Z
UID:51054-1665752400-1665772200@thepressboxlts.com
SUMMARY:Keeneland October Meet
DESCRIPTION:First Post: 1 p.m. ET \nPhotos by Coady Photography
URL:https://thepressboxlts.com/event/keeneland-october-meet-3/
LOCATION:Keeneland Race Course\, KY\, United States
END:VEVENT
BEGIN:VEVENT
DTSTART;TZID=America/Kentucky/Louisville:20221013T140000
DTEND;TZID=America/Kentucky/Louisville:20221013T193000
DTSTAMP:20260423T132605
CREATED:20221010T143459Z
LAST-MODIFIED:20221010T143459Z
UID:51048-1665669600-1665689400@thepressboxlts.com
SUMMARY:Horseshoe Indianapolis Fall Meet
DESCRIPTION:First Post: 2:10 p.m. ET
URL:https://thepressboxlts.com/event/horseshoe-indianapolis-fall-meet-10/
LOCATION:Horseshoe Indianapolis\, Shelbyville\, IN\, United States
END:VEVENT
BEGIN:VEVENT
DTSTART;TZID=America/Kentucky/Louisville:20221013T130000
DTEND;TZID=America/Kentucky/Louisville:20221013T183000
DTSTAMP:20260423T132605
CREATED:20221010T143839Z
LAST-MODIFIED:20221010T143839Z
UID:51052-1665666000-1665685800@thepressboxlts.com
SUMMARY:Keeneland October Meet
DESCRIPTION:First Post: 1 p.m. ET \nPhotos by Coady Photography
URL:https://thepressboxlts.com/event/keeneland-october-meet-2/
LOCATION:Keeneland Race Course\, KY\, United States
END:VEVENT
END:VCALENDAR