BEGIN:VCALENDAR
VERSION:2.0
PRODID:-//The Pressbox - ECPv6.15.19//NONSGML v1.0//EN
CALSCALE:GREGORIAN
METHOD:PUBLISH
X-WR-CALNAME:The Pressbox
X-ORIGINAL-URL:https://thepressboxlts.com
X-WR-CALDESC:Events for The Pressbox
REFRESH-INTERVAL;VALUE=DURATION:PT1H
X-Robots-Tag:noindex
X-PUBLISHED-TTL:PT1H
BEGIN:VTIMEZONE
TZID:America/Kentucky/Louisville
BEGIN:DAYLIGHT
TZOFFSETFROM:-0500
TZOFFSETTO:-0400
TZNAME:EDT
DTSTART:20240310T070000
END:DAYLIGHT
BEGIN:STANDARD
TZOFFSETFROM:-0400
TZOFFSETTO:-0500
TZNAME:EST
DTSTART:20241103T060000
END:STANDARD
BEGIN:DAYLIGHT
TZOFFSETFROM:-0500
TZOFFSETTO:-0400
TZNAME:EDT
DTSTART:20250309T070000
END:DAYLIGHT
BEGIN:STANDARD
TZOFFSETFROM:-0400
TZOFFSETTO:-0500
TZNAME:EST
DTSTART:20251102T060000
END:STANDARD
BEGIN:DAYLIGHT
TZOFFSETFROM:-0500
TZOFFSETTO:-0400
TZNAME:EDT
DTSTART:20260308T070000
END:DAYLIGHT
BEGIN:STANDARD
TZOFFSETFROM:-0400
TZOFFSETTO:-0500
TZNAME:EST
DTSTART:20261101T060000
END:STANDARD
END:VTIMEZONE
BEGIN:VEVENT
DTSTART;TZID=America/Kentucky/Louisville:20251127T113000
DTEND;TZID=America/Kentucky/Louisville:20251127T183000
DTSTAMP:20260420T015747
CREATED:20251126T163807Z
LAST-MODIFIED:20251126T163807Z
UID:76463-1764243000-1764268200@thepressboxlts.com
SUMMARY:Churchill Downs Fall Meet: Thanksgiving Day With First Post at 11:30 a.m. ET
DESCRIPTION:First Post: 11:30 a.m. ET \nPhoto by Gene McLean
URL:https://thepressboxlts.com/event/churchill-downs-fall-meet-thanksgiving-day-with-first-post-at-1130-a-m-et/
LOCATION:Churchill Downs\, Louisville\, KY\, United States
ATTACH;FMTTYPE=image/jpeg:https://thepressboxlts.com/wp-content/uploads/2025/11/IMG_6513-1-rotated.jpg
END:VEVENT
BEGIN:VEVENT
DTSTART;TZID=America/Kentucky/Louisville:20251126T130000
DTEND;TZID=America/Kentucky/Louisville:20251126T183000
DTSTAMP:20260420T015747
CREATED:20251126T163624Z
LAST-MODIFIED:20251126T163624Z
UID:76461-1764162000-1764181800@thepressboxlts.com
SUMMARY:Churchill Downs Fall Meet
DESCRIPTION:First Post: 1 p.m. ET \nPhoto by Holly M. Smith
URL:https://thepressboxlts.com/event/churchill-downs-fall-meet-58/
LOCATION:Churchill Downs\, Louisville\, KY\, United States
ATTACH;FMTTYPE=image/jpeg:https://thepressboxlts.com/wp-content/uploads/2025/11/HMS_5083-scaled.jpg
END:VEVENT
BEGIN:VEVENT
DTSTART;TZID=America/Kentucky/Louisville:20251123T130000
DTEND;TZID=America/Kentucky/Louisville:20251123T183000
DTSTAMP:20260420T015747
CREATED:20251117T230355Z
LAST-MODIFIED:20251117T230355Z
UID:76372-1763902800-1763922600@thepressboxlts.com
SUMMARY:Churchill Downs Fall Meet
DESCRIPTION:First Post: 1 p.m. ET \nPhoto by Holly M. Smith
URL:https://thepressboxlts.com/event/churchill-downs-fall-meet-57/
LOCATION:Churchill Downs\, Louisville\, KY\, United States
ATTACH;FMTTYPE=image/jpeg:https://thepressboxlts.com/wp-content/uploads/2025/11/HMS_4621-5.jpg
END:VEVENT
BEGIN:VEVENT
DTSTART;TZID=America/Kentucky/Louisville:20251122T130000
DTEND;TZID=America/Kentucky/Louisville:20251122T183000
DTSTAMP:20260420T015747
CREATED:20251117T230251Z
LAST-MODIFIED:20251117T230251Z
UID:76370-1763816400-1763836200@thepressboxlts.com
SUMMARY:Churchill Downs Fall Meet
DESCRIPTION:First Post: 1 p.m. ET \nPhoto by Holly M. Smith
URL:https://thepressboxlts.com/event/churchill-downs-fall-meet-56/
LOCATION:Churchill Downs\, Louisville\, KY\, United States
ATTACH;FMTTYPE=image/jpeg:https://thepressboxlts.com/wp-content/uploads/2025/11/HMS_4474-5.jpg
END:VEVENT
BEGIN:VEVENT
DTSTART;TZID=America/Kentucky/Louisville:20251121T130000
DTEND;TZID=America/Kentucky/Louisville:20251121T183000
DTSTAMP:20260420T015747
CREATED:20251117T230155Z
LAST-MODIFIED:20251117T230155Z
UID:76368-1763730000-1763749800@thepressboxlts.com
SUMMARY:Churchill Downs Fall Meet
DESCRIPTION:First Post: 1 p.m. ET \nPhoto by Holly M. Smith
URL:https://thepressboxlts.com/event/churchill-downs-fall-meet-55/
LOCATION:Churchill Downs\, Louisville\, KY\, United States
ATTACH;FMTTYPE=image/jpeg:https://thepressboxlts.com/wp-content/uploads/2025/11/HMS_4406-1.jpg
END:VEVENT
BEGIN:VEVENT
DTSTART;TZID=America/Kentucky/Louisville:20251120T130000
DTEND;TZID=America/Kentucky/Louisville:20251120T183000
DTSTAMP:20260420T015747
CREATED:20251117T230054Z
LAST-MODIFIED:20251117T230054Z
UID:76366-1763643600-1763663400@thepressboxlts.com
SUMMARY:Churchill Downs Fall Meet
DESCRIPTION:First Post: 1 p.m. ET \nPhoto by Holly M. Smith
URL:https://thepressboxlts.com/event/churchill-downs-fall-meet-54/
LOCATION:Churchill Downs\, Louisville\, KY\, United States
ATTACH;FMTTYPE=image/jpeg:https://thepressboxlts.com/wp-content/uploads/2025/11/HMS_4324-1.jpg
END:VEVENT
BEGIN:VEVENT
DTSTART;TZID=America/Kentucky/Louisville:20251119T130000
DTEND;TZID=America/Kentucky/Louisville:20251119T183000
DTSTAMP:20260420T015747
CREATED:20251117T225925Z
LAST-MODIFIED:20251117T225925Z
UID:76364-1763557200-1763577000@thepressboxlts.com
SUMMARY:Churchill Downs Fall Meet
DESCRIPTION:First Post: 1 p.m. ET \nPhoto by Holly M. Smith
URL:https://thepressboxlts.com/event/churchill-downs-fall-meet-53/
LOCATION:Churchill Downs\, Louisville\, KY\, United States
ATTACH;FMTTYPE=image/jpeg:https://thepressboxlts.com/wp-content/uploads/2025/11/HMS_4295-5.jpg
END:VEVENT
BEGIN:VEVENT
DTSTART;TZID=America/Kentucky/Louisville:20251116T130000
DTEND;TZID=America/Kentucky/Louisville:20251116T183000
DTSTAMP:20260420T015747
CREATED:20251109T181410Z
LAST-MODIFIED:20251109T181410Z
UID:76215-1763298000-1763317800@thepressboxlts.com
SUMMARY:Churchill Downs Fall Meet
DESCRIPTION:First Post: 1 p.m. ET \nPhoto by Holly M. Smith \n 
URL:https://thepressboxlts.com/event/churchill-downs-fall-meet-52/
LOCATION:Churchill Downs\, Louisville\, KY\, United States
ATTACH;FMTTYPE=image/jpeg:https://thepressboxlts.com/wp-content/uploads/2025/11/HMS_3806-luis-saez.jpg
END:VEVENT
BEGIN:VEVENT
DTSTART;TZID=America/Kentucky/Louisville:20251115T130000
DTEND;TZID=America/Kentucky/Louisville:20251115T180000
DTSTAMP:20260420T015747
CREATED:20251109T181316Z
LAST-MODIFIED:20251109T181316Z
UID:76213-1763211600-1763229600@thepressboxlts.com
SUMMARY:Churchill Downs Fall Meet
DESCRIPTION:First Post: 1 p.m. ET \nPhoto by Holly M. Smith
URL:https://thepressboxlts.com/event/churchill-downs-fall-meet-51/
LOCATION:Churchill Downs\, Louisville\, KY\, United States
ATTACH;FMTTYPE=image/jpeg:https://thepressboxlts.com/wp-content/uploads/2025/11/HMS_3535-bless-the-broken.jpg
END:VEVENT
BEGIN:VEVENT
DTSTART;TZID=America/Kentucky/Louisville:20251114T130000
DTEND;TZID=America/Kentucky/Louisville:20251114T180000
DTSTAMP:20260420T015747
CREATED:20251109T181232Z
LAST-MODIFIED:20251109T181232Z
UID:76211-1763125200-1763143200@thepressboxlts.com
SUMMARY:Churchill Downs Fall Meet
DESCRIPTION:First Post: 1 p.m. ET \nPhoto by Holly M. Smith
URL:https://thepressboxlts.com/event/churchill-downs-fall-meet-50/
LOCATION:Churchill Downs\, Louisville\, KY\, United States
ATTACH;FMTTYPE=image/jpeg:https://thepressboxlts.com/wp-content/uploads/2025/11/HMS_3448-dragoon-guard.jpg
END:VEVENT
BEGIN:VEVENT
DTSTART;TZID=America/Kentucky/Louisville:20251113T140000
DTEND;TZID=America/Kentucky/Louisville:20251113T190000
DTSTAMP:20260420T015747
CREATED:20251109T180935Z
LAST-MODIFIED:20251109T180935Z
UID:76205-1763042400-1763060400@thepressboxlts.com
SUMMARY:Horseshoe Indianapolis Final Day of Live Racing for 2025
DESCRIPTION:First Post: 2:10 p.m. ET \nPhoto by Coady Media
URL:https://thepressboxlts.com/event/horseshoe-indianapolis-final-day-of-live-racing-for-2025/
LOCATION:Horseshoe Indianapolis\, Shelbyville\, IN\, United States
ATTACH;FMTTYPE=image/jpeg:https://thepressboxlts.com/wp-content/uploads/2025/10/SPIRITED-JUSTICE-Back-Home-Again-25th-Running-10-01-25-R11-Horseshoe-Indiana-Tight-Finish-01-Devin-Hall-scaled.jpg
END:VEVENT
BEGIN:VEVENT
DTSTART;TZID=America/Kentucky/Louisville:20251113T130000
DTEND;TZID=America/Kentucky/Louisville:20251113T180000
DTSTAMP:20260420T015747
CREATED:20251109T181143Z
LAST-MODIFIED:20251109T181143Z
UID:76209-1763038800-1763056800@thepressboxlts.com
SUMMARY:Churchill Downs Fall Meet
DESCRIPTION:First Post: 1 p.m. ET \nPhoto by Holly M. Smith
URL:https://thepressboxlts.com/event/churchill-downs-fall-meet-49/
LOCATION:Churchill Downs\, Louisville\, KY\, United States
ATTACH;FMTTYPE=image/jpeg:https://thepressboxlts.com/wp-content/uploads/2025/11/HMS_3574.jpg
END:VEVENT
BEGIN:VEVENT
DTSTART;TZID=America/Kentucky/Louisville:20251112T140000
DTEND;TZID=America/Kentucky/Louisville:20251112T190000
DTSTAMP:20260420T015747
CREATED:20251109T180829Z
LAST-MODIFIED:20251109T180829Z
UID:76203-1762956000-1762974000@thepressboxlts.com
SUMMARY:Horseshoe Indianapolis Final Week of Live Racing for 2025
DESCRIPTION:First Post: 2:10 p.m. ET \nPhoto by Coady Media
URL:https://thepressboxlts.com/event/horseshoe-indianapolis-final-week-of-live-racing-for-2025-2/
LOCATION:Horseshoe Indianapolis\, Shelbyville\, IN\, United States
ATTACH;FMTTYPE=image/jpeg:https://thepressboxlts.com/wp-content/uploads/2025/10/SPIRITED-JUSTICE-Back-Home-Again-25th-Running-10-01-25-R11-Horseshoe-Indiana-Finish-01-Sammantha-Pagels-scaled.jpg
END:VEVENT
BEGIN:VEVENT
DTSTART;TZID=America/Kentucky/Louisville:20251112T130000
DTEND;TZID=America/Kentucky/Louisville:20251112T180000
DTSTAMP:20260420T015747
CREATED:20251109T181058Z
LAST-MODIFIED:20251109T181058Z
UID:76207-1762952400-1762970400@thepressboxlts.com
SUMMARY:Churchill Downs Fall Meet
DESCRIPTION:First Post: 1 p.m. ET \nPhoto by Holly M. Smith
URL:https://thepressboxlts.com/event/churchill-downs-fall-meet-48/
LOCATION:Churchill Downs\, Louisville\, KY\, United States
ATTACH;FMTTYPE=image/jpeg:https://thepressboxlts.com/wp-content/uploads/2025/11/HMS_3702.jpg
END:VEVENT
BEGIN:VEVENT
DTSTART;TZID=America/Kentucky/Louisville:20251111T140000
DTEND;TZID=America/Kentucky/Louisville:20251111T190000
DTSTAMP:20260420T015747
CREATED:20251109T180721Z
LAST-MODIFIED:20251109T180721Z
UID:76201-1762869600-1762887600@thepressboxlts.com
SUMMARY:Horseshoe Indianapolis Final Week of Live Racing for 2025 -- Veteran's Day Celebration
DESCRIPTION:First Post: 2:10 p.m. ET \nPhoto by Coady Media
URL:https://thepressboxlts.com/event/horseshoe-indianapolis-final-week-of-live-racing-for-2025-veterans-day-celebration/
LOCATION:Horseshoe Indianapolis\, Shelbyville\, IN\, United States
ATTACH;FMTTYPE=image/jpeg:https://thepressboxlts.com/wp-content/uploads/2025/07/WILLY-DS-Michael-G-Schaefer-Memorial-07-05-25-R09-Horseshoe-Indiana-First-Turn-01-Kurtis-Coady-scaled.jpg
END:VEVENT
BEGIN:VEVENT
DTSTART;TZID=America/Kentucky/Louisville:20251110T140000
DTEND;TZID=America/Kentucky/Louisville:20251110T190000
DTSTAMP:20260420T015747
CREATED:20251109T180606Z
LAST-MODIFIED:20251109T180606Z
UID:76199-1762783200-1762801200@thepressboxlts.com
SUMMARY:Horseshoe Indianapolis Final Week of Live Racing for 2025
DESCRIPTION:First Post: 2:10 p.m. ET \nPhoto by Coady Media
URL:https://thepressboxlts.com/event/horseshoe-indianapolis-final-week-of-live-racing-for-2025/
LOCATION:Horseshoe Indianapolis\, Shelbyville\, IN\, United States
ATTACH;FMTTYPE=image/jpeg:https://thepressboxlts.com/wp-content/uploads/2025/07/WILLY-DS-Michael-G-Schaefer-Memorial-07-05-25-R09-Horseshoe-Indiana-Start-01-Samantha-Pagels-scaled.jpg
END:VEVENT
BEGIN:VEVENT
DTSTART;TZID=America/Kentucky/Louisville:20251102T130000
DTEND;TZID=America/Kentucky/Louisville:20251102T183000
DTSTAMP:20260420T015747
CREATED:20251028T144304Z
LAST-MODIFIED:20251028T144304Z
UID:76033-1762088400-1762108200@thepressboxlts.com
SUMMARY:Churchill Downs Fall Meet
DESCRIPTION:First Post: 1 p.m. ET \nPhoto by Holly M. Smith
URL:https://thepressboxlts.com/event/churchill-downs-fall-meet-47/
LOCATION:Churchill Downs\, Louisville\, KY\, United States
ATTACH;FMTTYPE=image/jpeg:https://thepressboxlts.com/wp-content/uploads/2025/10/HMS_0404-thorpedo-anna-scaled.jpg
END:VEVENT
BEGIN:VEVENT
DTSTART;TZID=America/Kentucky/Louisville:20251101T130000
DTEND;TZID=America/Kentucky/Louisville:20251101T183000
DTSTAMP:20260420T015747
CREATED:20251028T144208Z
LAST-MODIFIED:20251028T144208Z
UID:76031-1762002000-1762021800@thepressboxlts.com
SUMMARY:Churchill Downs Fall Meet
DESCRIPTION:First Post: 1 p.m. ET \nPhoto by Holly M. Smith
URL:https://thepressboxlts.com/event/churchill-downs-fall-meet-46/
LOCATION:Churchill Downs\, Louisville\, KY\, United States
ATTACH;FMTTYPE=image/jpeg:https://thepressboxlts.com/wp-content/uploads/2025/10/HMS_1115-1-scaled.jpg
END:VEVENT
BEGIN:VEVENT
DTSTART;TZID=America/Kentucky/Louisville:20251031T130000
DTEND;TZID=America/Kentucky/Louisville:20251031T183000
DTSTAMP:20260420T015747
CREATED:20251028T144112Z
LAST-MODIFIED:20251028T144112Z
UID:76029-1761915600-1761935400@thepressboxlts.com
SUMMARY:Churchill Downs Fall Meet
DESCRIPTION:First Post: 1 p.m. ET \nPhoto by Holly M. Smith
URL:https://thepressboxlts.com/event/churchill-downs-fall-meet-45/
LOCATION:Churchill Downs\, Louisville\, KY\, United States
ATTACH;FMTTYPE=image/jpeg:https://thepressboxlts.com/wp-content/uploads/2025/10/HMS_0138-1-scaled.jpg
END:VEVENT
BEGIN:VEVENT
DTSTART;TZID=America/Kentucky/Louisville:20251030T140000
DTEND;TZID=America/Kentucky/Louisville:20251030T190000
DTSTAMP:20260420T015747
CREATED:20251028T143811Z
LAST-MODIFIED:20251028T143811Z
UID:76023-1761832800-1761850800@thepressboxlts.com
SUMMARY:Horseshoe Indianapolis Fall Meet
DESCRIPTION:First Post: 2:10 p.m. ET \nPhoto by Coady Media
URL:https://thepressboxlts.com/event/horseshoe-indianapolis-fall-meet-101/
LOCATION:Horseshoe Indianapolis\, Shelbyville\, IN\, United States
ATTACH;FMTTYPE=image/jpeg:https://thepressboxlts.com/wp-content/uploads/2025/07/ENCINO-Jonathan-B-Schuster-Memorial-07-05-25-R08-Horseshoe-Indiana-Turn-01-Kurtis-Coady-scaled.jpg
END:VEVENT
BEGIN:VEVENT
DTSTART;TZID=America/Kentucky/Louisville:20251030T130000
DTEND;TZID=America/Kentucky/Louisville:20251030T183000
DTSTAMP:20260420T015747
CREATED:20251028T144016Z
LAST-MODIFIED:20251028T144016Z
UID:76027-1761829200-1761849000@thepressboxlts.com
SUMMARY:Churchill Downs Fall Meet
DESCRIPTION:First Post: 1 p.m. ET \nPhoto by Holly M. Smith
URL:https://thepressboxlts.com/event/churchill-downs-fall-meet-44/
LOCATION:Churchill Downs\, Louisville\, KY\, United States
ATTACH;FMTTYPE=image/jpeg:https://thepressboxlts.com/wp-content/uploads/2025/10/HMS_0188-1-scaled.jpg
END:VEVENT
BEGIN:VEVENT
DTSTART;TZID=America/Kentucky/Louisville:20251029T140000
DTEND;TZID=America/Kentucky/Louisville:20251029T190000
DTSTAMP:20260420T015747
CREATED:20251028T143712Z
LAST-MODIFIED:20251028T143712Z
UID:76021-1761746400-1761764400@thepressboxlts.com
SUMMARY:Horseshoe Indianapolis Fall Meet
DESCRIPTION:First Post: 2:10 p.m. ET \nPhoto by Coady Media
URL:https://thepressboxlts.com/event/horseshoe-indianapolis-fall-meet-100/
LOCATION:Horseshoe Indianapolis\, Shelbyville\, IN\, United States
ATTACH;FMTTYPE=image/jpeg:https://thepressboxlts.com/wp-content/uploads/2025/10/SPIRITED-JUSTICE-Back-Home-Again-25th-Running-10-01-25-R11-Horseshoe-Indiana-Finish-01-Sammantha-Pagels-scaled.jpg
END:VEVENT
BEGIN:VEVENT
DTSTART;TZID=America/Kentucky/Louisville:20251029T130000
DTEND;TZID=America/Kentucky/Louisville:20251029T183000
DTSTAMP:20260420T015747
CREATED:20251028T143919Z
LAST-MODIFIED:20251028T143919Z
UID:76025-1761742800-1761762600@thepressboxlts.com
SUMMARY:Churchill Downs Fall Meet
DESCRIPTION:First Post: 1 p.m. ET \nPhoto by Holly M. Smith
URL:https://thepressboxlts.com/event/churchill-downs-fall-meet-43/
LOCATION:Churchill Downs\, Louisville\, KY\, United States
ATTACH;FMTTYPE=image/jpeg:https://thepressboxlts.com/wp-content/uploads/2025/10/HMS_0215-1-scaled.jpg
END:VEVENT
BEGIN:VEVENT
DTSTART;TZID=America/Kentucky/Louisville:20251028T140000
DTEND;TZID=America/Kentucky/Louisville:20251028T190000
DTSTAMP:20260420T015747
CREATED:20251028T143609Z
LAST-MODIFIED:20251028T143609Z
UID:76019-1761660000-1761678000@thepressboxlts.com
SUMMARY:Horseshoe Indianapolis Fall Meet
DESCRIPTION:First Post: 2:10 p.m. ET \nPhoto by Coady Media
URL:https://thepressboxlts.com/event/horseshoe-indianapolis-fall-meet-99/
LOCATION:Horseshoe Indianapolis\, Shelbyville\, IN\, United States
ATTACH;FMTTYPE=image/jpeg:https://thepressboxlts.com/wp-content/uploads/2025/07/WILLY-DS-Michael-G-Schaefer-Memorial-07-05-25-R09-Horseshoe-Indiana-Start-01-Samantha-Pagels-scaled.jpg
END:VEVENT
BEGIN:VEVENT
DTSTART;TZID=America/Kentucky/Louisville:20251026T123000
DTEND;TZID=America/Kentucky/Louisville:20251026T183000
DTSTAMP:20260420T015747
CREATED:20251021T172640Z
LAST-MODIFIED:20251021T172640Z
UID:75674-1761481800-1761503400@thepressboxlts.com
SUMMARY:Churchill Downs' Fall Meet
DESCRIPTION:First Post: 12:45 p.m. ET \nPhoto by Holly M. Smith
URL:https://thepressboxlts.com/event/churchill-downs-fall-meet-42/
LOCATION:Churchill Downs\, Louisville\, KY\, United States
ATTACH;FMTTYPE=image/jpeg:https://thepressboxlts.com/wp-content/uploads/2025/10/HMS_4313-stelllify-scaled.jpg
END:VEVENT
BEGIN:VEVENT
DTSTART;TZID=America/Kentucky/Louisville:20251025T130000
DTEND;TZID=America/Kentucky/Louisville:20251025T180000
DTSTAMP:20260420T015747
CREATED:20251020T183714Z
LAST-MODIFIED:20251020T183714Z
UID:75668-1761397200-1761415200@thepressboxlts.com
SUMMARY:Keeneland October Meet
DESCRIPTION:First Post: 1 p.m. ET \nPhoto by Coady Media
URL:https://thepressboxlts.com/event/keeneland-october-meet-64/
LOCATION:Keeneland Race Course\, KY\, United States
ATTACH;FMTTYPE=image/jpeg:https://thepressboxlts.com/wp-content/uploads/2025/10/VENENCIA-The-Rood-Riddle-Dowager-G3-10-19-25-R08-Keeneland-Race-Course-Interview-02-Renee-Torbit-scaled.jpg
END:VEVENT
BEGIN:VEVENT
DTSTART;TZID=America/Kentucky/Louisville:20251025T120000
DTEND;TZID=America/Kentucky/Louisville:20251025T180000
DTSTAMP:20260420T015747
CREATED:20251020T183206Z
LAST-MODIFIED:20251020T183206Z
UID:75660-1761393600-1761415200@thepressboxlts.com
SUMMARY:Horseshoe Indianapolis Fall Meet
DESCRIPTION:First Post: 12 Noon ET \nPhoto by Coady Media
URL:https://thepressboxlts.com/event/horseshoe-indianapolis-fall-meet-98/
LOCATION:Horseshoe Indianapolis\, Shelbyville\, IN\, United States
ATTACH;FMTTYPE=image/jpeg:https://thepressboxlts.com/wp-content/uploads/2025/07/CLICQUOT-Daily-Racing-Form-Indiana-Oaks-G3-07-05-25-R11-Horseshoe-Indiana-Edgar-Morales-03-Kurtis-Coady-scaled.jpg
END:VEVENT
BEGIN:VEVENT
DTSTART;TZID=America/Kentucky/Louisville:20251024T130000
DTEND;TZID=America/Kentucky/Louisville:20251024T180000
DTSTAMP:20260420T015747
CREATED:20251020T183548Z
LAST-MODIFIED:20251020T183548Z
UID:75666-1761310800-1761328800@thepressboxlts.com
SUMMARY:Keeneland October Meet
DESCRIPTION:First Post: 1 p.m. ET \nPhoto by Coady Media
URL:https://thepressboxlts.com/event/keeneland-october-meet-63/
LOCATION:Keeneland Race Course\, KY\, United States
ATTACH;FMTTYPE=image/jpeg:https://thepressboxlts.com/wp-content/uploads/2025/10/KAPPA-KAPPA-The-Lexus-Raven-Run-G2-10-18-25-R09-Keeneland-Race-Course-Come-Back-06-Barbara-Barclay-scaled.jpg
END:VEVENT
BEGIN:VEVENT
DTSTART;TZID=America/Kentucky/Louisville:20251023T140000
DTEND;TZID=America/Kentucky/Louisville:20251023T190000
DTSTAMP:20260420T015747
CREATED:20251020T183058Z
LAST-MODIFIED:20251020T183058Z
UID:75658-1761228000-1761246000@thepressboxlts.com
SUMMARY:Horseshoe Indianapolis Fall Meet
DESCRIPTION:First Post: 2:10 p.m. ET \nPhoto by Coady Media
URL:https://thepressboxlts.com/event/horseshoe-indianapolis-fall-meet-97/
LOCATION:Horseshoe Indianapolis\, Shelbyville\, IN\, United States
ATTACH;FMTTYPE=image/jpeg:https://thepressboxlts.com/wp-content/uploads/2025/07/ENCINO-Jonathan-B-Schuster-Memorial-07-05-25-R08-Horseshoe-Indiana-Turn-01-Kurtis-Coady-scaled.jpg
END:VEVENT
BEGIN:VEVENT
DTSTART;TZID=America/Kentucky/Louisville:20251023T130000
DTEND;TZID=America/Kentucky/Louisville:20251023T180000
DTSTAMP:20260420T015747
CREATED:20251020T183456Z
LAST-MODIFIED:20251020T183456Z
UID:75664-1761224400-1761242400@thepressboxlts.com
SUMMARY:Keeneland October Meet
DESCRIPTION:First Post: 1 p.m. ET \nPhoto by Coady Media
URL:https://thepressboxlts.com/event/keeneland-october-meet-62/
LOCATION:Keeneland Race Course\, KY\, United States
ATTACH;FMTTYPE=image/jpeg:https://thepressboxlts.com/wp-content/uploads/2025/10/TIME-TO-DAZZLE-The-29th-Running-of-The-Franklin-G-II-10-12-25-R07-Keeneland-Race-Course-Inside-Finish-01-John-Gallagher-scaled.jpg
END:VEVENT
END:VCALENDAR