BEGIN:VCALENDAR
VERSION:2.0
PRODID:-//The Pressbox - ECPv6.15.19//NONSGML v1.0//EN
CALSCALE:GREGORIAN
METHOD:PUBLISH
X-WR-CALNAME:The Pressbox
X-ORIGINAL-URL:https://thepressboxlts.com
X-WR-CALDESC:Events for The Pressbox
REFRESH-INTERVAL;VALUE=DURATION:PT1H
X-Robots-Tag:noindex
X-PUBLISHED-TTL:PT1H
BEGIN:VTIMEZONE
TZID:America/Kentucky/Louisville
BEGIN:DAYLIGHT
TZOFFSETFROM:-0500
TZOFFSETTO:-0400
TZNAME:EDT
DTSTART:20240310T070000
END:DAYLIGHT
BEGIN:STANDARD
TZOFFSETFROM:-0400
TZOFFSETTO:-0500
TZNAME:EST
DTSTART:20241103T060000
END:STANDARD
BEGIN:DAYLIGHT
TZOFFSETFROM:-0500
TZOFFSETTO:-0400
TZNAME:EDT
DTSTART:20250309T070000
END:DAYLIGHT
BEGIN:STANDARD
TZOFFSETFROM:-0400
TZOFFSETTO:-0500
TZNAME:EST
DTSTART:20251102T060000
END:STANDARD
BEGIN:DAYLIGHT
TZOFFSETFROM:-0500
TZOFFSETTO:-0400
TZNAME:EDT
DTSTART:20260308T070000
END:DAYLIGHT
BEGIN:STANDARD
TZOFFSETFROM:-0400
TZOFFSETTO:-0500
TZNAME:EST
DTSTART:20261101T060000
END:STANDARD
END:VTIMEZONE
BEGIN:VEVENT
DTSTART;TZID=America/Kentucky/Louisville:20251228T123000
DTEND;TZID=America/Kentucky/Louisville:20251228T193000
DTSTAMP:20260420T003712
CREATED:20251222T152851Z
LAST-MODIFIED:20251222T152851Z
UID:76990-1766925000-1766950200@thepressboxlts.com
SUMMARY:Fair Grounds Winter Meet
DESCRIPTION:First Post: 12:45 p.m. CT \nPhoto Courtesy of the Fair Grounds
URL:https://thepressboxlts.com/event/fair-grounds-winter-meet-42/
LOCATION:Fair Grounds\, New Orleans\, LA\, United States
ATTACH;FMTTYPE=image/jpeg:https://thepressboxlts.com/wp-content/uploads/2025/12/Chip-Honcho_UR1_12-20-2025-scaled.jpg
END:VEVENT
BEGIN:VEVENT
DTSTART;TZID=America/Kentucky/Louisville:20251227T173000
DTEND;TZID=America/Kentucky/Louisville:20251227T223000
DTSTAMP:20260420T003712
CREATED:20251222T163604Z
LAST-MODIFIED:20251222T163604Z
UID:76994-1766856600-1766874600@thepressboxlts.com
SUMMARY:Turfway Park Holiday Meet
DESCRIPTION:First Post: 5:55 p.m. ET \nPhoto by Coady Media
URL:https://thepressboxlts.com/event/turfway-park-holiday-meet-58/
LOCATION:Turfway Park\, Florence\, KY\, United States
ATTACH;FMTTYPE=image/jpeg:https://thepressboxlts.com/wp-content/uploads/2025/12/ZVEREV-The-Boone-County-Stakes-1st-Running-12-06-25-R07-Turfway-Park-Finish-02-Renee-Torbit-1-scaled.jpg
END:VEVENT
BEGIN:VEVENT
DTSTART;TZID=America/Kentucky/Louisville:20251227T123000
DTEND;TZID=America/Kentucky/Louisville:20251227T193000
DTSTAMP:20260420T003712
CREATED:20251222T152744Z
LAST-MODIFIED:20251222T152744Z
UID:76988-1766838600-1766863800@thepressboxlts.com
SUMMARY:Fair Grounds Winter Meet
DESCRIPTION:First Post: 12:45 p.m. CT \nPhoto Courtesy of the Fair Grounds
URL:https://thepressboxlts.com/event/fair-grounds-winter-meet-41/
LOCATION:Fair Grounds\, New Orleans\, LA\, United States
ATTACH;FMTTYPE=image/png:https://thepressboxlts.com/wp-content/uploads/2025/12/fairgrounds-racing-homepage-1.png
END:VEVENT
BEGIN:VEVENT
DTSTART;TZID=America/Kentucky/Louisville:20251226T173000
DTEND;TZID=America/Kentucky/Louisville:20251226T223000
DTSTAMP:20260420T003712
CREATED:20251222T163451Z
LAST-MODIFIED:20251222T163451Z
UID:76992-1766770200-1766788200@thepressboxlts.com
SUMMARY:Turfway Park Holiday Meet
DESCRIPTION:First Post: 5:55 p.m. ET \nPhoto by Coady Media
URL:https://thepressboxlts.com/event/turfway-park-holiday-meet-57/
LOCATION:Turfway Park\, Florence\, KY\, United States
ATTACH;FMTTYPE=image/jpeg:https://thepressboxlts.com/wp-content/uploads/2025/12/ZVEREV-The-Boone-County-Stakes-1st-Running-12-06-25-R07-Turfway-Park-Come-Back-03-scaled.jpg
END:VEVENT
BEGIN:VEVENT
DTSTART;TZID=America/Kentucky/Louisville:20251226T123000
DTEND;TZID=America/Kentucky/Louisville:20251226T193000
DTSTAMP:20260420T003712
CREATED:20251222T152623Z
LAST-MODIFIED:20251222T152623Z
UID:76986-1766752200-1766777400@thepressboxlts.com
SUMMARY:Fair Grounds Winter Meet
DESCRIPTION:First Post: 12:45 p.m. CT \nPhoto Courtesy of the Fair Grounds
URL:https://thepressboxlts.com/event/fair-grounds-winter-meet-40/
LOCATION:Fair Grounds\, New Orleans\, LA\, United States
ATTACH;FMTTYPE=image/jpeg:https://thepressboxlts.com/wp-content/uploads/2025/12/FGNO-41529-WebGraphicResizes_1120x610_6-2.jpg
END:VEVENT
BEGIN:VEVENT
DTSTART;TZID=America/Kentucky/Louisville:20251221T150000
DTEND;TZID=America/Kentucky/Louisville:20251221T210000
DTSTAMP:20260420T003712
CREATED:20251214T164105Z
LAST-MODIFIED:20251214T164105Z
UID:76866-1766329200-1766350800@thepressboxlts.com
SUMMARY:Turfway Park Holiday Meet -- Synthetic Championships Day
DESCRIPTION:First Post: 3 p.m. ET \nEncino / Photo by Coady Media
URL:https://thepressboxlts.com/event/turfway-park-holiday-meet-synthetic-championships-day/
LOCATION:Turfway Park\, Florence\, KY\, United States
ATTACH;FMTTYPE=image/jpeg:https://thepressboxlts.com/wp-content/uploads/2024/04/Encino-Gallop-Churchill-Downs-04-21-24-01-Renee-Torbit-scaled.jpg
END:VEVENT
BEGIN:VEVENT
DTSTART;TZID=America/Kentucky/Louisville:20251221T123000
DTEND;TZID=America/Kentucky/Louisville:20251221T190000
DTSTAMP:20260420T003712
CREATED:20251214T164912Z
LAST-MODIFIED:20251214T164912Z
UID:76879-1766320200-1766343600@thepressboxlts.com
SUMMARY:The Fair Grounds Winter Meet
DESCRIPTION:First Post: 12:45 p.m. CT \nPhoto Courtesy of the Fair Grounds
URL:https://thepressboxlts.com/event/the-fair-grounds-winter-meet-8/
LOCATION:KY
ATTACH;FMTTYPE=image/jpeg:https://thepressboxlts.com/wp-content/uploads/2025/12/112-Derby-Poater-Contest-Logo-copy.jpg
END:VEVENT
BEGIN:VEVENT
DTSTART;TZID=America/Kentucky/Louisville:20251220T173000
DTEND;TZID=America/Kentucky/Louisville:20251220T223000
DTSTAMP:20260420T003712
CREATED:20251214T163823Z
LAST-MODIFIED:20251214T163823Z
UID:76864-1766251800-1766269800@thepressboxlts.com
SUMMARY:Turfway Park Holiday Meet
DESCRIPTION:First Post: 5:55 p.m. ET \nPhoto by Coady Media
URL:https://thepressboxlts.com/event/turfway-park-holiday-meet-56/
LOCATION:Turfway Park\, Florence\, KY\, United States
ATTACH;FMTTYPE=image/jpeg:https://thepressboxlts.com/wp-content/uploads/2025/12/ZVEREV-The-Boone-County-Stakes-1st-Running-12-06-25-R07-Turfway-Park-Come-Back-03-scaled.jpg
END:VEVENT
BEGIN:VEVENT
DTSTART;TZID=America/Kentucky/Louisville:20251220T123000
DTEND;TZID=America/Kentucky/Louisville:20251220T190000
DTSTAMP:20260420T003712
CREATED:20251214T164815Z
LAST-MODIFIED:20251214T164815Z
UID:76872-1766233800-1766257200@thepressboxlts.com
SUMMARY:The Fair Grounds Winter Meet
DESCRIPTION:First Post: 12:45 p.m. CT \nPhoto Courtesy of the Fair Grounds
URL:https://thepressboxlts.com/event/the-fair-grounds-winter-meet-7/
LOCATION:Fair Grounds\, New Orleans\, LA\, United States
ATTACH;FMTTYPE=image/png:https://thepressboxlts.com/wp-content/uploads/2025/12/fairgrounds-racing-homepage-1.png
END:VEVENT
BEGIN:VEVENT
DTSTART;TZID=America/Kentucky/Louisville:20251219T173000
DTEND;TZID=America/Kentucky/Louisville:20251219T223000
DTSTAMP:20260420T003712
CREATED:20251214T163714Z
LAST-MODIFIED:20251214T163714Z
UID:76862-1766165400-1766183400@thepressboxlts.com
SUMMARY:Turfway Park Holiday Meet
DESCRIPTION:First Post: 5:55 p.m. ET \nPhoto by Coady Media
URL:https://thepressboxlts.com/event/turfway-park-holiday-meet-55/
LOCATION:Turfway Park\, Florence\, KY\, United States
ATTACH;FMTTYPE=image/jpeg:https://thepressboxlts.com/wp-content/uploads/2025/12/ZVEREV-The-Boone-County-Stakes-1st-Running-12-06-25-R07-Turfway-Park-Finish-04-Renee-Torbit-1-scaled.jpg
END:VEVENT
BEGIN:VEVENT
DTSTART;TZID=America/Kentucky/Louisville:20251219T123000
DTEND;TZID=America/Kentucky/Louisville:20251219T190000
DTSTAMP:20260420T003712
CREATED:20251214T164417Z
LAST-MODIFIED:20251214T164417Z
UID:76870-1766147400-1766170800@thepressboxlts.com
SUMMARY:The Fair Grounds Winter Meet
DESCRIPTION:First Post: 12:45 p.m. CT \nPhoto Courtesy of the Fair Grounds
URL:https://thepressboxlts.com/event/the-fair-grounds-winter-meet-6/
LOCATION:KY
ATTACH;FMTTYPE=image/jpeg:https://thepressboxlts.com/wp-content/uploads/2024/02/Pretty-Mischievous-F_2-18-2023.jpg
END:VEVENT
BEGIN:VEVENT
DTSTART;TZID=America/Kentucky/Louisville:20251218T173000
DTEND;TZID=America/Kentucky/Louisville:20251218T223000
DTSTAMP:20260420T003712
CREATED:20251214T163608Z
LAST-MODIFIED:20251214T163608Z
UID:76860-1766079000-1766097000@thepressboxlts.com
SUMMARY:Turfway Park Holiday Meet
DESCRIPTION:First Post: 5:55 p.m. ET \nPhoto by Coady Media
URL:https://thepressboxlts.com/event/turfway-park-holiday-meet-54/
LOCATION:Turfway Park\, Florence\, KY\, United States
ATTACH;FMTTYPE=image/jpeg:https://thepressboxlts.com/wp-content/uploads/2025/12/ZVEREV-The-Boone-County-Stakes-1st-Running-12-06-25-R07-Turfway-Park-Paddock-01-scaled.jpg
END:VEVENT
BEGIN:VEVENT
DTSTART;TZID=America/Kentucky/Louisville:20251218T123000
DTEND;TZID=America/Kentucky/Louisville:20251218T190000
DTSTAMP:20260420T003712
CREATED:20251214T164318Z
LAST-MODIFIED:20251214T164318Z
UID:76868-1766061000-1766084400@thepressboxlts.com
SUMMARY:The Fair Grounds Winter Meet
DESCRIPTION:First Post: 12:45 p.m. CT \nPhoto Courtesy of the Fair Grounds
URL:https://thepressboxlts.com/event/the-fair-grounds-winter-meet-5/
LOCATION:Fair Grounds\, New Orleans\, LA\, United States
ATTACH;FMTTYPE=image/jpeg:https://thepressboxlts.com/wp-content/uploads/2024/03/Behemah-Star_12-9-2023-f-sm-2.jpg
END:VEVENT
BEGIN:VEVENT
DTSTART;TZID=America/Kentucky/Louisville:20251217T173000
DTEND;TZID=America/Kentucky/Louisville:20251217T223000
DTSTAMP:20260420T003712
CREATED:20251214T163457Z
LAST-MODIFIED:20251214T163457Z
UID:76858-1765992600-1766010600@thepressboxlts.com
SUMMARY:Turfway Park Holiday Meet
DESCRIPTION:First Post: 5:55 p.m. ET \nPhoto by Coady Media
URL:https://thepressboxlts.com/event/turfway-park-holiday-meet-53/
LOCATION:Turfway Park\, Florence\, KY\, United States
ATTACH;FMTTYPE=image/jpeg:https://thepressboxlts.com/wp-content/uploads/2025/12/ZVEREV-The-Boone-County-Stakes-1st-Running-12-06-25-R07-Turfway-Park-Finish-02-Renee-Torbit-scaled.jpg
END:VEVENT
BEGIN:VEVENT
DTSTART;TZID=America/Kentucky/Louisville:20251214T123000
DTEND;TZID=America/Kentucky/Louisville:20251214T183000
DTSTAMP:20260420T003712
CREATED:20251207T163959Z
LAST-MODIFIED:20251207T163959Z
UID:76810-1765715400-1765737000@thepressboxlts.com
SUMMARY:The Fair Grounds Winter Meet
DESCRIPTION:First Post: 12:45 p.m. CT \nPhoto Courtesy of The Fair Grounds
URL:https://thepressboxlts.com/event/the-fair-grounds-winter-meet-4/
LOCATION:Fair Grounds\, New Orleans\, LA\, United States
ATTACH;FMTTYPE=image/jpeg:https://thepressboxlts.com/wp-content/uploads/2025/12/FGNO-41529-WebGraphicResizes_1120x610_6.jpg
END:VEVENT
BEGIN:VEVENT
DTSTART;TZID=America/Kentucky/Louisville:20251213T173000
DTEND;TZID=America/Kentucky/Louisville:20251213T223000
DTSTAMP:20260420T003712
CREATED:20251207T162947Z
LAST-MODIFIED:20251207T162947Z
UID:76798-1765647000-1765665000@thepressboxlts.com
SUMMARY:Turfway Park's Holiday Meet: Synthetic Championship Night
DESCRIPTION:First Post: 5:55 p.m. ET \nPhoto by Coady Media
URL:https://thepressboxlts.com/event/turfway-parks-holiday-meet-synthetic-championship-night/
LOCATION:Turfway Park\, Florence\, KY\, United States
ATTACH;FMTTYPE=image/jpeg:https://thepressboxlts.com/wp-content/uploads/2025/12/Perry-Ouzts-Jockeys-Quarters-Turfway-Park-12-06-25-03-scaled.jpg
END:VEVENT
BEGIN:VEVENT
DTSTART;TZID=America/Kentucky/Louisville:20251213T123000
DTEND;TZID=America/Kentucky/Louisville:20251213T183000
DTSTAMP:20260420T003712
CREATED:20251207T163849Z
LAST-MODIFIED:20251207T163849Z
UID:76808-1765629000-1765650600@thepressboxlts.com
SUMMARY:The Fair Grounds Winter Meet
DESCRIPTION:First Post: 12:45 p.m. CT \nPhoto Submitted
URL:https://thepressboxlts.com/event/the-fair-grounds-winter-meet-3/
LOCATION:Fair Grounds\, New Orleans\, LA\, United States
ATTACH;FMTTYPE=image/jpeg:https://thepressboxlts.com/wp-content/uploads/2025/12/IMG_0496-1-rotated.jpg
END:VEVENT
BEGIN:VEVENT
DTSTART;TZID=America/Kentucky/Louisville:20251212T173000
DTEND;TZID=America/Kentucky/Louisville:20251212T223000
DTSTAMP:20260420T003712
CREATED:20251207T162822Z
LAST-MODIFIED:20251207T162822Z
UID:76796-1765560600-1765578600@thepressboxlts.com
SUMMARY:Turfway Park's Holiday Meet
DESCRIPTION:First Post: 5:55 p.m. ET \nPhoto by Coady Media
URL:https://thepressboxlts.com/event/turfway-parks-holiday-meet-3/
LOCATION:Turfway Park\, Florence\, KY\, United States
ATTACH;FMTTYPE=image/jpeg:https://thepressboxlts.com/wp-content/uploads/2025/12/ZVEREV-The-Boone-County-Stakes-1st-Running-12-06-25-R07-Turfway-Park-Paddock-01-scaled.jpg
END:VEVENT
BEGIN:VEVENT
DTSTART;TZID=America/Kentucky/Louisville:20251212T123000
DTEND;TZID=America/Kentucky/Louisville:20251212T183000
DTSTAMP:20260420T003712
CREATED:20251207T163745Z
LAST-MODIFIED:20251207T163745Z
UID:76805-1765542600-1765564200@thepressboxlts.com
SUMMARY:The Fair Grounds Winter Meet
DESCRIPTION:First Post: 12:45 p.m. CT \nPhoto Courtesy of The Fair Grounds
URL:https://thepressboxlts.com/event/the-fair-grounds-winter-meet-2/
LOCATION:Fair Grounds\, New Orleans\, LA\, United States
ATTACH;FMTTYPE=image/jpeg:https://thepressboxlts.com/wp-content/uploads/2025/12/Wagering-Information-Hero-Image-1024x549-1.jpg
END:VEVENT
BEGIN:VEVENT
DTSTART;TZID=America/Kentucky/Louisville:20251211T173000
DTEND;TZID=America/Kentucky/Louisville:20251211T223000
DTSTAMP:20260420T003712
CREATED:20251207T162711Z
LAST-MODIFIED:20251207T162711Z
UID:76794-1765474200-1765492200@thepressboxlts.com
SUMMARY:Turfway Park's Holiday Meet
DESCRIPTION:First Post: 5:55 p.m. ET \nPhoto by Coady Media
URL:https://thepressboxlts.com/event/turfway-parks-holiday-meet-2/
LOCATION:Turfway Park\, Florence\, KY\, United States
ATTACH;FMTTYPE=image/jpeg:https://thepressboxlts.com/wp-content/uploads/2025/12/ZVEREV-The-Boone-County-Stakes-1st-Running-12-06-25-R07-Turfway-Park-Finish-02-Renee-Torbit-scaled.jpg
END:VEVENT
BEGIN:VEVENT
DTSTART;TZID=America/Kentucky/Louisville:20251211T123000
DTEND;TZID=America/Kentucky/Louisville:20251211T183000
DTSTAMP:20260420T003712
CREATED:20251207T163540Z
LAST-MODIFIED:20251207T163540Z
UID:76803-1765456200-1765477800@thepressboxlts.com
SUMMARY:The Fair Grounds Winter Meet
DESCRIPTION:First Post: 12:45 p.m. CT \nPhoto Courtesy of the Fair Grounds
URL:https://thepressboxlts.com/event/the-fair-grounds-winter-meet/
LOCATION:Fair Grounds\, New Orleans\, LA\, United States
ATTACH;FMTTYPE=image/jpeg:https://thepressboxlts.com/wp-content/uploads/2024/02/Pretty-Mischievous-F_2-18-2023.jpg
END:VEVENT
BEGIN:VEVENT
DTSTART;TZID=America/Kentucky/Louisville:20251210T173000
DTEND;TZID=America/Kentucky/Louisville:20251210T223000
DTSTAMP:20260420T003712
CREATED:20251207T162603Z
LAST-MODIFIED:20251207T162603Z
UID:76792-1765387800-1765405800@thepressboxlts.com
SUMMARY:Turfway Park's Holiday Meet
DESCRIPTION:First Post: 5:55 p.m. ET \nPhoto by Coady Media
URL:https://thepressboxlts.com/event/turfway-parks-holiday-meet/
LOCATION:Turfway Park\, Florence\, KY\, United States
ATTACH;FMTTYPE=image/jpeg:https://thepressboxlts.com/wp-content/uploads/2025/12/ZVEREV-The-Boone-County-Stakes-1st-Running-12-06-25-R07-Turfway-Park-Come-Back-03-scaled.jpg
END:VEVENT
BEGIN:VEVENT
DTSTART;TZID=America/Kentucky/Louisville:20251207T123000
DTEND;TZID=America/Kentucky/Louisville:20251207T183000
DTSTAMP:20260420T003712
CREATED:20251207T163222Z
LAST-MODIFIED:20251207T163353Z
UID:76800-1765110600-1765132200@thepressboxlts.com
SUMMARY:The Fair Grounds Winter Meet
DESCRIPTION:First Post: 12:45 p.m. CT \nPhoto by Coady Media
URL:https://thepressboxlts.com/event/the-fairgrounds-winter-meet-5/
LOCATION:Fair Grounds\, New Orleans\, LA\, United States
ATTACH;FMTTYPE=image/jpeg:https://thepressboxlts.com/wp-content/uploads/2024/03/Behemah-Star_12-9-2023-f-sm-2.jpg
END:VEVENT
BEGIN:VEVENT
DTSTART;TZID=America/Kentucky/Louisville:20251206T173000
DTEND;TZID=America/Kentucky/Louisville:20251206T220000
DTSTAMP:20260420T003712
CREATED:20251130T213910Z
LAST-MODIFIED:20251130T213910Z
UID:76626-1765042200-1765058400@thepressboxlts.com
SUMMARY:Turfway Park Holiday Meet
DESCRIPTION:First Post: 5:55 p.m. ET \nPhoto by Coady Media
URL:https://thepressboxlts.com/event/turfway-park-holiday-meet-52/
LOCATION:Turfway Park\, Florence\, KY\, United States
ATTACH;FMTTYPE=image/jpeg:https://thepressboxlts.com/wp-content/uploads/2025/03/FINAL-GAMBIT-Jeff-Ruby-Steaks-54th-Running-03-22-25-R12-Turfway-Park-Luan-Machado-06-Kurtis-Coady-scaled.jpg
END:VEVENT
BEGIN:VEVENT
DTSTART;TZID=America/Kentucky/Louisville:20251205T173000
DTEND;TZID=America/Kentucky/Louisville:20251205T220000
DTSTAMP:20260420T003712
CREATED:20251130T213746Z
LAST-MODIFIED:20251130T213746Z
UID:76624-1764955800-1764972000@thepressboxlts.com
SUMMARY:Turfway Park Holiday Meet
DESCRIPTION:First Post: 5:55 p.m. ET \nPhoto by Coady Media
URL:https://thepressboxlts.com/event/turfway-park-holiday-meet-51/
LOCATION:Turfway Park\, Florence\, KY\, United States
ATTACH;FMTTYPE=image/jpeg:https://thepressboxlts.com/wp-content/uploads/2025/03/FINAL-GAMBIT-Jeff-Ruby-Steaks-54th-Running-03-22-25-R12-Turfway-Park-Start-01-Kurtis-Coady-scaled.jpg
END:VEVENT
BEGIN:VEVENT
DTSTART;TZID=America/Kentucky/Louisville:20251204T173000
DTEND;TZID=America/Kentucky/Louisville:20251204T220000
DTSTAMP:20260420T003712
CREATED:20251130T213620Z
LAST-MODIFIED:20251130T213620Z
UID:76622-1764869400-1764885600@thepressboxlts.com
SUMMARY:Turfway Park Holiday Meet
DESCRIPTION:First Post: 5:55 p.m. ET \nPhoto by Coady Media
URL:https://thepressboxlts.com/event/turfway-park-holiday-meet-50/
LOCATION:Turfway Park\, Florence\, KY\, United States
ATTACH;FMTTYPE=image/jpeg:https://thepressboxlts.com/wp-content/uploads/2025/11/FINAL-GAMBIT-Jeff-Ruby-Steaks-54th-Running-03-22-25-R12-Turfway-Park-Luan-Machado-07-Christine-Hayden-1-scaled.jpg
END:VEVENT
BEGIN:VEVENT
DTSTART;TZID=America/Kentucky/Louisville:20251203T173000
DTEND;TZID=America/Kentucky/Louisville:20251203T220000
DTSTAMP:20260420T003712
CREATED:20251130T213458Z
LAST-MODIFIED:20251130T213458Z
UID:76620-1764783000-1764799200@thepressboxlts.com
SUMMARY:Turfway Park Holiday Meet -- Begins Wednesday\, Dec. 3
DESCRIPTION:First Post: 5:55 p.m. ET \nPhoto by Coady Media
URL:https://thepressboxlts.com/event/turfway-park-holiday-meet-begins-wednesday-dec-3/
LOCATION:Turfway Park\, Florence\, KY\, United States
ATTACH;FMTTYPE=image/jpeg:https://thepressboxlts.com/wp-content/uploads/2025/11/Scenics-TP-120123-06-2-scaled.jpg
END:VEVENT
BEGIN:VEVENT
DTSTART;TZID=America/Kentucky/Louisville:20251130T130000
DTEND;TZID=America/Kentucky/Louisville:20251130T183000
DTSTAMP:20260420T003712
CREATED:20251126T164352Z
LAST-MODIFIED:20251126T164352Z
UID:76469-1764507600-1764527400@thepressboxlts.com
SUMMARY:Churchill Downs Fall Meet: Last Day of Live Racing 2025
DESCRIPTION:First Post: 1 p.m. ET \nPhoto by Holly M. Smith
URL:https://thepressboxlts.com/event/churchill-downs-fall-meet-last-day-of-live-racing-2025/
LOCATION:Churchill Downs\, Louisville\, KY\, United States
ATTACH;FMTTYPE=image/jpeg:https://thepressboxlts.com/wp-content/uploads/2025/11/HMS_5235-ponies-scaled.jpg
END:VEVENT
BEGIN:VEVENT
DTSTART;TZID=America/Kentucky/Louisville:20251129T130000
DTEND;TZID=America/Kentucky/Louisville:20251129T183000
DTSTAMP:20260420T003712
CREATED:20251126T164242Z
LAST-MODIFIED:20251126T164242Z
UID:76467-1764421200-1764441000@thepressboxlts.com
SUMMARY:Churchill Downs Fall Meet -- "Stars of Tomorrow II"
DESCRIPTION:First Post: 1 p.m. ET \nPhoto by Holly M. Smith
URL:https://thepressboxlts.com/event/churchill-downs-fall-meet-stars-of-tomorrow-ii/
LOCATION:Churchill Downs\, Louisville\, KY\, United States
ATTACH;FMTTYPE=image/jpeg:https://thepressboxlts.com/wp-content/uploads/2025/11/HMS_5227-giocoso-scaled.jpg
END:VEVENT
BEGIN:VEVENT
DTSTART;TZID=America/Kentucky/Louisville:20251128T130000
DTEND;TZID=America/Kentucky/Louisville:20251128T183000
DTSTAMP:20260420T003712
CREATED:20251126T163932Z
LAST-MODIFIED:20251126T163932Z
UID:76465-1764334800-1764354600@thepressboxlts.com
SUMMARY:Churchill Downs Fall Meet
DESCRIPTION:First Post: 1 p.m. ET \nPhoto by Holly M. Smith
URL:https://thepressboxlts.com/event/churchill-downs-fall-meet-59/
LOCATION:Churchill Downs\, Louisville\, KY\, United States
ATTACH;FMTTYPE=image/jpeg:https://thepressboxlts.com/wp-content/uploads/2025/11/HMS_5111-giocoso-scaled.jpg
END:VEVENT
END:VCALENDAR