BEGIN:VCALENDAR
VERSION:2.0
PRODID:-//The Pressbox - ECPv6.15.19//NONSGML v1.0//EN
CALSCALE:GREGORIAN
METHOD:PUBLISH
X-WR-CALNAME:The Pressbox
X-ORIGINAL-URL:https://thepressboxlts.com
X-WR-CALDESC:Events for The Pressbox
REFRESH-INTERVAL;VALUE=DURATION:PT1H
X-Robots-Tag:noindex
X-PUBLISHED-TTL:PT1H
BEGIN:VTIMEZONE
TZID:America/Kentucky/Louisville
BEGIN:DAYLIGHT
TZOFFSETFROM:-0500
TZOFFSETTO:-0400
TZNAME:EDT
DTSTART:20210314T070000
END:DAYLIGHT
BEGIN:STANDARD
TZOFFSETFROM:-0400
TZOFFSETTO:-0500
TZNAME:EST
DTSTART:20211107T060000
END:STANDARD
BEGIN:DAYLIGHT
TZOFFSETFROM:-0500
TZOFFSETTO:-0400
TZNAME:EDT
DTSTART:20220313T070000
END:DAYLIGHT
BEGIN:STANDARD
TZOFFSETFROM:-0400
TZOFFSETTO:-0500
TZNAME:EST
DTSTART:20221106T060000
END:STANDARD
BEGIN:DAYLIGHT
TZOFFSETFROM:-0500
TZOFFSETTO:-0400
TZNAME:EDT
DTSTART:20230312T070000
END:DAYLIGHT
BEGIN:STANDARD
TZOFFSETFROM:-0400
TZOFFSETTO:-0500
TZNAME:EST
DTSTART:20231105T060000
END:STANDARD
END:VTIMEZONE
BEGIN:VEVENT
DTSTART;TZID=America/Kentucky/Louisville:20220808T140000
DTEND;TZID=America/Kentucky/Louisville:20220808T193000
DTSTAMP:20260423T200514
CREATED:20220807T132547Z
LAST-MODIFIED:20220807T132547Z
UID:49563-1659967200-1659987000@thepressboxlts.com
SUMMARY:Horseshoe Indianapolis Summer Meet
DESCRIPTION:First Post: 2 p.m. ET
URL:https://thepressboxlts.com/event/horseshoe-indianapolis-summer-meet-37/
LOCATION:Horseshoe Indianapolis\, Shelbyville\, IN\, United States
END:VEVENT
BEGIN:VEVENT
DTSTART;TZID=America/Kentucky/Louisville:20220807T123000
DTEND;TZID=America/Kentucky/Louisville:20220807T193000
DTSTAMP:20260423T200514
CREATED:20220731T235639Z
LAST-MODIFIED:20220731T235639Z
UID:49430-1659875400-1659900600@thepressboxlts.com
SUMMARY:Ellis Park Summer Meet
DESCRIPTION:First Post: 12:30 p.m. CT
URL:https://thepressboxlts.com/event/ellis-park-summer-meet-56/
LOCATION:Ellis Park\, Henderson\, KY\, United States
END:VEVENT
BEGIN:VEVENT
DTSTART;TZID=America/Kentucky/Louisville:20220806T123000
DTEND;TZID=America/Kentucky/Louisville:20220806T193000
DTSTAMP:20260423T200514
CREATED:20220731T235504Z
LAST-MODIFIED:20220731T235504Z
UID:49428-1659789000-1659814200@thepressboxlts.com
SUMMARY:Ellis Park Summer Meet
DESCRIPTION:First Post: 12:30 p.m. ET \nPhoto by Coady Photography
URL:https://thepressboxlts.com/event/ellis-park-summer-meet-55/
LOCATION:Ellis Park\, Henderson\, KY\, United States
END:VEVENT
BEGIN:VEVENT
DTSTART;TZID=America/Kentucky/Louisville:20220805T123000
DTEND;TZID=America/Kentucky/Louisville:20220805T193000
DTSTAMP:20260423T200514
CREATED:20220731T235306Z
LAST-MODIFIED:20220731T235306Z
UID:49426-1659702600-1659727800@thepressboxlts.com
SUMMARY:Ellis Park Summer Meet
DESCRIPTION:First Post: 12:30 p.m. CT
URL:https://thepressboxlts.com/event/ellis-park-summer-meet-54/
LOCATION:Ellis Park\, Henderson\, KY\, United States
END:VEVENT
BEGIN:VEVENT
DTSTART;TZID=America/Kentucky/Louisville:20220804T143000
DTEND;TZID=America/Kentucky/Louisville:20220804T203000
DTSTAMP:20260423T200514
CREATED:20220731T235102Z
LAST-MODIFIED:20220731T235102Z
UID:49423-1659623400-1659645000@thepressboxlts.com
SUMMARY:Horseshoe Indianapolis Summer Meet
DESCRIPTION:First Post: 2:30 p.m. ET
URL:https://thepressboxlts.com/event/horseshoe-indianapolis-summer-meet-36/
LOCATION:Horseshoe Indianapolis\, Shelbyville\, IN\, United States
END:VEVENT
BEGIN:VEVENT
DTSTART;TZID=America/Kentucky/Louisville:20220803T143000
DTEND;TZID=America/Kentucky/Louisville:20220803T203000
DTSTAMP:20260423T200514
CREATED:20220731T234953Z
LAST-MODIFIED:20220731T235158Z
UID:49420-1659537000-1659558600@thepressboxlts.com
SUMMARY:Horseshoe Indianapolis Summer Meet
DESCRIPTION:First Post: 2:30 p.m. ET
URL:https://thepressboxlts.com/event/horseshoe-indianapolis-summer-meet-35/
LOCATION:Horseshoe Indianapolis\, Shelbyville\, IN\, United States
END:VEVENT
BEGIN:VEVENT
DTSTART;TZID=America/Kentucky/Louisville:20220802T143000
DTEND;TZID=America/Kentucky/Louisville:20220802T203000
DTSTAMP:20260423T200514
CREATED:20220731T234920Z
LAST-MODIFIED:20220731T234920Z
UID:49418-1659450600-1659472200@thepressboxlts.com
SUMMARY:Horseshoe Indianapolis Summer Meet
DESCRIPTION:
URL:https://thepressboxlts.com/event/horseshoe-indianapolis-summer-meet-34/
LOCATION:Horseshoe Indianapolis\, Shelbyville\, IN\, United States
END:VEVENT
BEGIN:VEVENT
DTSTART;TZID=America/Kentucky/Louisville:20220731T123000
DTEND;TZID=America/Kentucky/Louisville:20220731T193000
DTSTAMP:20260423T200514
CREATED:20220725T161631Z
LAST-MODIFIED:20220725T161631Z
UID:49227-1659270600-1659295800@thepressboxlts.com
SUMMARY:Ellis Park Summer Meet
DESCRIPTION:First Post: 12:50 p.m. CT \nPhoto by Coady Photography
URL:https://thepressboxlts.com/event/ellis-park-summer-meet-53/
LOCATION:Ellis Park\, Henderson\, KY\, United States
END:VEVENT
BEGIN:VEVENT
DTSTART;TZID=America/Kentucky/Louisville:20220730T123000
DTEND;TZID=America/Kentucky/Louisville:20220730T193000
DTSTAMP:20260423T200514
CREATED:20220725T161526Z
LAST-MODIFIED:20220725T161526Z
UID:49225-1659184200-1659209400@thepressboxlts.com
SUMMARY:Ellis Park Summer Meet
DESCRIPTION:First Post: 12:50 p.m. CT \nPhoto by Coady Photography
URL:https://thepressboxlts.com/event/ellis-park-summer-meet-52/
LOCATION:Ellis Park\, Henderson\, KY\, United States
END:VEVENT
BEGIN:VEVENT
DTSTART;TZID=America/Kentucky/Louisville:20220729T123000
DTEND;TZID=America/Kentucky/Louisville:20220729T200000
DTSTAMP:20260423T200514
CREATED:20220725T161407Z
LAST-MODIFIED:20220725T161407Z
UID:49223-1659097800-1659124800@thepressboxlts.com
SUMMARY:Ellis Park Summer Meet
DESCRIPTION:First Post: 12:50 p.m. CT \nPhoto by Coady Photography
URL:https://thepressboxlts.com/event/ellis-park-summer-meet-51/
LOCATION:Ellis Park\, Henderson\, KY\, United States
END:VEVENT
BEGIN:VEVENT
DTSTART;TZID=America/Kentucky/Louisville:20220724T123000
DTEND;TZID=America/Kentucky/Louisville:20220724T193000
DTSTAMP:20260423T200514
CREATED:20220718T184259Z
LAST-MODIFIED:20220718T184259Z
UID:49095-1658665800-1658691000@thepressboxlts.com
SUMMARY:Ellis Park Summer Meet
DESCRIPTION:First Post: 12:45 p.m. CT \n \n(Current / Coady Photography)
URL:https://thepressboxlts.com/event/ellis-park-summer-meet-50/
LOCATION:Ellis Park\, Henderson\, KY\, United States
END:VEVENT
BEGIN:VEVENT
DTSTART;TZID=America/Kentucky/Louisville:20220723T123000
DTEND;TZID=America/Kentucky/Louisville:20220723T193000
DTSTAMP:20260423T200514
CREATED:20220718T184154Z
LAST-MODIFIED:20220718T184154Z
UID:49093-1658579400-1658604600@thepressboxlts.com
SUMMARY:Ellis Park Summer Meet
DESCRIPTION:First Post: 12:45 p.m. ET \nPhoto: Current / Coady Photography
URL:https://thepressboxlts.com/event/ellis-park-summer-meet-49/
LOCATION:Ellis Park\, Henderson\, KY\, United States
END:VEVENT
BEGIN:VEVENT
DTSTART;TZID=America/Kentucky/Louisville:20220722T123000
DTEND;TZID=America/Kentucky/Louisville:20220722T170000
DTSTAMP:20260423T200514
CREATED:20220718T184034Z
LAST-MODIFIED:20220718T184034Z
UID:49091-1658493000-1658509200@thepressboxlts.com
SUMMARY:Ellis Park Summer Meet
DESCRIPTION:First Post: 12:45 p.m. CT \nCoady Photography
URL:https://thepressboxlts.com/event/ellis-park-summer-meet-48/
LOCATION:Ellis Park\, Henderson\, KY\, United States
END:VEVENT
BEGIN:VEVENT
DTSTART;TZID=America/Kentucky/Louisville:20220721T103000
DTEND;TZID=America/Kentucky/Louisville:20220721T150000
DTSTAMP:20260423T200514
CREATED:20220718T183845Z
LAST-MODIFIED:20220719T140019Z
UID:49089-1658399400-1658415600@thepressboxlts.com
SUMMARY:Horseshoe Indianapolis Summer Meet
DESCRIPTION:First Post: 10:30 a.m. — Early Post Due To Heat
URL:https://thepressboxlts.com/event/horseshoe-indianapolis-summer-meet-33/
LOCATION:Horseshoe Indianapolis\, Shelbyville\, IN\, United States
END:VEVENT
BEGIN:VEVENT
DTSTART;TZID=America/Kentucky/Louisville:20220720T103000
DTEND;TZID=America/Kentucky/Louisville:20220720T153000
DTSTAMP:20260423T200514
CREATED:20220718T183615Z
LAST-MODIFIED:20220719T140142Z
UID:49087-1658313000-1658331000@thepressboxlts.com
SUMMARY:Horseshoe Indianapolis Summer Meet
DESCRIPTION:First Post: 10:30 a.m. ET — Early Post Due to Heat Advisory
URL:https://thepressboxlts.com/event/horseshoe-indianapolis-summer-meet-32/
LOCATION:Horseshoe Indianapolis\, Shelbyville\, IN\, United States
END:VEVENT
BEGIN:VEVENT
DTSTART;TZID=America/Kentucky/Louisville:20220719T140000
DTEND;TZID=America/Kentucky/Louisville:20220719T190000
DTSTAMP:20260423T200514
CREATED:20220718T183458Z
LAST-MODIFIED:20220718T183458Z
UID:49085-1658239200-1658257200@thepressboxlts.com
SUMMARY:Horseshoe Indianapolis Summer Meet
DESCRIPTION:
URL:https://thepressboxlts.com/event/horseshoe-indianapolis-summer-meet-31/
LOCATION:Horseshoe Indianapolis\, Shelbyville\, IN\, United States
END:VEVENT
BEGIN:VEVENT
DTSTART;TZID=America/Kentucky/Louisville:20220718T140000
DTEND;TZID=America/Kentucky/Louisville:20220718T190000
DTSTAMP:20260423T200514
CREATED:20220718T183401Z
LAST-MODIFIED:20220718T183401Z
UID:49083-1658152800-1658170800@thepressboxlts.com
SUMMARY:Horseshoe Indianapolis Summer Meet
DESCRIPTION:First Post: 2:10 p.m. ET
URL:https://thepressboxlts.com/event/horseshoe-indianapolis-summer-meet-30/
LOCATION:Horseshoe Indianapolis\, Shelbyville\, IN\, United States
END:VEVENT
BEGIN:VEVENT
DTSTART;TZID=America/Kentucky/Louisville:20220717T123000
DTEND;TZID=America/Kentucky/Louisville:20220717T183000
DTSTAMP:20260423T200514
CREATED:20220714T121113Z
LAST-MODIFIED:20220714T121113Z
UID:48980-1658061000-1658082600@thepressboxlts.com
SUMMARY:Ellis Park Summer Meet
DESCRIPTION:First Post: 12:45 p.m. CT \nPhoto by Coady Photography
URL:https://thepressboxlts.com/event/ellis-park-summer-meet-47/
LOCATION:Ellis Park\, Henderson\, KY\, United States
END:VEVENT
BEGIN:VEVENT
DTSTART;TZID=America/Kentucky/Louisville:20220716T123000
DTEND;TZID=America/Kentucky/Louisville:20220716T190000
DTSTAMP:20260423T200514
CREATED:20220711T231809Z
LAST-MODIFIED:20220711T231809Z
UID:48940-1657974600-1657998000@thepressboxlts.com
SUMMARY:Ellis Park Summer Meet
DESCRIPTION:First Post: 12:50 p.m. CT \nPhoto by Coady Photography
URL:https://thepressboxlts.com/event/ellis-park-summer-meet-45/
LOCATION:Ellis Park\, Henderson\, KY\, United States
END:VEVENT
BEGIN:VEVENT
DTSTART;TZID=America/Kentucky/Louisville:20220715T123000
DTEND;TZID=America/Kentucky/Louisville:20220715T190000
DTSTAMP:20260423T200514
CREATED:20220711T231710Z
LAST-MODIFIED:20220711T231710Z
UID:48937-1657888200-1657911600@thepressboxlts.com
SUMMARY:Ellis Park Summer Meet
DESCRIPTION:First Post: 12:50 p.m. CT \nPhoto by Coady Photography
URL:https://thepressboxlts.com/event/ellis-park-summer-meet-44/
LOCATION:Ellis Park\, Henderson\, KY\, United States
END:VEVENT
BEGIN:VEVENT
DTSTART;TZID=America/Kentucky/Louisville:20220714T140000
DTEND;TZID=America/Kentucky/Louisville:20220714T193000
DTSTAMP:20260423T200514
CREATED:20220710T222927Z
LAST-MODIFIED:20220710T222927Z
UID:48925-1657807200-1657827000@thepressboxlts.com
SUMMARY:Horseshoe Indianapolis Summer Meet
DESCRIPTION:First Post: 2:15 p.m. ET \nPhoto by Coady Photography
URL:https://thepressboxlts.com/event/horseshoe-indianapolis-summer-meet-29/
LOCATION:Horseshoe Indianapolis\, Shelbyville\, IN\, United States
END:VEVENT
BEGIN:VEVENT
DTSTART;TZID=America/Kentucky/Louisville:20220713T140000
DTEND;TZID=America/Kentucky/Louisville:20220713T193000
DTSTAMP:20260423T200514
CREATED:20220710T222833Z
LAST-MODIFIED:20220710T222833Z
UID:48923-1657720800-1657740600@thepressboxlts.com
SUMMARY:Horseshoe Indianapolis Summer Meet
DESCRIPTION:First Post: 2:15 p.m. ET \nPhoto by Coady Photography
URL:https://thepressboxlts.com/event/horseshoe-indianapolis-summer-meet-28/
LOCATION:Horseshoe Indianapolis\, Shelbyville\, IN\, United States
END:VEVENT
BEGIN:VEVENT
DTSTART;TZID=America/Kentucky/Louisville:20220712T140000
DTEND;TZID=America/Kentucky/Louisville:20220712T193000
DTSTAMP:20260423T200514
CREATED:20220710T222724Z
LAST-MODIFIED:20220710T222724Z
UID:48921-1657634400-1657654200@thepressboxlts.com
SUMMARY:Horseshoe Indianapolis Summer Meet
DESCRIPTION:First Post: 2:15 p.m. ET \nPhoto by Coady Photography
URL:https://thepressboxlts.com/event/horseshoe-indianapolis-summer-meet-27/
LOCATION:Horseshoe Indianapolis\, Shelbyville\, IN\, United States
END:VEVENT
BEGIN:VEVENT
DTSTART;TZID=America/Kentucky/Louisville:20220711T140000
DTEND;TZID=America/Kentucky/Louisville:20220711T190000
DTSTAMP:20260423T200514
CREATED:20220710T222005Z
LAST-MODIFIED:20220710T222005Z
UID:48914-1657548000-1657566000@thepressboxlts.com
SUMMARY:Horseshoe Indianapolis Summer Meet
DESCRIPTION:First Post: 2:15 p.m. ET \nPhoto by Coady Photography
URL:https://thepressboxlts.com/event/horseshoe-indianapolis-summer-meet-26/
LOCATION:Horseshoe Indianapolis\, Shelbyville\, IN\, United States
END:VEVENT
BEGIN:VEVENT
DTSTART;TZID=America/Kentucky/Louisville:20220711T080000
DTEND;TZID=America/Kentucky/Louisville:20220711T170000
DTSTAMP:20260423T200514
CREATED:20220711T232041Z
LAST-MODIFIED:20220711T232041Z
UID:48942-1657526400-1657558800@thepressboxlts.com
SUMMARY:Ellis Park Summer Meet
DESCRIPTION:First Post: 12:50 p.m. CT \nPhoto by Coady Photography
URL:https://thepressboxlts.com/event/ellis-park-summer-meet-46/
LOCATION:IN
END:VEVENT
BEGIN:VEVENT
DTSTART;TZID=America/Kentucky/Louisville:20220710T130000
DTEND;TZID=America/Kentucky/Louisville:20220710T190000
DTSTAMP:20260423T200514
CREATED:20220702T165222Z
LAST-MODIFIED:20220702T165222Z
UID:48586-1657458000-1657479600@thepressboxlts.com
SUMMARY:Ellis Park Summer Meet
DESCRIPTION:First Post: 1 p.m. CT \nThe Dade Park Dash \nRunhappy Dollar Day
URL:https://thepressboxlts.com/event/ellis-park-summer-meet-43/
LOCATION:Ellis Park\, Henderson\, KY\, United States
END:VEVENT
BEGIN:VEVENT
DTSTART;TZID=America/Kentucky/Louisville:20220709T130000
DTEND;TZID=America/Kentucky/Louisville:20220709T190000
DTSTAMP:20260423T200514
CREATED:20220702T165106Z
LAST-MODIFIED:20220702T165106Z
UID:48584-1657371600-1657393200@thepressboxlts.com
SUMMARY:Ellis Park Summer Meet
DESCRIPTION:First Post: 1 p.m. CT \nPea Patch Overnight Stakes \nField & Main “Family Day”
URL:https://thepressboxlts.com/event/ellis-park-summer-meet-42/
LOCATION:Ellis Park\, Henderson\, KY\, United States
CATEGORIES:Stakes Race
END:VEVENT
BEGIN:VEVENT
DTSTART;TZID=America/Kentucky/Louisville:20220708T130000
DTEND;TZID=America/Kentucky/Louisville:20220708T190000
DTSTAMP:20260423T200514
CREATED:20220702T164951Z
LAST-MODIFIED:20220702T164951Z
UID:48582-1657285200-1657306800@thepressboxlts.com
SUMMARY:Ellis Park Summer Meet
DESCRIPTION:Opening Day at the Track \nMorning Works from 6 a.m. to 9 a.m. \nBreakfast for Sale \n 
URL:https://thepressboxlts.com/event/ellis-park-summer-meet-41/
LOCATION:Ellis Park\, Henderson\, KY\, United States
END:VEVENT
BEGIN:VEVENT
DTSTART;TZID=America/Kentucky/Louisville:20220707T143000
DTEND;TZID=America/Kentucky/Louisville:20220707T203000
DTSTAMP:20260423T200514
CREATED:20220702T164600Z
LAST-MODIFIED:20220702T164600Z
UID:48580-1657204200-1657225800@thepressboxlts.com
SUMMARY:Horseshoe Indianapolis Summer Meet
DESCRIPTION:First Post: 2:30 p.m. ET
URL:https://thepressboxlts.com/event/horseshoe-indianapolis-summer-meet-25/
LOCATION:Horseshoe Indianapolis\, Shelbyville\, IN\, United States
END:VEVENT
BEGIN:VEVENT
DTSTART;TZID=America/Kentucky/Louisville:20220706T143000
DTEND;TZID=America/Kentucky/Louisville:20220706T203000
DTSTAMP:20260423T200514
CREATED:20220702T164459Z
LAST-MODIFIED:20220702T164459Z
UID:48578-1657117800-1657139400@thepressboxlts.com
SUMMARY:Horseshoe Indianapolis Summer Meet
DESCRIPTION:First Post: 2:30 p.m. ET
URL:https://thepressboxlts.com/event/horseshoe-indianapolis-summer-meet-24/
LOCATION:Horseshoe Indianapolis\, Shelbyville\, IN\, United States
END:VEVENT
END:VCALENDAR