BEGIN:VCALENDAR
VERSION:2.0
PRODID:-//The Pressbox - ECPv6.15.19//NONSGML v1.0//EN
CALSCALE:GREGORIAN
METHOD:PUBLISH
X-WR-CALNAME:The Pressbox
X-ORIGINAL-URL:https://thepressboxlts.com
X-WR-CALDESC:Events for The Pressbox
REFRESH-INTERVAL;VALUE=DURATION:PT1H
X-Robots-Tag:noindex
X-PUBLISHED-TTL:PT1H
BEGIN:VTIMEZONE
TZID:America/Kentucky/Louisville
BEGIN:DAYLIGHT
TZOFFSETFROM:-0500
TZOFFSETTO:-0400
TZNAME:EDT
DTSTART:20210314T070000
END:DAYLIGHT
BEGIN:STANDARD
TZOFFSETFROM:-0400
TZOFFSETTO:-0500
TZNAME:EST
DTSTART:20211107T060000
END:STANDARD
BEGIN:DAYLIGHT
TZOFFSETFROM:-0500
TZOFFSETTO:-0400
TZNAME:EDT
DTSTART:20220313T070000
END:DAYLIGHT
BEGIN:STANDARD
TZOFFSETFROM:-0400
TZOFFSETTO:-0500
TZNAME:EST
DTSTART:20221106T060000
END:STANDARD
BEGIN:DAYLIGHT
TZOFFSETFROM:-0500
TZOFFSETTO:-0400
TZNAME:EDT
DTSTART:20230312T070000
END:DAYLIGHT
BEGIN:STANDARD
TZOFFSETFROM:-0400
TZOFFSETTO:-0500
TZNAME:EST
DTSTART:20231105T060000
END:STANDARD
END:VTIMEZONE
BEGIN:VEVENT
DTSTART;TZID=America/Kentucky/Louisville:20220713T140000
DTEND;TZID=America/Kentucky/Louisville:20220713T193000
DTSTAMP:20260424T004540
CREATED:20220710T222833Z
LAST-MODIFIED:20220710T222833Z
UID:48923-1657720800-1657740600@thepressboxlts.com
SUMMARY:Horseshoe Indianapolis Summer Meet
DESCRIPTION:First Post: 2:15 p.m. ET \nPhoto by Coady Photography
URL:https://thepressboxlts.com/event/horseshoe-indianapolis-summer-meet-28/
LOCATION:Horseshoe Indianapolis\, Shelbyville\, IN\, United States
END:VEVENT
BEGIN:VEVENT
DTSTART;TZID=America/Kentucky/Louisville:20220712T140000
DTEND;TZID=America/Kentucky/Louisville:20220712T193000
DTSTAMP:20260424T004540
CREATED:20220710T222724Z
LAST-MODIFIED:20220710T222724Z
UID:48921-1657634400-1657654200@thepressboxlts.com
SUMMARY:Horseshoe Indianapolis Summer Meet
DESCRIPTION:First Post: 2:15 p.m. ET \nPhoto by Coady Photography
URL:https://thepressboxlts.com/event/horseshoe-indianapolis-summer-meet-27/
LOCATION:Horseshoe Indianapolis\, Shelbyville\, IN\, United States
END:VEVENT
BEGIN:VEVENT
DTSTART;TZID=America/Kentucky/Louisville:20220711T140000
DTEND;TZID=America/Kentucky/Louisville:20220711T190000
DTSTAMP:20260424T004540
CREATED:20220710T222005Z
LAST-MODIFIED:20220710T222005Z
UID:48914-1657548000-1657566000@thepressboxlts.com
SUMMARY:Horseshoe Indianapolis Summer Meet
DESCRIPTION:First Post: 2:15 p.m. ET \nPhoto by Coady Photography
URL:https://thepressboxlts.com/event/horseshoe-indianapolis-summer-meet-26/
LOCATION:Horseshoe Indianapolis\, Shelbyville\, IN\, United States
END:VEVENT
BEGIN:VEVENT
DTSTART;TZID=America/Kentucky/Louisville:20220711T080000
DTEND;TZID=America/Kentucky/Louisville:20220711T170000
DTSTAMP:20260424T004540
CREATED:20220711T232041Z
LAST-MODIFIED:20220711T232041Z
UID:48942-1657526400-1657558800@thepressboxlts.com
SUMMARY:Ellis Park Summer Meet
DESCRIPTION:First Post: 12:50 p.m. CT \nPhoto by Coady Photography
URL:https://thepressboxlts.com/event/ellis-park-summer-meet-46/
LOCATION:KY
END:VEVENT
BEGIN:VEVENT
DTSTART;TZID=America/Kentucky/Louisville:20220710T130000
DTEND;TZID=America/Kentucky/Louisville:20220710T190000
DTSTAMP:20260424T004540
CREATED:20220702T165222Z
LAST-MODIFIED:20220702T165222Z
UID:48586-1657458000-1657479600@thepressboxlts.com
SUMMARY:Ellis Park Summer Meet
DESCRIPTION:First Post: 1 p.m. CT \nThe Dade Park Dash \nRunhappy Dollar Day
URL:https://thepressboxlts.com/event/ellis-park-summer-meet-43/
LOCATION:Ellis Park\, Henderson\, KY\, United States
END:VEVENT
BEGIN:VEVENT
DTSTART;TZID=America/Kentucky/Louisville:20220709T130000
DTEND;TZID=America/Kentucky/Louisville:20220709T190000
DTSTAMP:20260424T004540
CREATED:20220702T165106Z
LAST-MODIFIED:20220702T165106Z
UID:48584-1657371600-1657393200@thepressboxlts.com
SUMMARY:Ellis Park Summer Meet
DESCRIPTION:First Post: 1 p.m. CT \nPea Patch Overnight Stakes \nField & Main “Family Day”
URL:https://thepressboxlts.com/event/ellis-park-summer-meet-42/
LOCATION:Ellis Park\, Henderson\, KY\, United States
CATEGORIES:Stakes Race
END:VEVENT
BEGIN:VEVENT
DTSTART;TZID=America/Kentucky/Louisville:20220708T130000
DTEND;TZID=America/Kentucky/Louisville:20220708T190000
DTSTAMP:20260424T004540
CREATED:20220702T164951Z
LAST-MODIFIED:20220702T164951Z
UID:48582-1657285200-1657306800@thepressboxlts.com
SUMMARY:Ellis Park Summer Meet
DESCRIPTION:Opening Day at the Track \nMorning Works from 6 a.m. to 9 a.m. \nBreakfast for Sale \n 
URL:https://thepressboxlts.com/event/ellis-park-summer-meet-41/
LOCATION:Ellis Park\, Henderson\, KY\, United States
END:VEVENT
BEGIN:VEVENT
DTSTART;TZID=America/Kentucky/Louisville:20220707T143000
DTEND;TZID=America/Kentucky/Louisville:20220707T203000
DTSTAMP:20260424T004540
CREATED:20220702T164600Z
LAST-MODIFIED:20220702T164600Z
UID:48580-1657204200-1657225800@thepressboxlts.com
SUMMARY:Horseshoe Indianapolis Summer Meet
DESCRIPTION:First Post: 2:30 p.m. ET
URL:https://thepressboxlts.com/event/horseshoe-indianapolis-summer-meet-25/
LOCATION:Horseshoe Indianapolis\, Shelbyville\, IN\, United States
END:VEVENT
BEGIN:VEVENT
DTSTART;TZID=America/Kentucky/Louisville:20220706T143000
DTEND;TZID=America/Kentucky/Louisville:20220706T203000
DTSTAMP:20260424T004540
CREATED:20220702T164459Z
LAST-MODIFIED:20220702T164459Z
UID:48578-1657117800-1657139400@thepressboxlts.com
SUMMARY:Horseshoe Indianapolis Summer Meet
DESCRIPTION:First Post: 2:30 p.m. ET
URL:https://thepressboxlts.com/event/horseshoe-indianapolis-summer-meet-24/
LOCATION:Horseshoe Indianapolis\, Shelbyville\, IN\, United States
END:VEVENT
BEGIN:VEVENT
DTSTART;TZID=America/Kentucky/Louisville:20220705T143000
DTEND;TZID=America/Kentucky/Louisville:20220705T203000
DTSTAMP:20260424T004540
CREATED:20220702T164409Z
LAST-MODIFIED:20220702T164409Z
UID:48576-1657031400-1657053000@thepressboxlts.com
SUMMARY:Horseshoe Indianapolis Summer Meet
DESCRIPTION:First Post: 2:30 p.m. ET
URL:https://thepressboxlts.com/event/horseshoe-indianapolis-summer-meet-23/
LOCATION:Horseshoe Indianapolis\, Shelbyville\, IN\, United States
END:VEVENT
BEGIN:VEVENT
DTSTART;TZID=America/Kentucky/Louisville:20220704T123000
DTEND;TZID=America/Kentucky/Louisville:20220704T190000
DTSTAMP:20260424T004540
CREATED:20220702T164115Z
LAST-MODIFIED:20220702T164115Z
UID:48572-1656937800-1656961200@thepressboxlts.com
SUMMARY:Churchill Downs Summer Meet
DESCRIPTION:First Post: 12:45 p.m. ET
URL:https://thepressboxlts.com/event/churchill-downs-summer-meet-19/
LOCATION:Churchill Downs\, Louisville\, KY\, United States
CATEGORIES:Stakes Race
END:VEVENT
BEGIN:VEVENT
DTSTART;TZID=America/Kentucky/Louisville:20220704T120000
DTEND;TZID=America/Kentucky/Louisville:20220704T183000
DTSTAMP:20260424T004540
CREATED:20220702T164315Z
LAST-MODIFIED:20220702T164315Z
UID:48574-1656936000-1656959400@thepressboxlts.com
SUMMARY:Horseshoe Indianapolis Summer Meet
DESCRIPTION:First Post: 12 noon ET
URL:https://thepressboxlts.com/event/horseshoe-indianapolis-summer-meet-22/
LOCATION:Horseshoe Indianapolis\, Shelbyville\, IN\, United States
END:VEVENT
BEGIN:VEVENT
DTSTART;TZID=America/Kentucky/Louisville:20220703T123000
DTEND;TZID=America/Kentucky/Louisville:20220703T190000
DTSTAMP:20260424T004540
CREATED:20220702T164018Z
LAST-MODIFIED:20220702T164018Z
UID:48570-1656851400-1656874800@thepressboxlts.com
SUMMARY:Churchill Downs Summer Meet
DESCRIPTION:First Post: 12:45 p.m. ET
URL:https://thepressboxlts.com/event/churchill-downs-summer-meet-18/
LOCATION:Churchill Downs\, Louisville\, KY\, United States
CATEGORIES:Stakes Race
END:VEVENT
BEGIN:VEVENT
DTSTART;TZID=America/Kentucky/Louisville:20220702T123000
DTEND;TZID=America/Kentucky/Louisville:20220702T183000
DTSTAMP:20260424T004540
CREATED:20220702T163910Z
LAST-MODIFIED:20220702T163926Z
UID:48568-1656765000-1656786600@thepressboxlts.com
SUMMARY:Churhcill Downs Summer Meet -- Stephen Foster Stakes Day
DESCRIPTION:First Post: 12:45 p.m. ET \nStephen Foster Stakes Day \n 
URL:https://thepressboxlts.com/event/churhcill-downs-summer-meet-stephen-foster-stakes-day/
LOCATION:Churchill Downs\, Louisville\, KY\, United States
CATEGORIES:Stakes Race
END:VEVENT
BEGIN:VEVENT
DTSTART;TZID=America/Kentucky/Louisville:20220630T170000
DTEND;TZID=America/Kentucky/Louisville:20220630T210000
DTSTAMP:20260424T004540
CREATED:20220626T195126Z
LAST-MODIFIED:20220626T195126Z
UID:48505-1656608400-1656622800@thepressboxlts.com
SUMMARY:Churchill Downs' Summer Meet
DESCRIPTION:Firsts Post: 5 p.m. ET
URL:https://thepressboxlts.com/event/churchill-downs-summer-meet-17/
LOCATION:KY
END:VEVENT
BEGIN:VEVENT
DTSTART;TZID=America/Kentucky/Louisville:20220630T143000
DTEND;TZID=America/Kentucky/Louisville:20220630T203000
DTSTAMP:20260424T004540
CREATED:20220626T194930Z
LAST-MODIFIED:20220626T194930Z
UID:48501-1656599400-1656621000@thepressboxlts.com
SUMMARY:Horseshoe Indianapolis Summer Meet
DESCRIPTION:First Post: 2:30 p.m. ET
URL:https://thepressboxlts.com/event/horseshoe-indianapolis-summer-meet-21/
LOCATION:Horseshoe Indianapolis\, Shelbyville\, IN\, United States
END:VEVENT
BEGIN:VEVENT
DTSTART;TZID=America/Kentucky/Louisville:20220629T123000
DTEND;TZID=America/Kentucky/Louisville:20220629T183000
DTSTAMP:20260424T004540
CREATED:20220626T195024Z
LAST-MODIFIED:20220626T195024Z
UID:48503-1656505800-1656527400@thepressboxlts.com
SUMMARY:Churchill Downs' Summer Meet
DESCRIPTION:First Post: 12:45 p.m. ET
URL:https://thepressboxlts.com/event/churchill-downs-summer-meet-16/
LOCATION:Churchill Downs\, Louisville\, KY\, United States
END:VEVENT
BEGIN:VEVENT
DTSTART;TZID=America/Kentucky/Louisville:20220629T080000
DTEND;TZID=America/Kentucky/Louisville:20220629T170000
DTSTAMP:20260424T004540
CREATED:20220626T194759Z
LAST-MODIFIED:20220626T194759Z
UID:48499-1656489600-1656522000@thepressboxlts.com
SUMMARY:Horseshoe Indianapolis Summer Meet
DESCRIPTION:First Post: 2:30 p.m. ET
URL:https://thepressboxlts.com/event/horseshoe-indianapolis-summer-meet-20/
LOCATION:Horseshoe Indianapolis\, Shelbyville\, IN\, United States
END:VEVENT
BEGIN:VEVENT
DTSTART;TZID=America/Kentucky/Louisville:20220628T143000
DTEND;TZID=America/Kentucky/Louisville:20220628T203000
DTSTAMP:20260424T004540
CREATED:20220626T194713Z
LAST-MODIFIED:20220626T194713Z
UID:48497-1656426600-1656448200@thepressboxlts.com
SUMMARY:Horseshoe Indianapolis Summer Meet
DESCRIPTION:First Post: 2:30 p.m. ET
URL:https://thepressboxlts.com/event/horseshoe-indianapolis-summer-meet-19/
LOCATION:Horseshoe Indianapolis\, Shelbyville\, IN\, United States
END:VEVENT
BEGIN:VEVENT
DTSTART;TZID=America/Kentucky/Louisville:20220627T143000
DTEND;TZID=America/Kentucky/Louisville:20220627T203000
DTSTAMP:20260424T004540
CREATED:20220626T194616Z
LAST-MODIFIED:20220626T194616Z
UID:48495-1656340200-1656361800@thepressboxlts.com
SUMMARY:Horseshoe Indianapolis Summer Meet
DESCRIPTION:First Post: 2:30 p.m. ET
URL:https://thepressboxlts.com/event/horseshoe-indianapolis-summer-meet-18/
LOCATION:Horseshoe Indianapolis\, Shelbyville\, IN\, United States
END:VEVENT
BEGIN:VEVENT
DTSTART;TZID=America/Kentucky/Louisville:20220626T123000
DTEND;TZID=America/Kentucky/Louisville:20220626T193000
DTSTAMP:20260424T004540
CREATED:20220622T201035Z
LAST-MODIFIED:20220622T201035Z
UID:48422-1656246600-1656271800@thepressboxlts.com
SUMMARY:Churchill Downs' Summer Meet
DESCRIPTION:First Post: 12:45 p.m. ET \nFamily Buffet Day
URL:https://thepressboxlts.com/event/churchill-downs-summer-meet-15/
LOCATION:KY
END:VEVENT
BEGIN:VEVENT
DTSTART;TZID=America/Kentucky/Louisville:20220625T123000
DTEND;TZID=America/Kentucky/Louisville:20220625T193000
DTSTAMP:20260424T004540
CREATED:20220622T200937Z
LAST-MODIFIED:20220622T200937Z
UID:48420-1656160200-1656185400@thepressboxlts.com
SUMMARY:Churchill Downs' Summer Meet
DESCRIPTION:First Post: 12:45 p.m. ET
URL:https://thepressboxlts.com/event/churchill-downs-summer-meet-14/
LOCATION:Churchill Downs\, Louisville\, KY\, United States
END:VEVENT
BEGIN:VEVENT
DTSTART;TZID=America/Kentucky/Louisville:20220624T123000
DTEND;TZID=America/Kentucky/Louisville:20220624T190000
DTSTAMP:20260424T004540
CREATED:20220622T200852Z
LAST-MODIFIED:20220622T200852Z
UID:48418-1656073800-1656097200@thepressboxlts.com
SUMMARY:Churchill Downs' Summer Meet
DESCRIPTION:First Post: 12:45 p.m. ET
URL:https://thepressboxlts.com/event/churchill-downs-summer-meet-13/
LOCATION:Churchill Downs\, Louisville\, KY\, United States
END:VEVENT
BEGIN:VEVENT
DTSTART;TZID=America/Kentucky/Louisville:20220623T183000
DTEND;TZID=America/Kentucky/Louisville:20220623T230000
DTSTAMP:20260424T004540
CREATED:20220618T203854Z
LAST-MODIFIED:20220620T202127Z
UID:48300-1656009000-1656025200@thepressboxlts.com
SUMMARY:Horseshoe Indianapolis Summer Meet
DESCRIPTION:First Post: 6:45 p.m. ET
URL:https://thepressboxlts.com/event/horseshoe-indianapolis-summer-meet-17/
LOCATION:Horseshoe Indianapolis\, Shelbyville\, IN\, United States
END:VEVENT
BEGIN:VEVENT
DTSTART;TZID=America/Kentucky/Louisville:20220623T170000
DTEND;TZID=America/Kentucky/Louisville:20220623T220000
DTSTAMP:20260424T004540
CREATED:20220622T200757Z
LAST-MODIFIED:20220622T200757Z
UID:48416-1656003600-1656021600@thepressboxlts.com
SUMMARY:Churchill Downs' "Twilight Thursday" Summer Meet
DESCRIPTION:First Post: 5 p.m. ET
URL:https://thepressboxlts.com/event/churchill-downs-twilight-thursday-summer-meet/
LOCATION:Churchill Downs\, Louisville\, KY\, United States
END:VEVENT
BEGIN:VEVENT
DTSTART;TZID=America/Kentucky/Louisville:20220622T183000
DTEND;TZID=America/Kentucky/Louisville:20220622T230000
DTSTAMP:20260424T004540
CREATED:20220618T203211Z
LAST-MODIFIED:20220620T202152Z
UID:48298-1655922600-1655938800@thepressboxlts.com
SUMMARY:Horseshoe Indianapolis Summer Meet
DESCRIPTION:First Post: 6:45 p.m. ET \nHoosier Breeders’ Sophomore Stakes (Fillies) \nHoosier Breeders’ Sophomore Stakes \n 
URL:https://thepressboxlts.com/event/horseshoe-indianapolis-summer-meet-16/
LOCATION:Horseshoe Indianapolis\, Shelbyville\, IN\, United States
CATEGORIES:Stakes Race
END:VEVENT
BEGIN:VEVENT
DTSTART;TZID=America/Kentucky/Louisville:20220622T103000
DTEND;TZID=America/Kentucky/Louisville:20220622T153000
DTSTAMP:20260424T004540
CREATED:20220621T195649Z
LAST-MODIFIED:20220621T195649Z
UID:48399-1655893800-1655911800@thepressboxlts.com
SUMMARY:Churchill Downs Summer Meet: Early Post Time
DESCRIPTION:First Post: 10:30 a.m. ET
URL:https://thepressboxlts.com/event/churchill-downs-summer-meet-early-post-time/
LOCATION:Churchill Downs\, Louisville\, KY\, United States
END:VEVENT
BEGIN:VEVENT
DTSTART;TZID=America/Kentucky/Louisville:20220621T183000
DTEND;TZID=America/Kentucky/Louisville:20220621T230000
DTSTAMP:20260424T004540
CREATED:20220618T202132Z
LAST-MODIFIED:20220620T202101Z
UID:48296-1655836200-1655852400@thepressboxlts.com
SUMMARY:Horseshoe Indianapolis Summer Meet
DESCRIPTION:First Post: 6:45 p.m. ET
URL:https://thepressboxlts.com/event/horseshoe-indianapolis-summer-meet-15/
LOCATION:Horseshoe Indianapolis\, Shelbyville\, IN\, United States
END:VEVENT
BEGIN:VEVENT
DTSTART;TZID=America/Kentucky/Louisville:20220620T143000
DTEND;TZID=America/Kentucky/Louisville:20220620T193000
DTSTAMP:20260424T004540
CREATED:20220618T201959Z
LAST-MODIFIED:20220618T201959Z
UID:48294-1655735400-1655753400@thepressboxlts.com
SUMMARY:Horseshoe Indianapolis Summer Meet
DESCRIPTION:First Post: 2:30 p.m. ET
URL:https://thepressboxlts.com/event/horseshoe-indianapolis-summer-meet-14/
LOCATION:Horseshoe Indianapolis\, Shelbyville\, IN\, United States
END:VEVENT
BEGIN:VEVENT
DTSTART;TZID=America/Kentucky/Louisville:20220619T120000
DTEND;TZID=America/Kentucky/Louisville:20220619T183000
DTSTAMP:20260424T004540
CREATED:20220617T182611Z
LAST-MODIFIED:20220617T182611Z
UID:48241-1655640000-1655663400@thepressboxlts.com
SUMMARY:Churchill Downs Summer Meet:
DESCRIPTION:First Post: 12:45 p.m. ET \nSummer Adventure Day \nSunday Brunch \n 
URL:https://thepressboxlts.com/event/churchill-downs-summer-meet-12/
LOCATION:Churchill Downs\, Louisville\, KY\, United States
END:VEVENT
END:VCALENDAR