BEGIN:VCALENDAR
VERSION:2.0
PRODID:-//The Pressbox - ECPv6.15.19//NONSGML v1.0//EN
CALSCALE:GREGORIAN
METHOD:PUBLISH
X-WR-CALNAME:The Pressbox
X-ORIGINAL-URL:https://thepressboxlts.com
X-WR-CALDESC:Events for The Pressbox
REFRESH-INTERVAL;VALUE=DURATION:PT1H
X-Robots-Tag:noindex
X-PUBLISHED-TTL:PT1H
BEGIN:VTIMEZONE
TZID:UTC
BEGIN:STANDARD
TZOFFSETFROM:+0000
TZOFFSETTO:+0000
TZNAME:UTC
DTSTART:20210101T000000
END:STANDARD
END:VTIMEZONE
BEGIN:VEVENT
DTSTART;TZID=UTC:20220318T130000
DTEND;TZID=UTC:20220318T190000
DTSTAMP:20260424T065545
CREATED:20220315T205811Z
LAST-MODIFIED:20220315T205811Z
UID:45111-1647608400-1647630000@thepressboxlts.com
SUMMARY:Fair Grounds Winter / Spring Meet
DESCRIPTION:First Post: 1:05 p.m. CT
URL:https://thepressboxlts.com/event/fair-grounds-winter-spring-meet-126/
LOCATION:Fair Grounds\, New Orleans\, LA\, United States
END:VEVENT
BEGIN:VEVENT
DTSTART;TZID=UTC:20220317T180000
DTEND;TZID=UTC:20220317T223000
DTSTAMP:20260424T065545
CREATED:20220315T204845Z
LAST-MODIFIED:20220315T204845Z
UID:45101-1647540000-1647556200@thepressboxlts.com
SUMMARY:Turfway Park Winter / Spring Meet
DESCRIPTION:First Post: 6:15 p.m. ET
URL:https://thepressboxlts.com/event/turfway-park-winter-spring-meet-76/
LOCATION:Turfway Park\, Florence\, KY\, United States
END:VEVENT
BEGIN:VEVENT
DTSTART;TZID=UTC:20220317T130000
DTEND;TZID=UTC:20220317T190000
DTSTAMP:20260424T065545
CREATED:20220315T205708Z
LAST-MODIFIED:20220315T205708Z
UID:45109-1647522000-1647543600@thepressboxlts.com
SUMMARY:Fair Grounds Winter / Spring Meet
DESCRIPTION:First Post: 1:05 p.m. CT
URL:https://thepressboxlts.com/event/fair-grounds-winter-spring-meet-125/
LOCATION:Fair Grounds\, New Orleans\, LA\, United States
END:VEVENT
BEGIN:VEVENT
DTSTART;TZID=UTC:20220316T130000
DTEND;TZID=UTC:20220316T190000
DTSTAMP:20260424T065545
CREATED:20220315T205559Z
LAST-MODIFIED:20220315T205559Z
UID:45107-1647435600-1647457200@thepressboxlts.com
SUMMARY:Fair Grounds Winter / Spring Meet
DESCRIPTION:First Post: 1:05 p.m. CT
URL:https://thepressboxlts.com/event/fair-grounds-winter-spring-meet-124/
LOCATION:Fair Grounds\, New Orleans\, LA\, United States
END:VEVENT
END:VCALENDAR