BEGIN:VCALENDAR
VERSION:2.0
PRODID:-//The Pressbox - ECPv6.15.19//NONSGML v1.0//EN
CALSCALE:GREGORIAN
METHOD:PUBLISH
X-WR-CALNAME:The Pressbox
X-ORIGINAL-URL:https://thepressboxlts.com
X-WR-CALDESC:Events for The Pressbox
REFRESH-INTERVAL;VALUE=DURATION:PT1H
X-Robots-Tag:noindex
X-PUBLISHED-TTL:PT1H
BEGIN:VTIMEZONE
TZID:America/Kentucky/Louisville
BEGIN:DAYLIGHT
TZOFFSETFROM:-0500
TZOFFSETTO:-0400
TZNAME:EDT
DTSTART:20240310T070000
END:DAYLIGHT
BEGIN:STANDARD
TZOFFSETFROM:-0400
TZOFFSETTO:-0500
TZNAME:EST
DTSTART:20241103T060000
END:STANDARD
BEGIN:DAYLIGHT
TZOFFSETFROM:-0500
TZOFFSETTO:-0400
TZNAME:EDT
DTSTART:20250309T070000
END:DAYLIGHT
BEGIN:STANDARD
TZOFFSETFROM:-0400
TZOFFSETTO:-0500
TZNAME:EST
DTSTART:20251102T060000
END:STANDARD
BEGIN:DAYLIGHT
TZOFFSETFROM:-0500
TZOFFSETTO:-0400
TZNAME:EDT
DTSTART:20260308T070000
END:DAYLIGHT
BEGIN:STANDARD
TZOFFSETFROM:-0400
TZOFFSETTO:-0500
TZNAME:EST
DTSTART:20261101T060000
END:STANDARD
END:VTIMEZONE
BEGIN:VEVENT
DTSTART;TZID=America/Kentucky/Louisville:20251102T130000
DTEND;TZID=America/Kentucky/Louisville:20251102T183000
DTSTAMP:20260420T020245
CREATED:20251028T144304Z
LAST-MODIFIED:20251028T144304Z
UID:76033-1762088400-1762108200@thepressboxlts.com
SUMMARY:Churchill Downs Fall Meet
DESCRIPTION:First Post: 1 p.m. ET \nPhoto by Holly M. Smith
URL:https://thepressboxlts.com/event/churchill-downs-fall-meet-47/
LOCATION:Churchill Downs\, Louisville\, KY\, United States
ATTACH;FMTTYPE=image/jpeg:https://thepressboxlts.com/wp-content/uploads/2025/10/HMS_0404-thorpedo-anna-scaled.jpg
END:VEVENT
BEGIN:VEVENT
DTSTART;TZID=America/Kentucky/Louisville:20251101T130000
DTEND;TZID=America/Kentucky/Louisville:20251101T183000
DTSTAMP:20260420T020245
CREATED:20251028T144208Z
LAST-MODIFIED:20251028T144208Z
UID:76031-1762002000-1762021800@thepressboxlts.com
SUMMARY:Churchill Downs Fall Meet
DESCRIPTION:First Post: 1 p.m. ET \nPhoto by Holly M. Smith
URL:https://thepressboxlts.com/event/churchill-downs-fall-meet-46/
LOCATION:Churchill Downs\, Louisville\, KY\, United States
ATTACH;FMTTYPE=image/jpeg:https://thepressboxlts.com/wp-content/uploads/2025/10/HMS_1115-1-scaled.jpg
END:VEVENT
BEGIN:VEVENT
DTSTART;TZID=America/Kentucky/Louisville:20251031T130000
DTEND;TZID=America/Kentucky/Louisville:20251031T183000
DTSTAMP:20260420T020245
CREATED:20251028T144112Z
LAST-MODIFIED:20251028T144112Z
UID:76029-1761915600-1761935400@thepressboxlts.com
SUMMARY:Churchill Downs Fall Meet
DESCRIPTION:First Post: 1 p.m. ET \nPhoto by Holly M. Smith
URL:https://thepressboxlts.com/event/churchill-downs-fall-meet-45/
LOCATION:Churchill Downs\, Louisville\, KY\, United States
ATTACH;FMTTYPE=image/jpeg:https://thepressboxlts.com/wp-content/uploads/2025/10/HMS_0138-1-scaled.jpg
END:VEVENT
BEGIN:VEVENT
DTSTART;TZID=America/Kentucky/Louisville:20251030T140000
DTEND;TZID=America/Kentucky/Louisville:20251030T190000
DTSTAMP:20260420T020245
CREATED:20251028T143811Z
LAST-MODIFIED:20251028T143811Z
UID:76023-1761832800-1761850800@thepressboxlts.com
SUMMARY:Horseshoe Indianapolis Fall Meet
DESCRIPTION:First Post: 2:10 p.m. ET \nPhoto by Coady Media
URL:https://thepressboxlts.com/event/horseshoe-indianapolis-fall-meet-101/
LOCATION:Horseshoe Indianapolis\, Shelbyville\, IN\, United States
ATTACH;FMTTYPE=image/jpeg:https://thepressboxlts.com/wp-content/uploads/2025/07/ENCINO-Jonathan-B-Schuster-Memorial-07-05-25-R08-Horseshoe-Indiana-Turn-01-Kurtis-Coady-scaled.jpg
END:VEVENT
BEGIN:VEVENT
DTSTART;TZID=America/Kentucky/Louisville:20251030T130000
DTEND;TZID=America/Kentucky/Louisville:20251030T183000
DTSTAMP:20260420T020245
CREATED:20251028T144016Z
LAST-MODIFIED:20251028T144016Z
UID:76027-1761829200-1761849000@thepressboxlts.com
SUMMARY:Churchill Downs Fall Meet
DESCRIPTION:First Post: 1 p.m. ET \nPhoto by Holly M. Smith
URL:https://thepressboxlts.com/event/churchill-downs-fall-meet-44/
LOCATION:Churchill Downs\, Louisville\, KY\, United States
ATTACH;FMTTYPE=image/jpeg:https://thepressboxlts.com/wp-content/uploads/2025/10/HMS_0188-1-scaled.jpg
END:VEVENT
BEGIN:VEVENT
DTSTART;TZID=America/Kentucky/Louisville:20251029T140000
DTEND;TZID=America/Kentucky/Louisville:20251029T190000
DTSTAMP:20260420T020245
CREATED:20251028T143712Z
LAST-MODIFIED:20251028T143712Z
UID:76021-1761746400-1761764400@thepressboxlts.com
SUMMARY:Horseshoe Indianapolis Fall Meet
DESCRIPTION:First Post: 2:10 p.m. ET \nPhoto by Coady Media
URL:https://thepressboxlts.com/event/horseshoe-indianapolis-fall-meet-100/
LOCATION:Horseshoe Indianapolis\, Shelbyville\, IN\, United States
ATTACH;FMTTYPE=image/jpeg:https://thepressboxlts.com/wp-content/uploads/2025/10/SPIRITED-JUSTICE-Back-Home-Again-25th-Running-10-01-25-R11-Horseshoe-Indiana-Finish-01-Sammantha-Pagels-scaled.jpg
END:VEVENT
BEGIN:VEVENT
DTSTART;TZID=America/Kentucky/Louisville:20251029T130000
DTEND;TZID=America/Kentucky/Louisville:20251029T183000
DTSTAMP:20260420T020245
CREATED:20251028T143919Z
LAST-MODIFIED:20251028T143919Z
UID:76025-1761742800-1761762600@thepressboxlts.com
SUMMARY:Churchill Downs Fall Meet
DESCRIPTION:First Post: 1 p.m. ET \nPhoto by Holly M. Smith
URL:https://thepressboxlts.com/event/churchill-downs-fall-meet-43/
LOCATION:Churchill Downs\, Louisville\, KY\, United States
ATTACH;FMTTYPE=image/jpeg:https://thepressboxlts.com/wp-content/uploads/2025/10/HMS_0215-1-scaled.jpg
END:VEVENT
BEGIN:VEVENT
DTSTART;TZID=America/Kentucky/Louisville:20251028T140000
DTEND;TZID=America/Kentucky/Louisville:20251028T190000
DTSTAMP:20260420T020245
CREATED:20251028T143609Z
LAST-MODIFIED:20251028T143609Z
UID:76019-1761660000-1761678000@thepressboxlts.com
SUMMARY:Horseshoe Indianapolis Fall Meet
DESCRIPTION:First Post: 2:10 p.m. ET \nPhoto by Coady Media
URL:https://thepressboxlts.com/event/horseshoe-indianapolis-fall-meet-99/
LOCATION:Horseshoe Indianapolis\, Shelbyville\, IN\, United States
ATTACH;FMTTYPE=image/jpeg:https://thepressboxlts.com/wp-content/uploads/2025/07/WILLY-DS-Michael-G-Schaefer-Memorial-07-05-25-R09-Horseshoe-Indiana-Start-01-Samantha-Pagels-scaled.jpg
END:VEVENT
BEGIN:VEVENT
DTSTART;TZID=America/Kentucky/Louisville:20251026T123000
DTEND;TZID=America/Kentucky/Louisville:20251026T183000
DTSTAMP:20260420T020245
CREATED:20251021T172640Z
LAST-MODIFIED:20251021T172640Z
UID:75674-1761481800-1761503400@thepressboxlts.com
SUMMARY:Churchill Downs' Fall Meet
DESCRIPTION:First Post: 12:45 p.m. ET \nPhoto by Holly M. Smith
URL:https://thepressboxlts.com/event/churchill-downs-fall-meet-42/
LOCATION:Churchill Downs\, Louisville\, KY\, United States
ATTACH;FMTTYPE=image/jpeg:https://thepressboxlts.com/wp-content/uploads/2025/10/HMS_4313-stelllify-scaled.jpg
END:VEVENT
BEGIN:VEVENT
DTSTART;TZID=America/Kentucky/Louisville:20251025T130000
DTEND;TZID=America/Kentucky/Louisville:20251025T180000
DTSTAMP:20260420T020245
CREATED:20251020T183714Z
LAST-MODIFIED:20251020T183714Z
UID:75668-1761397200-1761415200@thepressboxlts.com
SUMMARY:Keeneland October Meet
DESCRIPTION:First Post: 1 p.m. ET \nPhoto by Coady Media
URL:https://thepressboxlts.com/event/keeneland-october-meet-64/
LOCATION:Keeneland Race Course\, KY\, United States
ATTACH;FMTTYPE=image/jpeg:https://thepressboxlts.com/wp-content/uploads/2025/10/VENENCIA-The-Rood-Riddle-Dowager-G3-10-19-25-R08-Keeneland-Race-Course-Interview-02-Renee-Torbit-scaled.jpg
END:VEVENT
BEGIN:VEVENT
DTSTART;TZID=America/Kentucky/Louisville:20251025T120000
DTEND;TZID=America/Kentucky/Louisville:20251025T180000
DTSTAMP:20260420T020245
CREATED:20251020T183206Z
LAST-MODIFIED:20251020T183206Z
UID:75660-1761393600-1761415200@thepressboxlts.com
SUMMARY:Horseshoe Indianapolis Fall Meet
DESCRIPTION:First Post: 12 Noon ET \nPhoto by Coady Media
URL:https://thepressboxlts.com/event/horseshoe-indianapolis-fall-meet-98/
LOCATION:Horseshoe Indianapolis\, Shelbyville\, IN\, United States
ATTACH;FMTTYPE=image/jpeg:https://thepressboxlts.com/wp-content/uploads/2025/07/CLICQUOT-Daily-Racing-Form-Indiana-Oaks-G3-07-05-25-R11-Horseshoe-Indiana-Edgar-Morales-03-Kurtis-Coady-scaled.jpg
END:VEVENT
BEGIN:VEVENT
DTSTART;TZID=America/Kentucky/Louisville:20251024T130000
DTEND;TZID=America/Kentucky/Louisville:20251024T180000
DTSTAMP:20260420T020245
CREATED:20251020T183548Z
LAST-MODIFIED:20251020T183548Z
UID:75666-1761310800-1761328800@thepressboxlts.com
SUMMARY:Keeneland October Meet
DESCRIPTION:First Post: 1 p.m. ET \nPhoto by Coady Media
URL:https://thepressboxlts.com/event/keeneland-october-meet-63/
LOCATION:Keeneland Race Course\, KY\, United States
ATTACH;FMTTYPE=image/jpeg:https://thepressboxlts.com/wp-content/uploads/2025/10/KAPPA-KAPPA-The-Lexus-Raven-Run-G2-10-18-25-R09-Keeneland-Race-Course-Come-Back-06-Barbara-Barclay-scaled.jpg
END:VEVENT
BEGIN:VEVENT
DTSTART;TZID=America/Kentucky/Louisville:20251023T140000
DTEND;TZID=America/Kentucky/Louisville:20251023T190000
DTSTAMP:20260420T020245
CREATED:20251020T183058Z
LAST-MODIFIED:20251020T183058Z
UID:75658-1761228000-1761246000@thepressboxlts.com
SUMMARY:Horseshoe Indianapolis Fall Meet
DESCRIPTION:First Post: 2:10 p.m. ET \nPhoto by Coady Media
URL:https://thepressboxlts.com/event/horseshoe-indianapolis-fall-meet-97/
LOCATION:Horseshoe Indianapolis\, Shelbyville\, IN\, United States
ATTACH;FMTTYPE=image/jpeg:https://thepressboxlts.com/wp-content/uploads/2025/07/ENCINO-Jonathan-B-Schuster-Memorial-07-05-25-R08-Horseshoe-Indiana-Turn-01-Kurtis-Coady-scaled.jpg
END:VEVENT
BEGIN:VEVENT
DTSTART;TZID=America/Kentucky/Louisville:20251023T130000
DTEND;TZID=America/Kentucky/Louisville:20251023T180000
DTSTAMP:20260420T020245
CREATED:20251020T183456Z
LAST-MODIFIED:20251020T183456Z
UID:75664-1761224400-1761242400@thepressboxlts.com
SUMMARY:Keeneland October Meet
DESCRIPTION:First Post: 1 p.m. ET \nPhoto by Coady Media
URL:https://thepressboxlts.com/event/keeneland-october-meet-62/
LOCATION:Keeneland Race Course\, KY\, United States
ATTACH;FMTTYPE=image/jpeg:https://thepressboxlts.com/wp-content/uploads/2025/10/TIME-TO-DAZZLE-The-29th-Running-of-The-Franklin-G-II-10-12-25-R07-Keeneland-Race-Course-Inside-Finish-01-John-Gallagher-scaled.jpg
END:VEVENT
BEGIN:VEVENT
DTSTART;TZID=America/Kentucky/Louisville:20251022T140000
DTEND;TZID=America/Kentucky/Louisville:20251022T190000
DTSTAMP:20260420T020245
CREATED:20251020T182957Z
LAST-MODIFIED:20251020T182957Z
UID:75656-1761141600-1761159600@thepressboxlts.com
SUMMARY:Horseshoe Indianapolis Fall Meet
DESCRIPTION:First Post: 2:10 p.m. ET \nPhoto by Coady Media
URL:https://thepressboxlts.com/event/horseshoe-indianapolis-fall-meet-96/
LOCATION:Horseshoe Indianapolis\, Shelbyville\, IN\, United States
ATTACH;FMTTYPE=image/jpeg:https://thepressboxlts.com/wp-content/uploads/2025/07/WILLY-DS-Michael-G-Schaefer-Memorial-07-05-25-R09-Horseshoe-Indiana-First-Turn-01-Kurtis-Coady-scaled.jpg
END:VEVENT
BEGIN:VEVENT
DTSTART;TZID=America/Kentucky/Louisville:20251022T130000
DTEND;TZID=America/Kentucky/Louisville:20251022T180000
DTSTAMP:20260420T020245
CREATED:20251020T183343Z
LAST-MODIFIED:20251020T183343Z
UID:75662-1761138000-1761156000@thepressboxlts.com
SUMMARY:Keeneland October Meet
DESCRIPTION:First Post: 1 p.m. ET \nPhoto by Coady Media
URL:https://thepressboxlts.com/event/keeneland-october-meet-61/
LOCATION:Keeneland Race Course\, KY\, United States
ATTACH;FMTTYPE=image/jpeg:https://thepressboxlts.com/wp-content/uploads/2025/10/VENENCIA-The-Rood-Riddle-Dowager-G3-10-19-25-R08-Keeneland-Race-Course-Finish-02-Rick-Bailey-scaled.jpg
END:VEVENT
BEGIN:VEVENT
DTSTART;TZID=America/Kentucky/Louisville:20251021T140000
DTEND;TZID=America/Kentucky/Louisville:20251021T190000
DTSTAMP:20260420T020245
CREATED:20251020T182335Z
LAST-MODIFIED:20251020T182335Z
UID:75654-1761055200-1761073200@thepressboxlts.com
SUMMARY:Horseshoe Indianapolis Fall Meet
DESCRIPTION:First Post: 2:10 p.m. ET \nPhoto by Coady Media
URL:https://thepressboxlts.com/event/horseshoe-indianapolis-fall-meet-95/
LOCATION:Horseshoe Indianapolis\, Shelbyville\, IN\, United States
ATTACH;FMTTYPE=image/jpeg:https://thepressboxlts.com/wp-content/uploads/2025/07/WILLY-DS-Michael-G-Schaefer-Memorial-07-05-25-R09-Horseshoe-Indiana-Start-01-Samantha-Pagels-scaled.jpg
END:VEVENT
BEGIN:VEVENT
DTSTART;TZID=America/Kentucky/Louisville:20251019T130000
DTEND;TZID=America/Kentucky/Louisville:20251019T180000
DTSTAMP:20260420T020245
CREATED:20251014T150731Z
LAST-MODIFIED:20251014T150731Z
UID:75572-1760878800-1760896800@thepressboxlts.com
SUMMARY:Keeneland October Meet
DESCRIPTION:First Post: 1 p.m. ET \nPhoto by Coady Media
URL:https://thepressboxlts.com/event/keeneland-october-meet-60/
LOCATION:Keeneland Race Course\, KY\, United States
ATTACH;FMTTYPE=image/jpeg:https://thepressboxlts.com/wp-content/uploads/2025/10/DESVIO-The-Sycamore-G2-31st-Running-10-10-25-R09-Keeneland-Race-Course-Paddock-01-Stephen-Ibanez-scaled.jpg
END:VEVENT
BEGIN:VEVENT
DTSTART;TZID=America/Kentucky/Louisville:20251018T130000
DTEND;TZID=America/Kentucky/Louisville:20251018T180000
DTSTAMP:20260420T020245
CREATED:20251014T150625Z
LAST-MODIFIED:20251014T150625Z
UID:75570-1760792400-1760810400@thepressboxlts.com
SUMMARY:Keeneland October Meet
DESCRIPTION:First Post: 1 p.m. ET \nPhoto by Coady Media
URL:https://thepressboxlts.com/event/keeneland-october-meet-59/
LOCATION:Keeneland Race Course\, KY\, United States
ATTACH;FMTTYPE=image/jpeg:https://thepressboxlts.com/wp-content/uploads/2025/10/LUSH-LIPS-The-Queen-Elizabeth-ll-Challenge-Cup-G1-42nd-Running-10-11-25-R09-Keeneland-Race-Course-Under-Rail-01-John-Gallagher-scaled.jpg
END:VEVENT
BEGIN:VEVENT
DTSTART;TZID=America/Kentucky/Louisville:20251017T130000
DTEND;TZID=America/Kentucky/Louisville:20251017T180000
DTSTAMP:20260420T020245
CREATED:20251014T150523Z
LAST-MODIFIED:20251014T150523Z
UID:75568-1760706000-1760724000@thepressboxlts.com
SUMMARY:Keeneland October Meet
DESCRIPTION:First Post: 1 p.m. ET \nPhoto by Coady Media
URL:https://thepressboxlts.com/event/keeneland-october-meet-58/
LOCATION:LA
ATTACH;FMTTYPE=image/jpeg:https://thepressboxlts.com/wp-content/uploads/2025/10/SIMPLY-IN-FRONT-The-First-Lady-G1-10-04-25-R08-Keeneland-Race-Course-First-Turn-01-Barbara-Barclay-scaled.jpg
END:VEVENT
BEGIN:VEVENT
DTSTART;TZID=America/Kentucky/Louisville:20251016T140000
DTEND;TZID=America/Kentucky/Louisville:20251016T193000
DTSTAMP:20260420T020245
CREATED:20251014T150202Z
LAST-MODIFIED:20251014T150202Z
UID:75562-1760623200-1760643000@thepressboxlts.com
SUMMARY:Horseshoe Indianapolis Fall Meet
DESCRIPTION:First Post: 2:10 p.m. ET \nPhoto by Coady Media \n 
URL:https://thepressboxlts.com/event/horseshoe-indianapolis-fall-meet-94/
LOCATION:Horseshoe Indianapolis\, Shelbyville\, IN\, United States
ATTACH;FMTTYPE=image/jpeg:https://thepressboxlts.com/wp-content/uploads/2025/07/WILLY-DS-Michael-G-Schaefer-Memorial-07-05-25-R09-Horseshoe-Indiana-Start-01-Samantha-Pagels-scaled.jpg
END:VEVENT
BEGIN:VEVENT
DTSTART;TZID=America/Kentucky/Louisville:20251016T130000
DTEND;TZID=America/Kentucky/Louisville:20251016T180000
DTSTAMP:20260420T020245
CREATED:20251014T150414Z
LAST-MODIFIED:20251014T150414Z
UID:75566-1760619600-1760637600@thepressboxlts.com
SUMMARY:Keeneland October Meet
DESCRIPTION:First Post: 1 p.m. ET \nPhoto by Coady Media
URL:https://thepressboxlts.com/event/keeneland-october-meet-57/
LOCATION:Keeneland Race Course\, KY\, United States
ATTACH;FMTTYPE=image/jpeg:https://thepressboxlts.com/wp-content/uploads/2025/10/LUSH-LIPS-The-Queen-Elizabeth-ll-Challenge-Cup-G1-42nd-Running-10-11-25-R09-Keeneland-Race-Course-Finish-02-Stephen-Ibanez-scaled.jpg
END:VEVENT
BEGIN:VEVENT
DTSTART;TZID=America/Kentucky/Louisville:20251015T140000
DTEND;TZID=America/Kentucky/Louisville:20251015T193000
DTSTAMP:20260420T020245
CREATED:20251014T150057Z
LAST-MODIFIED:20251014T150057Z
UID:75560-1760536800-1760556600@thepressboxlts.com
SUMMARY:Horseshoe Indianapolis Fall Meet
DESCRIPTION:First Post: 2:10 p.m. ET \nPhoto by Coady Media
URL:https://thepressboxlts.com/event/horseshoe-indianapolis-fall-meet-93/
LOCATION:Horseshoe Indianapolis\, Shelbyville\, IN\, United States
ATTACH;FMTTYPE=image/jpeg:https://thepressboxlts.com/wp-content/uploads/2025/10/QS-TOPNOTCH-Circle-City-25th-Running-10-01-25-R10-Horseshoe-Indiana-Tight-Finish-01-Devin-Hall-scaled.jpg
END:VEVENT
BEGIN:VEVENT
DTSTART;TZID=America/Kentucky/Louisville:20251015T130000
DTEND;TZID=America/Kentucky/Louisville:20251015T180000
DTSTAMP:20260420T020245
CREATED:20251014T150307Z
LAST-MODIFIED:20251014T150307Z
UID:75564-1760533200-1760551200@thepressboxlts.com
SUMMARY:Keeneland October Meet
DESCRIPTION:First Post: 1 p.m. ET \nPhoto by Coady Media
URL:https://thepressboxlts.com/event/keeneland-october-meet-56/
LOCATION:Keeneland Race Course\, KY\, United States
ATTACH;FMTTYPE=image/jpeg:https://thepressboxlts.com/wp-content/uploads/2025/10/TIME-TO-DAZZLE-The-29th-Running-of-The-Franklin-G-II-10-12-25-R07-Keeneland-Race-Course-Finish-02-Stephen-Ibanez-scaled.jpg
END:VEVENT
BEGIN:VEVENT
DTSTART;TZID=America/Kentucky/Louisville:20251014T140000
DTEND;TZID=America/Kentucky/Louisville:20251014T193000
DTSTAMP:20260420T020245
CREATED:20251014T145950Z
LAST-MODIFIED:20251014T145950Z
UID:75558-1760450400-1760470200@thepressboxlts.com
SUMMARY:Horseshoe Indianapolis Fall Meet
DESCRIPTION:First Post: 2:10 p.m. ET \nPhoto by Coady Media
URL:https://thepressboxlts.com/event/horseshoe-indianapolis-fall-meet-92/
LOCATION:Horseshoe Indianapolis\, Shelbyville\, IN\, United States
ATTACH;FMTTYPE=image/jpeg:https://thepressboxlts.com/wp-content/uploads/2025/10/SPIRITED-JUSTICE-Back-Home-Again-25th-Running-10-01-25-R11-Horseshoe-Indiana-Finish-01-Sammantha-Pagels-scaled.jpg
END:VEVENT
BEGIN:VEVENT
DTSTART;TZID=America/Kentucky/Louisville:20251012T130000
DTEND;TZID=America/Kentucky/Louisville:20251012T183000
DTSTAMP:20260420T020245
CREATED:20251007T182707Z
LAST-MODIFIED:20251007T182707Z
UID:75436-1760274000-1760293800@thepressboxlts.com
SUMMARY:Keeneland October Meet
DESCRIPTION:First Post: 1 p.m. ET \nPhoto by Coady Media
URL:https://thepressboxlts.com/event/keeneland-october-meet-55/
LOCATION:Keeneland Race Course\, KY\, United States
ATTACH;FMTTYPE=image/jpeg:https://thepressboxlts.com/wp-content/uploads/2025/10/TED-NOFFEY-The-Claiborne-Breeders-Futurity-G1-10-04-25-R09-Keeneland-Race-Course-Post-Parade-02-Cady-Coulardot-scaled.jpg
END:VEVENT
BEGIN:VEVENT
DTSTART;TZID=America/Kentucky/Louisville:20251011T130000
DTEND;TZID=America/Kentucky/Louisville:20251011T183000
DTSTAMP:20260420T020245
CREATED:20251007T182615Z
LAST-MODIFIED:20251007T182615Z
UID:75434-1760187600-1760207400@thepressboxlts.com
SUMMARY:Keeneland October Meet
DESCRIPTION:First Post: 1 p.m. ET \nPhoto by Coady Media
URL:https://thepressboxlts.com/event/keeneland-october-meet-54/
LOCATION:Keeneland Race Course\, KY\, United States
ATTACH;FMTTYPE=image/jpeg:https://thepressboxlts.com/wp-content/uploads/2025/10/SIMPLY-IN-FRONT-The-First-Lady-G1-10-04-25-R08-Keeneland-Race-Course-First-Turn-01-Barbara-Barclay-scaled.jpg
END:VEVENT
BEGIN:VEVENT
DTSTART;TZID=America/Kentucky/Louisville:20251010T130000
DTEND;TZID=America/Kentucky/Louisville:20251010T183000
DTSTAMP:20260420T020245
CREATED:20251007T182517Z
LAST-MODIFIED:20251007T182517Z
UID:75432-1760101200-1760121000@thepressboxlts.com
SUMMARY:Keeneland October Meet
DESCRIPTION:First Post: 1 p.m. ET \nPhoto by Coady Media
URL:https://thepressboxlts.com/event/keeneland-october-meet-53/
LOCATION:Keeneland Race Course\, KY\, United States
ATTACH;FMTTYPE=image/jpeg:https://thepressboxlts.com/wp-content/uploads/2025/10/RHETORICAL-The-Coolmore-Turf-Mile-G1-10-04-25-R10-Keeneland-Race-Course-Finish-03-Stephen-Ibanez-scaled.jpg
END:VEVENT
BEGIN:VEVENT
DTSTART;TZID=America/Kentucky/Louisville:20251009T140000
DTEND;TZID=America/Kentucky/Louisville:20251009T190000
DTSTAMP:20260420T020245
CREATED:20251007T180849Z
LAST-MODIFIED:20251007T180849Z
UID:75424-1760018400-1760036400@thepressboxlts.com
SUMMARY:Horseshoe Indianapolis Fall Meet
DESCRIPTION:First Post: 2:10 p.m. ET \nPhoto by Coady Media
URL:https://thepressboxlts.com/event/horseshoe-indianapolis-fall-meet-91/
LOCATION:Horseshoe Indianapolis\, Shelbyville\, IN\, United States
ATTACH;FMTTYPE=image/jpeg:https://thepressboxlts.com/wp-content/uploads/2025/07/ROYAL-JUSTICE-The-Ellen-Lucky-Star-07-05-25-R10-Horseshoe-Indiana-Finish-02-Ashleigh-Schlitt-scaled.jpg
END:VEVENT
BEGIN:VEVENT
DTSTART;TZID=America/Kentucky/Louisville:20251009T130000
DTEND;TZID=America/Kentucky/Louisville:20251009T183000
DTSTAMP:20260420T020245
CREATED:20251007T182408Z
LAST-MODIFIED:20251007T182408Z
UID:75430-1760014800-1760034600@thepressboxlts.com
SUMMARY:Keeneland October Meet
DESCRIPTION:First Post: 1 p.m. ET \nPhoto by Coady Media
URL:https://thepressboxlts.com/event/keeneland-october-meet-52/
LOCATION:Keeneland Race Course\, KY\, United States
ATTACH;FMTTYPE=image/jpeg:https://thepressboxlts.com/wp-content/uploads/2025/10/RHETORICAL-The-Coolmore-Turf-Mile-G1-10-04-25-R10-Keeneland-Race-Course-Aerial-First-Pass-01-Cathy-Allinikov-scaled.jpg
END:VEVENT
END:VCALENDAR