BEGIN:VCALENDAR
VERSION:2.0
PRODID:-//The Pressbox - ECPv6.15.19//NONSGML v1.0//EN
CALSCALE:GREGORIAN
METHOD:PUBLISH
X-WR-CALNAME:The Pressbox
X-ORIGINAL-URL:https://thepressboxlts.com
X-WR-CALDESC:Events for The Pressbox
REFRESH-INTERVAL;VALUE=DURATION:PT1H
X-Robots-Tag:noindex
X-PUBLISHED-TTL:PT1H
BEGIN:VTIMEZONE
TZID:America/Kentucky/Louisville
BEGIN:DAYLIGHT
TZOFFSETFROM:-0500
TZOFFSETTO:-0400
TZNAME:EDT
DTSTART:20240310T070000
END:DAYLIGHT
BEGIN:STANDARD
TZOFFSETFROM:-0400
TZOFFSETTO:-0500
TZNAME:EST
DTSTART:20241103T060000
END:STANDARD
BEGIN:DAYLIGHT
TZOFFSETFROM:-0500
TZOFFSETTO:-0400
TZNAME:EDT
DTSTART:20250309T070000
END:DAYLIGHT
BEGIN:STANDARD
TZOFFSETFROM:-0400
TZOFFSETTO:-0500
TZNAME:EST
DTSTART:20251102T060000
END:STANDARD
BEGIN:DAYLIGHT
TZOFFSETFROM:-0500
TZOFFSETTO:-0400
TZNAME:EDT
DTSTART:20260308T070000
END:DAYLIGHT
BEGIN:STANDARD
TZOFFSETFROM:-0400
TZOFFSETTO:-0500
TZNAME:EST
DTSTART:20261101T060000
END:STANDARD
END:VTIMEZONE
BEGIN:VEVENT
DTSTART;TZID=America/Kentucky/Louisville:20250831T130000
DTEND;TZID=America/Kentucky/Louisville:20250831T190000
DTSTAMP:20260420T070908
CREATED:20250831T165206Z
LAST-MODIFIED:20250831T165206Z
UID:74405-1756645200-1756666800@thepressboxlts.com
SUMMARY:Kentucky Downs Summer Meet
DESCRIPTION:First Post: 1:25 p.m. ET \nPhoto by Coady Media
URL:https://thepressboxlts.com/event/kentucky-downs-summer-meet/
LOCATION:Kentucky Downs\, Franklin\, KY\, KY\, United States
ATTACH;FMTTYPE=image/jpeg:https://thepressboxlts.com/wp-content/uploads/2025/08/WIMBLEDON-HAWKEYE-DK-Horse-Nashville-Derby-Invitational-Stakes-G3-08-30-25-R10-Kentucky-Downs-Paddock-03-Renee-Torbit-scaled.jpg
END:VEVENT
BEGIN:VEVENT
DTSTART;TZID=America/Kentucky/Louisville:20250824T113000
DTEND;TZID=America/Kentucky/Louisville:20250824T183000
DTSTAMP:20260420T070908
CREATED:20250819T172635Z
LAST-MODIFIED:20250819T172635Z
UID:74198-1756035000-1756060200@thepressboxlts.com
SUMMARY:Ellis Park Summer Meet -- Final Live Day of 2025
DESCRIPTION:First Post: 11:50 a.m. CT \nPhoto by Coady Media
URL:https://thepressboxlts.com/event/ellis-park-summer-meet-final-live-day-of-2025/
LOCATION:Ellis Park\, Henderson\, KY\, United States
ATTACH;FMTTYPE=image/jpeg:https://thepressboxlts.com/wp-content/uploads/2025/08/DESTINO-DORO-The-Pucker-up-G3-08-03-25-R09-Ellis-Park-Flowers-01-scaled.jpg
END:VEVENT
BEGIN:VEVENT
DTSTART;TZID=America/Kentucky/Louisville:20250823T123000
DTEND;TZID=America/Kentucky/Louisville:20250823T183000
DTSTAMP:20260420T070908
CREATED:20250819T172240Z
LAST-MODIFIED:20250819T172240Z
UID:74192-1755952200-1755973800@thepressboxlts.com
SUMMARY:Colonial Downs Summer Meet
DESCRIPTION:First Post: 12:30 p.m. ET \nPhoto by Coady Media
URL:https://thepressboxlts.com/event/colonial-downs-summer-meet-35/
LOCATION:Colonial Downs
ATTACH;FMTTYPE=image/jpeg:https://thepressboxlts.com/wp-content/uploads/2025/08/FORT-WASHINGTON-The-Arlington-Million-Stakes-08-09-25-R11-Colonial-Downs-Under-Rail-First-Pass-01-Renee-Torbit-scaled.jpg
END:VEVENT
BEGIN:VEVENT
DTSTART;TZID=America/Kentucky/Louisville:20250823T113000
DTEND;TZID=America/Kentucky/Louisville:20250823T183000
DTSTAMP:20260420T070908
CREATED:20250819T172522Z
LAST-MODIFIED:20250819T172522Z
UID:74196-1755948600-1755973800@thepressboxlts.com
SUMMARY:Ellis Park Summer Meet
DESCRIPTION:First Post: 11:50 a.m. CT \nPhoto by Coady Media
URL:https://thepressboxlts.com/event/ellis-park-summer-meet-99/
LOCATION:Ellis Park\, Henderson\, KY\, United States
ATTACH;FMTTYPE=image/jpeg:https://thepressboxlts.com/wp-content/uploads/2025/08/DESTINO-DORO-The-Pucker-up-G3-08-03-25-R09-Ellis-Park-Blanket-01-scaled.jpg
END:VEVENT
BEGIN:VEVENT
DTSTART;TZID=America/Kentucky/Louisville:20250822T160000
DTEND;TZID=America/Kentucky/Louisville:20250822T203000
DTSTAMP:20260420T070908
CREATED:20250819T172141Z
LAST-MODIFIED:20250819T172141Z
UID:74190-1755878400-1755894600@thepressboxlts.com
SUMMARY:Colonial Downs Summer Meet
DESCRIPTION:First Post: 4 p.m. ET \nPhoto by Coady Media
URL:https://thepressboxlts.com/event/colonial-downs-summer-meet-34/
LOCATION:Colonial Downs
ATTACH;FMTTYPE=image/jpeg:https://thepressboxlts.com/wp-content/uploads/2025/08/FORT-WASHINGTON-The-Arlington-Million-Stakes-08-09-25-R11-Colonial-Downs-Come-Back-4-Nick-Phillips-scaled.jpg
END:VEVENT
BEGIN:VEVENT
DTSTART;TZID=America/Kentucky/Louisville:20250822T113000
DTEND;TZID=America/Kentucky/Louisville:20250822T183000
DTSTAMP:20260420T070908
CREATED:20250819T172416Z
LAST-MODIFIED:20250819T172416Z
UID:74194-1755862200-1755887400@thepressboxlts.com
SUMMARY:Ellis Park Summer Meet
DESCRIPTION:First Post: 11:50 a.m. CT \nPhoto by Coady Media
URL:https://thepressboxlts.com/event/ellis-park-summer-meet-98/
LOCATION:Ellis Park\, Henderson\, KY\, United States
ATTACH;FMTTYPE=image/jpeg:https://thepressboxlts.com/wp-content/uploads/2025/08/Ellis-Park-Scenic-scaled.jpg
END:VEVENT
BEGIN:VEVENT
DTSTART;TZID=America/Kentucky/Louisville:20250821T140000
DTEND;TZID=America/Kentucky/Louisville:20250821T190000
DTSTAMP:20260420T070908
CREATED:20250819T173146Z
LAST-MODIFIED:20250819T173146Z
UID:74204-1755784800-1755802800@thepressboxlts.com
SUMMARY:Horseshoe Indianapolis Summer Meet
DESCRIPTION:First Post: 2:10 p.m. ET \nPhoto by Coady Media
URL:https://thepressboxlts.com/event/horseshoe-indianapolis-summer-meet-163/
LOCATION:Horseshoe Indianapolis\, Shelbyville\, IN\, United States
ATTACH;FMTTYPE=image/jpeg:https://thepressboxlts.com/wp-content/uploads/2025/07/ENCINO-Jonathan-B-Schuster-Memorial-07-05-25-R08-Horseshoe-Indiana-Turn-01-Kurtis-Coady-scaled.jpg
END:VEVENT
BEGIN:VEVENT
DTSTART;TZID=America/Kentucky/Louisville:20250821T123000
DTEND;TZID=America/Kentucky/Louisville:20250821T183000
DTSTAMP:20260420T070908
CREATED:20250819T172044Z
LAST-MODIFIED:20250819T172044Z
UID:74188-1755779400-1755801000@thepressboxlts.com
SUMMARY:Colonial Downs Summer Meet -- Claiming Crown Preview Day
DESCRIPTION:First Post: 12:30 p.m. ET \nPhoto by Coady Media
URL:https://thepressboxlts.com/event/colonial-downs-summer-meet-claiming-crown-preview-day/
LOCATION:Colonial Downs
ATTACH;FMTTYPE=image/jpeg:https://thepressboxlts.com/wp-content/uploads/2025/08/FORT-WASHINGTON-The-Arlington-Million-Stakes-08-09-25-R11-Colonial-Downs-Start-01-Nick-Phillips-scaled.jpg
END:VEVENT
BEGIN:VEVENT
DTSTART;TZID=America/Kentucky/Louisville:20250820T140000
DTEND;TZID=America/Kentucky/Louisville:20250820T190000
DTSTAMP:20260420T070908
CREATED:20250819T172946Z
LAST-MODIFIED:20250819T172946Z
UID:74202-1755698400-1755716400@thepressboxlts.com
SUMMARY:Horseshoe Indianapolis Summer Meet
DESCRIPTION:First Post: 2:10 p.m. ET \nPhoto by Coady Media
URL:https://thepressboxlts.com/event/horseshoe-indianapolis-summer-meet-162/
LOCATION:Horseshoe Indianapolis\, Shelbyville\, IN\, United States
ATTACH;FMTTYPE=image/jpeg:https://thepressboxlts.com/wp-content/uploads/2025/07/WILLY-DS-Michael-G-Schaefer-Memorial-07-05-25-R09-Horseshoe-Indiana-Start-01-Samantha-Pagels-scaled.jpg
END:VEVENT
BEGIN:VEVENT
DTSTART;TZID=America/Kentucky/Louisville:20250820T123000
DTEND;TZID=America/Kentucky/Louisville:20250820T183000
DTSTAMP:20260420T070908
CREATED:20250819T171916Z
LAST-MODIFIED:20250819T171916Z
UID:74186-1755693000-1755714600@thepressboxlts.com
SUMMARY:Colonial Downs Summer Meet
DESCRIPTION:First Post: 12:30 p.m. ET \nPhoto by Coady Media
URL:https://thepressboxlts.com/event/colonial-downs-summer-meet-33/
LOCATION:Colonial Downs
ATTACH;FMTTYPE=image/jpeg:https://thepressboxlts.com/wp-content/uploads/2025/08/FORT-WASHINGTON-The-Arlington-Million-Stakes-08-09-25-R11-Colonial-Downs-Junior-Alvarado-04-Renee-Torbit-scaled.jpg
END:VEVENT
BEGIN:VEVENT
DTSTART;TZID=America/Kentucky/Louisville:20250819T140000
DTEND;TZID=America/Kentucky/Louisville:20250819T190000
DTSTAMP:20260420T070908
CREATED:20250819T172835Z
LAST-MODIFIED:20250819T172835Z
UID:74200-1755612000-1755630000@thepressboxlts.com
SUMMARY:Horseshoe Indianapolis Summer Meet
DESCRIPTION:First Post: 2:10 p.m. ET \nPhoto by Coady Media
URL:https://thepressboxlts.com/event/horseshoe-indianapolis-summer-meet-161/
LOCATION:Horseshoe Indianapolis\, Shelbyville\, IN\, United States
ATTACH;FMTTYPE=image/jpeg:https://thepressboxlts.com/wp-content/uploads/2025/07/TIP-TOP-THOMAS-Indiana-Derby-G3-07-05-25-R12-Horseshoe-Indiana-Tight-Finish-01-Eli-Davis-scaled.jpg
END:VEVENT
BEGIN:VEVENT
DTSTART;TZID=America/Kentucky/Louisville:20250818T113000
DTEND;TZID=America/Kentucky/Louisville:20250818T173000
DTSTAMP:20260420T070908
CREATED:20250815T152958Z
LAST-MODIFIED:20250815T152958Z
UID:74136-1755516600-1755538200@thepressboxlts.com
SUMMARY:Ellis Park Summer Meet
DESCRIPTION:First Post: 11:50 a.m. CT \nPhoto by Coady Media
URL:https://thepressboxlts.com/event/ellis-park-summer-meet-97/
LOCATION:Ellis Park\, Henderson\, KY\, United States
ATTACH;FMTTYPE=image/jpeg:https://thepressboxlts.com/wp-content/uploads/2025/08/DESTINO-DORO-The-Pucker-up-G3-08-03-25-R09-Ellis-Park-Blanket-01-scaled.jpg
END:VEVENT
BEGIN:VEVENT
DTSTART;TZID=America/Kentucky/Louisville:20250817T113000
DTEND;TZID=America/Kentucky/Louisville:20250817T173000
DTSTAMP:20260420T070908
CREATED:20250815T152843Z
LAST-MODIFIED:20250815T152843Z
UID:74134-1755430200-1755451800@thepressboxlts.com
SUMMARY:Ellis Park Summer Meet
DESCRIPTION:First Post: 11:50 a.m. CT \nPhoto by Coady Media
URL:https://thepressboxlts.com/event/ellis-park-summer-meet-96/
LOCATION:Ellis Park\, Henderson\, KY\, United States
ATTACH;FMTTYPE=image/jpeg:https://thepressboxlts.com/wp-content/uploads/2025/08/DESTINO-DORO-The-Pucker-up-G3-08-03-25-R09-Ellis-Park-Flowers-01-scaled.jpg
END:VEVENT
BEGIN:VEVENT
DTSTART;TZID=America/Kentucky/Louisville:20250816T170000
DTEND;TZID=America/Kentucky/Louisville:20250816T220000
DTSTAMP:20260420T070908
CREATED:20250815T153604Z
LAST-MODIFIED:20250815T153604Z
UID:74142-1755363600-1755381600@thepressboxlts.com
SUMMARY:Horseshoe Indianapolis Summer Meet
DESCRIPTION:First Post: 5:10 p.m. ET \nPhoto by Coady Media
URL:https://thepressboxlts.com/event/horseshoe-indianapolis-summer-meet-160/
LOCATION:Horseshoe Indianapolis\, Shelbyville\, IN\, United States
ATTACH;FMTTYPE=image/jpeg:https://thepressboxlts.com/wp-content/uploads/2025/07/TIP-TOP-THOMAS-Indiana-Derby-G3-07-05-25-R12-Horseshoe-Indiana-Tight-Finish-01-Eli-Davis-scaled.jpg
END:VEVENT
BEGIN:VEVENT
DTSTART;TZID=America/Kentucky/Louisville:20250816T123000
DTEND;TZID=America/Kentucky/Louisville:20250816T183000
DTSTAMP:20260420T070908
CREATED:20250815T153314Z
LAST-MODIFIED:20250815T153314Z
UID:74140-1755347400-1755369000@thepressboxlts.com
SUMMARY:Colonial Downs Summer Meet
DESCRIPTION:First Post: 12:30 p.m. ET \nPhoto by Coady Media
URL:https://thepressboxlts.com/event/colonial-downs-summer-meet-32/
LOCATION:Colonial Downs
ATTACH;FMTTYPE=image/jpeg:https://thepressboxlts.com/wp-content/uploads/2025/08/FORT-WASHINGTON-The-Arlington-Million-Stakes-08-09-25-R11-Colonial-Downs-Start-01-Nick-Phillips-scaled.jpg
END:VEVENT
BEGIN:VEVENT
DTSTART;TZID=America/Kentucky/Louisville:20250816T113000
DTEND;TZID=America/Kentucky/Louisville:20250816T173000
DTSTAMP:20260420T070908
CREATED:20250815T152729Z
LAST-MODIFIED:20250815T152729Z
UID:74132-1755343800-1755365400@thepressboxlts.com
SUMMARY:Ellis Park Summer Meet
DESCRIPTION:First Post: 11:50 a.m. CT \nPhoto by Coady Media
URL:https://thepressboxlts.com/event/ellis-park-summer-meet-95/
LOCATION:Ellis Park\, Henderson\, KY\, United States
ATTACH;FMTTYPE=image/jpeg:https://thepressboxlts.com/wp-content/uploads/2025/08/Ellis-Park-Scenic-scaled.jpg
END:VEVENT
BEGIN:VEVENT
DTSTART;TZID=America/Kentucky/Louisville:20250815T160000
DTEND;TZID=America/Kentucky/Louisville:20250815T210000
DTSTAMP:20260420T070908
CREATED:20250815T153213Z
LAST-MODIFIED:20250815T153213Z
UID:74138-1755273600-1755291600@thepressboxlts.com
SUMMARY:Colonial Downs Summer Meet
DESCRIPTION:First Post: 4:00 p.m. ET \nPhoto by Coady Media
URL:https://thepressboxlts.com/event/colonial-downs-summer-meet-31/
LOCATION:Colonial Downs
ATTACH;FMTTYPE=image/jpeg:https://thepressboxlts.com/wp-content/uploads/2025/08/FORT-WASHINGTON-The-Arlington-Million-Stakes-08-09-25-R11-Colonial-Downs-Junior-Alvarado-04-Renee-Torbit-scaled.jpg
END:VEVENT
BEGIN:VEVENT
DTSTART;TZID=America/Kentucky/Louisville:20250814T140000
DTEND;TZID=America/Kentucky/Louisville:20250814T190000
DTSTAMP:20260420T070908
CREATED:20250811T232607Z
LAST-MODIFIED:20250811T232607Z
UID:74103-1755180000-1755198000@thepressboxlts.com
SUMMARY:Horseshoe Indianapolis Summer Meet
DESCRIPTION:First Post: 2:10 p.m. ET \nPhoto by Coady Media
URL:https://thepressboxlts.com/event/horseshoe-indianapolis-summer-meet-159/
LOCATION:Horseshoe Indianapolis\, Shelbyville\, IN\, United States
ATTACH;FMTTYPE=image/jpeg:https://thepressboxlts.com/wp-content/uploads/2024/06/DIAMOND-SOLITAIRE-Shelby-County-20th-Running-06-05-24-R07-Horseshoe-Indiana-Presentation-01-Sammantha-Pagels-scaled.jpg
END:VEVENT
BEGIN:VEVENT
DTSTART;TZID=America/Kentucky/Louisville:20250813T140000
DTEND;TZID=America/Kentucky/Louisville:20250813T190000
DTSTAMP:20260420T070908
CREATED:20250811T232510Z
LAST-MODIFIED:20250811T232510Z
UID:74101-1755093600-1755111600@thepressboxlts.com
SUMMARY:Horseshoe Indianapolis Summer Meet
DESCRIPTION:First Post: 2:10 p.m. ET \nPhoto by Coady Media
URL:https://thepressboxlts.com/event/horseshoe-indianapolis-summer-meet-158/
LOCATION:Horseshoe Indianapolis\, Shelbyville\, IN\, United States
ATTACH;FMTTYPE=image/jpeg:https://thepressboxlts.com/wp-content/uploads/2024/06/DIAMOND-SOLITAIRE-Shelby-County-20th-Running-06-05-24-R07-Horseshoe-Indiana-Finish-02-Sammantha-Pagels-scaled.jpg
END:VEVENT
BEGIN:VEVENT
DTSTART;TZID=America/Kentucky/Louisville:20250812T140000
DTEND;TZID=America/Kentucky/Louisville:20250812T190000
DTSTAMP:20260420T070908
CREATED:20250811T232351Z
LAST-MODIFIED:20250811T232351Z
UID:74099-1755007200-1755025200@thepressboxlts.com
SUMMARY:Horseshoe Indianapolis Summer Meet
DESCRIPTION:First Post: 2:10 p.m. ET \nPhoto by Coady Media
URL:https://thepressboxlts.com/event/horseshoe-indianapolis-summer-meet-157/
LOCATION:Horseshoe Indianapolis\, Shelbyville\, IN\, United States
ATTACH;FMTTYPE=image/jpeg:https://thepressboxlts.com/wp-content/uploads/2024/07/DIAMOND-SOLITAIRE-Checkered-Flag-28th-Running-06-26-24-R07-Horseshoe-Indiana-Finish-02-Sammantha-Pagels-scaled.jpg
END:VEVENT
BEGIN:VEVENT
DTSTART;TZID=America/Kentucky/Louisville:20250811T123000
DTEND;TZID=America/Kentucky/Louisville:20250811T183000
DTSTAMP:20260420T070908
CREATED:20250806T134655Z
LAST-MODIFIED:20250806T134655Z
UID:73997-1754915400-1754937000@thepressboxlts.com
SUMMARY:Ellis Park Summer Meet
DESCRIPTION:First Post: 12:45 p.m. CT \nPhoto by Coady Media
URL:https://thepressboxlts.com/event/ellis-park-summer-meet-94/
LOCATION:Ellis Park\, Henderson\, KY\, United States
ATTACH;FMTTYPE=image/jpeg:https://thepressboxlts.com/wp-content/uploads/2025/08/DESTINO-DORO-The-Pucker-up-G3-08-03-25-R09-Ellis-Park-Flowers-01-scaled.jpg
END:VEVENT
BEGIN:VEVENT
DTSTART;TZID=America/Kentucky/Louisville:20250810T123000
DTEND;TZID=America/Kentucky/Louisville:20250810T183000
DTSTAMP:20260420T070908
CREATED:20250806T134601Z
LAST-MODIFIED:20250806T134601Z
UID:73995-1754829000-1754850600@thepressboxlts.com
SUMMARY:Ellis Park Summer Meet
DESCRIPTION:First Post: 12:45 p.m. CT \nPhoto by Coady Media
URL:https://thepressboxlts.com/event/ellis-park-summer-meet-93/
LOCATION:Ellis Park\, Henderson\, KY\, United States
ATTACH;FMTTYPE=image/jpeg:https://thepressboxlts.com/wp-content/uploads/2025/08/DESTINO-DORO-The-Pucker-up-G3-08-03-25-R09-Ellis-Park-Start-01-scaled.jpg
END:VEVENT
BEGIN:VEVENT
DTSTART;TZID=America/Kentucky/Louisville:20250809T123000
DTEND;TZID=America/Kentucky/Louisville:20250809T190000
DTSTAMP:20260420T070908
CREATED:20250806T134512Z
LAST-MODIFIED:20250806T134512Z
UID:73993-1754742600-1754766000@thepressboxlts.com
SUMMARY:Ellis Park Summer Meet
DESCRIPTION:First Post: 12:45 p.m. CT \nPhoto by Coady Media
URL:https://thepressboxlts.com/event/ellis-park-summer-meet-92/
LOCATION:Ellis Park\, Henderson\, KY\, United States
ATTACH;FMTTYPE=image/jpeg:https://thepressboxlts.com/wp-content/uploads/2025/08/DESTINO-DORO-The-Pucker-up-G3-08-03-25-R09-Ellis-Park-Blanket-01-scaled.jpg
END:VEVENT
BEGIN:VEVENT
DTSTART;TZID=America/Kentucky/Louisville:20250809T120000
DTEND;TZID=America/Kentucky/Louisville:20250809T180000
DTSTAMP:20260420T070908
CREATED:20250806T135202Z
LAST-MODIFIED:20250806T135202Z
UID:74005-1754740800-1754762400@thepressboxlts.com
SUMMARY:Colonial Downs Summer Meet
DESCRIPTION:First Post: 12 noon ET \n 
URL:https://thepressboxlts.com/event/colonial-downs-summer-meet-30/
LOCATION:Colonial Downs
ATTACH;FMTTYPE=image/jpeg:https://thepressboxlts.com/wp-content/uploads/2025/07/Colonial-Downs_web-1-e1678889817555-1.jpg
END:VEVENT
BEGIN:VEVENT
DTSTART;TZID=America/Kentucky/Louisville:20250808T180000
DTEND;TZID=America/Kentucky/Louisville:20250808T220000
DTSTAMP:20260420T070908
CREATED:20250806T134310Z
LAST-MODIFIED:20250806T134310Z
UID:73989-1754676000-1754690400@thepressboxlts.com
SUMMARY:Horseshoe Indianapolis Summer Meet
DESCRIPTION:First Post: 6 p.m. ET \nPhoto by Coady Media
URL:https://thepressboxlts.com/event/horseshoe-indianapolis-summer-meet-156/
LOCATION:Horseshoe Indianapolis\, Shelbyville\, IN\, United States
ATTACH;FMTTYPE=image/jpeg:https://thepressboxlts.com/wp-content/uploads/2025/07/WILLY-DS-Michael-G-Schaefer-Memorial-07-05-25-R09-Horseshoe-Indiana-First-Turn-01-Kurtis-Coady-scaled.jpg
END:VEVENT
BEGIN:VEVENT
DTSTART;TZID=America/Kentucky/Louisville:20250808T160000
DTEND;TZID=America/Kentucky/Louisville:20250808T200000
DTSTAMP:20260420T070908
CREATED:20250806T135109Z
LAST-MODIFIED:20250806T135109Z
UID:74003-1754668800-1754683200@thepressboxlts.com
SUMMARY:Colonial Downs Summer Meet
DESCRIPTION:First Post: 4:00 p.m. ET \nPhoto by Coady Media
URL:https://thepressboxlts.com/event/colonial-downs-summer-meet-29/
LOCATION:Colonial Downs
ATTACH;FMTTYPE=image/jpeg:https://thepressboxlts.com/wp-content/uploads/2025/07/WINFINITY-The-Keswick-Stakes-08-03-24-R05-Colonial-Downs-001-1-1.jpg
END:VEVENT
BEGIN:VEVENT
DTSTART;TZID=America/Kentucky/Louisville:20250808T123000
DTEND;TZID=America/Kentucky/Louisville:20250808T183000
DTSTAMP:20260420T070908
CREATED:20250806T134415Z
LAST-MODIFIED:20250806T134415Z
UID:73991-1754656200-1754677800@thepressboxlts.com
SUMMARY:Ellis Park Summer Meet
DESCRIPTION:First Post: 12:45 p.m. CT \nPhoto by Coady Media
URL:https://thepressboxlts.com/event/ellis-park-summer-meet-91/
LOCATION:Ellis Park\, Henderson\, KY\, United States
ATTACH;FMTTYPE=image/jpeg:https://thepressboxlts.com/wp-content/uploads/2025/08/DESTINO-DORO-The-Pucker-up-G3-08-03-25-R09-Ellis-Park-Start-01-scaled.jpg
END:VEVENT
BEGIN:VEVENT
DTSTART;TZID=America/Kentucky/Louisville:20250807T140000
DTEND;TZID=America/Kentucky/Louisville:20250807T200000
DTSTAMP:20260420T070908
CREATED:20250806T134208Z
LAST-MODIFIED:20250806T134208Z
UID:73987-1754575200-1754596800@thepressboxlts.com
SUMMARY:Horseshoe Indianapolis Summer Meet
DESCRIPTION:First Post: 2:10 p.m. ET \nPhoto by Coady Media
URL:https://thepressboxlts.com/event/horseshoe-indianapolis-summer-meet-155/
LOCATION:Horseshoe Indianapolis\, Shelbyville\, IN\, United States
ATTACH;FMTTYPE=image/jpeg:https://thepressboxlts.com/wp-content/uploads/2025/07/TIP-TOP-THOMAS-Indiana-Derby-G3-07-05-25-R12-Horseshoe-Indiana-Paddock-03-Ashleigh-Schlitt-scaled.jpg
END:VEVENT
BEGIN:VEVENT
DTSTART;TZID=America/Kentucky/Louisville:20250807T103000
DTEND;TZID=America/Kentucky/Louisville:20250807T170000
DTSTAMP:20260420T070908
CREATED:20250806T134957Z
LAST-MODIFIED:20250806T134957Z
UID:74001-1754562600-1754586000@thepressboxlts.com
SUMMARY:Colonial Downs Summer Meet
DESCRIPTION:First Post: 10:45 a.m. ET \n 
URL:https://thepressboxlts.com/event/colonial-downs-summer-meet-28/
LOCATION:Colonial Downs
ATTACH;FMTTYPE=image/jpeg:https://thepressboxlts.com/wp-content/uploads/2025/07/Colonial-Downs_web-1-e1678889817555-1.jpg
END:VEVENT
BEGIN:VEVENT
DTSTART;TZID=America/Kentucky/Louisville:20250806T140000
DTEND;TZID=America/Kentucky/Louisville:20250806T200000
DTSTAMP:20260420T070908
CREATED:20250806T134107Z
LAST-MODIFIED:20250806T134107Z
UID:73985-1754488800-1754510400@thepressboxlts.com
SUMMARY:Horseshoe Indianapolis Summer Meet
DESCRIPTION:First Post: 2:10 p.m. ET \nPhoto by Coady Media
URL:https://thepressboxlts.com/event/horseshoe-indianapolis-summer-meet-154/
LOCATION:Horseshoe Indianapolis\, Shelbyville\, IN\, United States
ATTACH;FMTTYPE=image/jpeg:https://thepressboxlts.com/wp-content/uploads/2025/07/CLICQUOT-Daily-Racing-Form-Indiana-Oaks-G3-07-05-25-R11-Horseshoe-Indiana-Edgar-Morales-03-Kurtis-Coady-scaled.jpg
END:VEVENT
END:VCALENDAR