BEGIN:VCALENDAR
VERSION:2.0
PRODID:-//The Pressbox - ECPv6.15.19//NONSGML v1.0//EN
CALSCALE:GREGORIAN
METHOD:PUBLISH
X-WR-CALNAME:The Pressbox
X-ORIGINAL-URL:https://thepressboxlts.com
X-WR-CALDESC:Events for The Pressbox
REFRESH-INTERVAL;VALUE=DURATION:PT1H
X-Robots-Tag:noindex
X-PUBLISHED-TTL:PT1H
BEGIN:VTIMEZONE
TZID:America/Kentucky/Louisville
BEGIN:DAYLIGHT
TZOFFSETFROM:-0500
TZOFFSETTO:-0400
TZNAME:EDT
DTSTART:20240310T070000
END:DAYLIGHT
BEGIN:STANDARD
TZOFFSETFROM:-0400
TZOFFSETTO:-0500
TZNAME:EST
DTSTART:20241103T060000
END:STANDARD
BEGIN:DAYLIGHT
TZOFFSETFROM:-0500
TZOFFSETTO:-0400
TZNAME:EDT
DTSTART:20250309T070000
END:DAYLIGHT
BEGIN:STANDARD
TZOFFSETFROM:-0400
TZOFFSETTO:-0500
TZNAME:EST
DTSTART:20251102T060000
END:STANDARD
BEGIN:DAYLIGHT
TZOFFSETFROM:-0500
TZOFFSETTO:-0400
TZNAME:EDT
DTSTART:20260308T070000
END:DAYLIGHT
BEGIN:STANDARD
TZOFFSETFROM:-0400
TZOFFSETTO:-0500
TZNAME:EST
DTSTART:20261101T060000
END:STANDARD
END:VTIMEZONE
BEGIN:VEVENT
DTSTART;TZID=America/Kentucky/Louisville:20250926T123000
DTEND;TZID=America/Kentucky/Louisville:20250926T183000
DTSTAMP:20260420T033101
CREATED:20250921T141046Z
LAST-MODIFIED:20250921T141046Z
UID:75027-1758889800-1758911400@thepressboxlts.com
SUMMARY:Churchill Downs' September Meet
DESCRIPTION:First Post: 12:45 p.m. ET \nPhoto by Holly M. Smith
URL:https://thepressboxlts.com/event/churchill-downs-september-meet-37/
LOCATION:Churchill Downs\, Louisville\, KY\, United States
ATTACH;FMTTYPE=image/jpeg:https://thepressboxlts.com/wp-content/uploads/2025/09/HMS_2336-brad-cox-1-1-scaled.jpg
END:VEVENT
BEGIN:VEVENT
DTSTART;TZID=America/Kentucky/Louisville:20250925T170000
DTEND;TZID=America/Kentucky/Louisville:20250925T220000
DTSTAMP:20260420T033101
CREATED:20250921T140950Z
LAST-MODIFIED:20250921T140950Z
UID:75025-1758819600-1758837600@thepressboxlts.com
SUMMARY:Churchill Downs' September Meet
DESCRIPTION:First Post: 5:00 p.m. ET \nPhoto by Holly M. Smith
URL:https://thepressboxlts.com/event/churchill-downs-september-meet-36/
LOCATION:Churchill Downs\, Louisville\, KY\, United States
ATTACH;FMTTYPE=image/jpeg:https://thepressboxlts.com/wp-content/uploads/2025/09/HMS_2459-scaled.jpg
END:VEVENT
BEGIN:VEVENT
DTSTART;TZID=America/Kentucky/Louisville:20250925T140000
DTEND;TZID=America/Kentucky/Louisville:20250925T193000
DTSTAMP:20260420T033101
CREATED:20250921T140648Z
LAST-MODIFIED:20250921T140648Z
UID:75021-1758808800-1758828600@thepressboxlts.com
SUMMARY:Horseshoe Indianapolis Summer Meet
DESCRIPTION:First Post: 2:10 p.m. ET \nPhoto by Coady Media
URL:https://thepressboxlts.com/event/horseshoe-indianapolis-summer-meet-174/
LOCATION:Horseshoe Indianapolis\, Shelbyville\, IN\, United States
ATTACH;FMTTYPE=image/jpeg:https://thepressboxlts.com/wp-content/uploads/2025/07/ROYAL-JUSTICE-The-Ellen-Lucky-Star-07-05-25-R10-Horseshoe-Indiana-Finish-02-Ashleigh-Schlitt-scaled.jpg
END:VEVENT
BEGIN:VEVENT
DTSTART;TZID=America/Kentucky/Louisville:20250924T140000
DTEND;TZID=America/Kentucky/Louisville:20250924T193000
DTSTAMP:20260420T033101
CREATED:20250921T140548Z
LAST-MODIFIED:20250921T140548Z
UID:75019-1758722400-1758742200@thepressboxlts.com
SUMMARY:Horseshoe Indianapolis Summer Meet
DESCRIPTION:First Post: 2:10 p.m. ET \nPhoto by Coady Media
URL:https://thepressboxlts.com/event/horseshoe-indianapolis-summer-meet-173/
LOCATION:Horseshoe Indianapolis\, Shelbyville\, IN\, United States
ATTACH;FMTTYPE=image/jpeg:https://thepressboxlts.com/wp-content/uploads/2025/07/TIP-TOP-THOMAS-Indiana-Derby-G3-07-05-25-R12-Horseshoe-Indiana-Paddock-03-Ashleigh-Schlitt-scaled.jpg
END:VEVENT
BEGIN:VEVENT
DTSTART;TZID=America/Kentucky/Louisville:20250924T123000
DTEND;TZID=America/Kentucky/Louisville:20250924T190000
DTSTAMP:20260420T033101
CREATED:20250921T140847Z
LAST-MODIFIED:20250921T140847Z
UID:75023-1758717000-1758740400@thepressboxlts.com
SUMMARY:Churchill Downs' September Meet
DESCRIPTION:First Post: 12:45 p.m. ET \nPhoto by Holly M. Smith
URL:https://thepressboxlts.com/event/churchill-downs-september-meet-35/
LOCATION:Churchill Downs\, Louisville\, KY\, United States
ATTACH;FMTTYPE=image/jpeg:https://thepressboxlts.com/wp-content/uploads/2025/09/HMS_2413-ragtime-1-scaled.jpg
END:VEVENT
BEGIN:VEVENT
DTSTART;TZID=America/Kentucky/Louisville:20250923T140000
DTEND;TZID=America/Kentucky/Louisville:20250923T193000
DTSTAMP:20260420T033101
CREATED:20250921T140454Z
LAST-MODIFIED:20250921T140454Z
UID:75017-1758636000-1758655800@thepressboxlts.com
SUMMARY:Horseshoe Indianapolis Summer Meet
DESCRIPTION:First Post: 2:10 p.m. ET \nPhoto by Coady Media
URL:https://thepressboxlts.com/event/horseshoe-indianapolis-summer-meet-172/
LOCATION:Horseshoe Indianapolis\, Shelbyville\, IN\, United States
ATTACH;FMTTYPE=image/jpeg:https://thepressboxlts.com/wp-content/uploads/2025/07/WILLY-DS-Michael-G-Schaefer-Memorial-07-05-25-R09-Horseshoe-Indiana-First-Turn-01-Kurtis-Coady-scaled.jpg
END:VEVENT
BEGIN:VEVENT
DTSTART;TZID=America/Kentucky/Louisville:20250922T140000
DTEND;TZID=America/Kentucky/Louisville:20250922T190000
DTSTAMP:20260420T033101
CREATED:20250921T140352Z
LAST-MODIFIED:20250921T140352Z
UID:75015-1758549600-1758567600@thepressboxlts.com
SUMMARY:Horseshoe Indianapolis Summer Meet
DESCRIPTION:First Post: 2:10 p.m. ET \nPhoto by Coady Media
URL:https://thepressboxlts.com/event/horseshoe-indianapolis-summer-meet-171/
LOCATION:Horseshoe Indianapolis\, Shelbyville\, IN\, United States
ATTACH;FMTTYPE=image/jpeg:https://thepressboxlts.com/wp-content/uploads/2025/07/WILLY-DS-Michael-G-Schaefer-Memorial-07-05-25-R09-Horseshoe-Indiana-Start-01-Samantha-Pagels-scaled.jpg
END:VEVENT
BEGIN:VEVENT
DTSTART;TZID=America/Kentucky/Louisville:20250921T123000
DTEND;TZID=America/Kentucky/Louisville:20250921T183000
DTSTAMP:20260420T033101
CREATED:20250915T223945Z
LAST-MODIFIED:20250915T223945Z
UID:74773-1758457800-1758479400@thepressboxlts.com
SUMMARY:Churchill Downs September Meet
DESCRIPTION:First Post: 12:45 p.m. ET \nPhoto by Holly M. Smith
URL:https://thepressboxlts.com/event/churchill-downs-september-meet-34/
LOCATION:Churchill Downs\, Louisville\, KY\, United States
ATTACH;FMTTYPE=image/jpeg:https://thepressboxlts.com/wp-content/uploads/2025/09/HMS_1486.jpg
END:VEVENT
BEGIN:VEVENT
DTSTART;TZID=America/Kentucky/Louisville:20250920T123000
DTEND;TZID=America/Kentucky/Louisville:20250920T180000
DTSTAMP:20260420T033101
CREATED:20250915T223848Z
LAST-MODIFIED:20250915T223848Z
UID:74771-1758371400-1758391200@thepressboxlts.com
SUMMARY:Churchill Downs September Meet
DESCRIPTION:First Post: 12:45 p.m. ET \nPhoto by Holly M. Smith
URL:https://thepressboxlts.com/event/churchill-downs-september-meet-33/
LOCATION:Churchill Downs\, Louisville\, KY\, United States
ATTACH;FMTTYPE=image/jpeg:https://thepressboxlts.com/wp-content/uploads/2025/09/HMS_1427.jpg
END:VEVENT
BEGIN:VEVENT
DTSTART;TZID=America/Kentucky/Louisville:20250919T123000
DTEND;TZID=America/Kentucky/Louisville:20250919T180000
DTSTAMP:20260420T033101
CREATED:20250915T223750Z
LAST-MODIFIED:20250915T223750Z
UID:74769-1758285000-1758304800@thepressboxlts.com
SUMMARY:Churchill Downs September Meet
DESCRIPTION:First Post: 12:45 p.m. ET \nPhoto by Holly M. Smith
URL:https://thepressboxlts.com/event/churchill-downs-september-meet-32/
LOCATION:Churchill Downs\, Louisville\, KY\, United States
ATTACH;FMTTYPE=image/jpeg:https://thepressboxlts.com/wp-content/uploads/2025/09/HMS_1954-bentornato-1.jpg
END:VEVENT
BEGIN:VEVENT
DTSTART;TZID=America/Kentucky/Louisville:20250918T170000
DTEND;TZID=America/Kentucky/Louisville:20250918T220000
DTSTAMP:20260420T033101
CREATED:20250915T223643Z
LAST-MODIFIED:20250915T223643Z
UID:74767-1758214800-1758232800@thepressboxlts.com
SUMMARY:Churchill Downs September Meet
DESCRIPTION:First Post: 5:00 p.m. ET \nPhoto by Holly M. Smith \n 
URL:https://thepressboxlts.com/event/churchill-downs-september-meet-31/
LOCATION:Churchill Downs\, Louisville\, KY\, United States
ATTACH;FMTTYPE=image/jpeg:https://thepressboxlts.com/wp-content/uploads/2025/09/HMS_1828-b-hernandez.jpg
END:VEVENT
BEGIN:VEVENT
DTSTART;TZID=America/Kentucky/Louisville:20250918T140000
DTEND;TZID=America/Kentucky/Louisville:20250918T193000
DTSTAMP:20260420T033101
CREATED:20250915T224423Z
LAST-MODIFIED:20250915T224423Z
UID:74779-1758204000-1758223800@thepressboxlts.com
SUMMARY:Horseshoe Indianapolis Summer Meet
DESCRIPTION:First Post: 2:10 p.m. ET \nPhoto by Coady Media
URL:https://thepressboxlts.com/event/horseshoe-indianapolis-summer-meet-170/
LOCATION:Horseshoe Indianapolis\, Shelbyville\, IN\, United States
ATTACH;FMTTYPE=image/jpeg:https://thepressboxlts.com/wp-content/uploads/2025/09/IMAGINE-THE-MOON-The-Hoosier-Heartland-25th-Running-09-10-25-R07-Horseshoe-Indiana-Finish-02-Sammantha-Pagels-scaled.jpg
END:VEVENT
BEGIN:VEVENT
DTSTART;TZID=America/Kentucky/Louisville:20250917T140000
DTEND;TZID=America/Kentucky/Louisville:20250917T193000
DTSTAMP:20260420T033101
CREATED:20250915T224234Z
LAST-MODIFIED:20250915T224234Z
UID:74777-1758117600-1758137400@thepressboxlts.com
SUMMARY:Horseshoe Indianapolis Summer Meet
DESCRIPTION:First Post: 2:10 p.m. ET \nPhoto by Coady Media
URL:https://thepressboxlts.com/event/horseshoe-indianapolis-summer-meet-169/
LOCATION:Horseshoe Indianapolis\, Shelbyville\, IN\, United States
ATTACH;FMTTYPE=image/jpeg:https://thepressboxlts.com/wp-content/uploads/2025/07/ENCINO-Jonathan-B-Schuster-Memorial-07-05-25-R08-Horseshoe-Indiana-Turn-01-Kurtis-Coady-scaled.jpg
END:VEVENT
BEGIN:VEVENT
DTSTART;TZID=America/Kentucky/Louisville:20250916T140000
DTEND;TZID=America/Kentucky/Louisville:20250916T193000
DTSTAMP:20260420T033101
CREATED:20250915T224123Z
LAST-MODIFIED:20250915T224123Z
UID:74775-1758031200-1758051000@thepressboxlts.com
SUMMARY:Horseshoe Indianapolis Summer Meet
DESCRIPTION:First Post: 2:10 p.m. ET \nPhoto by Coady Media
URL:https://thepressboxlts.com/event/horseshoe-indianapolis-summer-meet-168/
LOCATION:Horseshoe Indianapolis\, Shelbyville\, IN\, United States
ATTACH;FMTTYPE=image/jpeg:https://thepressboxlts.com/wp-content/uploads/2025/07/WILLY-DS-Michael-G-Schaefer-Memorial-07-05-25-R09-Horseshoe-Indiana-Start-01-Samantha-Pagels-scaled.jpg
END:VEVENT
BEGIN:VEVENT
DTSTART;TZID=America/Kentucky/Louisville:20250907T133000
DTEND;TZID=America/Kentucky/Louisville:20250907T183000
DTSTAMP:20260420T033101
CREATED:20250831T165820Z
LAST-MODIFIED:20250831T165820Z
UID:74411-1757251800-1757269800@thepressboxlts.com
SUMMARY:Kentucky Downs Summer Meet
DESCRIPTION:First Post: 1:30 p.m. ET \nPhoto by Coady Media
URL:https://thepressboxlts.com/event/kentucky-downs-summer-meet-4/
LOCATION:Kentucky Downs\, Franklin\, KY\, KY\, United States
ATTACH;FMTTYPE=image/jpeg:https://thepressboxlts.com/wp-content/uploads/2025/08/LAGYNOS-The-Keeneland-Sales-Tapit-Stakes-08-28-25-R10-Kentucky-Downs-Aerial-Finish-01-Lilian-Paulson-scaled.jpg
END:VEVENT
BEGIN:VEVENT
DTSTART;TZID=America/Kentucky/Louisville:20250907T130000
DTEND;TZID=America/Kentucky/Louisville:20250907T190000
DTSTAMP:20260420T033101
CREATED:20250901T141621Z
LAST-MODIFIED:20250901T141621Z
UID:74469-1757250000-1757271600@thepressboxlts.com
SUMMARY:KY Downs Live Meet
DESCRIPTION:First Post: 1:20 p.m. ET \nPhoto by Coady Media
URL:https://thepressboxlts.com/event/ky-downs-live-meet-3/
LOCATION:KY
ATTACH;FMTTYPE=image/jpeg:https://thepressboxlts.com/wp-content/uploads/2025/08/LAGYNOS-The-Keeneland-Sales-Tapit-Stakes-08-28-25-R10-Kentucky-Downs-Aerial-Finish-01-Lilian-Paulson-scaled.jpg
END:VEVENT
BEGIN:VEVENT
DTSTART;TZID=America/Kentucky/Louisville:20250906T133000
DTEND;TZID=America/Kentucky/Louisville:20250906T183000
DTSTAMP:20260420T033101
CREATED:20250831T165704Z
LAST-MODIFIED:20250831T165704Z
UID:74409-1757165400-1757183400@thepressboxlts.com
SUMMARY:Kentucky Downs Summer Meet
DESCRIPTION:First Post: 1:30 p.m. ET \nPhoto by Coady Media
URL:https://thepressboxlts.com/event/kentucky-downs-summer-meet-3/
LOCATION:Kentucky Downs\, Franklin\, KY\, KY\, United States
ATTACH;FMTTYPE=image/jpeg:https://thepressboxlts.com/wp-content/uploads/2025/08/FLATTEN-THE-CURVE-Mountain-Dew-Bowling-Green-Gold-Cup-Invitational-Stakes-08-30-25-R07-Kentucky-Downs-Inside-Finish-04-Christine-Hayden-1-scaled.jpg
END:VEVENT
BEGIN:VEVENT
DTSTART;TZID=America/Kentucky/Louisville:20250906T130000
DTEND;TZID=America/Kentucky/Louisville:20250906T190000
DTSTAMP:20260420T033101
CREATED:20250901T141505Z
LAST-MODIFIED:20250901T141505Z
UID:74467-1757163600-1757185200@thepressboxlts.com
SUMMARY:KY Downs Live Meet
DESCRIPTION:First Post: 1:20 p.m. ET \nPhoto by Coady Media
URL:https://thepressboxlts.com/event/ky-downs-live-meet-2/
LOCATION:Kentucky Downs\, Franklin\, KY\, KY\, United States
ATTACH;FMTTYPE=image/jpeg:https://thepressboxlts.com/wp-content/uploads/2025/08/WIMBLEDON-HAWKEYE-DK-Horse-Nashville-Derby-Invitational-Stakes-G3-08-30-25-R10-Kentucky-Downs-Paddock-03-Renee-Torbit-scaled.jpg
END:VEVENT
BEGIN:VEVENT
DTSTART;TZID=America/Kentucky/Louisville:20250906T120000
DTEND;TZID=America/Kentucky/Louisville:20250906T190000
DTSTAMP:20260420T033101
CREATED:20250901T140919Z
LAST-MODIFIED:20250901T140919Z
UID:74463-1757160000-1757185200@thepressboxlts.com
SUMMARY:Colonial Downs Summer Meet -- Old Dominion Derby Day
DESCRIPTION:First Post: 12 noon ET \nPhoto by Coady Media
URL:https://thepressboxlts.com/event/colonial-downs-summer-meet-old-dominion-derby-day/
LOCATION:Colonial Downs
ATTACH;FMTTYPE=image/jpeg:https://thepressboxlts.com/wp-content/uploads/2025/08/Mystik-Dan-08-08-25-Colonial-Downs-06-scaled.jpg
END:VEVENT
BEGIN:VEVENT
DTSTART;TZID=America/Kentucky/Louisville:20250905T160000
DTEND;TZID=America/Kentucky/Louisville:20250905T210000
DTSTAMP:20260420T033101
CREATED:20250901T140725Z
LAST-MODIFIED:20250901T140725Z
UID:74461-1757088000-1757106000@thepressboxlts.com
SUMMARY:Colonial Downs Summer Meet
DESCRIPTION:First Post: 4 p.m. ET \nPhoto by Coady Media
URL:https://thepressboxlts.com/event/colonial-downs-summer-meet-38/
LOCATION:Colonial Downs
ATTACH;FMTTYPE=image/jpeg:https://thepressboxlts.com/wp-content/uploads/2025/08/FORT-WASHINGTON-The-Arlington-Million-Stakes-08-09-25-R11-Colonial-Downs-Bath-01-Nick-Phillips-scaled.jpg
END:VEVENT
BEGIN:VEVENT
DTSTART;TZID=America/Kentucky/Louisville:20250905T140000
DTEND;TZID=America/Kentucky/Louisville:20250905T190000
DTSTAMP:20260420T033101
CREATED:20250901T140110Z
LAST-MODIFIED:20250901T140110Z
UID:74455-1757080800-1757098800@thepressboxlts.com
SUMMARY:Horseshoe Indianapolis Summer Meet
DESCRIPTION:First Post: 2:10 p.m. ET \nPhoto by Coady Media
URL:https://thepressboxlts.com/event/horseshoe-indianapolis-summer-meet-167/
LOCATION:Horseshoe Indianapolis\, Shelbyville\, IN\, United States
ATTACH;FMTTYPE=image/jpeg:https://thepressboxlts.com/wp-content/uploads/2025/07/WILLY-DS-Michael-G-Schaefer-Memorial-07-05-25-R09-Horseshoe-Indiana-First-Turn-01-Kurtis-Coady-scaled.jpg
END:VEVENT
BEGIN:VEVENT
DTSTART;TZID=America/Kentucky/Louisville:20250904T140000
DTEND;TZID=America/Kentucky/Louisville:20250904T190000
DTSTAMP:20260420T033101
CREATED:20250901T140012Z
LAST-MODIFIED:20250901T140012Z
UID:74453-1756994400-1757012400@thepressboxlts.com
SUMMARY:Horseshoe Indianapolis Summer Meet
DESCRIPTION:First Post: 2:10 p.m. ET \nPhoto by Coady Media
URL:https://thepressboxlts.com/event/horseshoe-indianapolis-summer-meet-166/
LOCATION:Horseshoe Indianapolis\, Shelbyville\, IN\, United States
ATTACH;FMTTYPE=image/jpeg:https://thepressboxlts.com/wp-content/uploads/2025/07/CLICQUOT-Daily-Racing-Form-Indiana-Oaks-G3-07-05-25-R11-Horseshoe-Indiana-Edgar-Morales-03-Kurtis-Coady-scaled.jpg
END:VEVENT
BEGIN:VEVENT
DTSTART;TZID=America/Kentucky/Louisville:20250904T130000
DTEND;TZID=America/Kentucky/Louisville:20250904T190000
DTSTAMP:20260420T033101
CREATED:20250901T141327Z
LAST-MODIFIED:20250901T141327Z
UID:74465-1756990800-1757012400@thepressboxlts.com
SUMMARY:KY Downs Live Meet
DESCRIPTION:First Post: 1:20 p.m. ET \nPhoto by Coady Media
URL:https://thepressboxlts.com/event/ky-downs-live-meet/
LOCATION:Kentucky Downs\, Franklin\, KY\, KY\, United States
ATTACH;FMTTYPE=image/jpeg:https://thepressboxlts.com/wp-content/uploads/2025/09/MERINGUE-The-Kentucky-Downs-Juvenile-Fillies-08-31-25-R11-Kentucky-Downs-Finish-03-Cady-Coulardot-scaled.jpg
END:VEVENT
BEGIN:VEVENT
DTSTART;TZID=America/Kentucky/Louisville:20250904T130000
DTEND;TZID=America/Kentucky/Louisville:20250904T180000
DTSTAMP:20260420T033101
CREATED:20250831T165533Z
LAST-MODIFIED:20250831T165533Z
UID:74407-1756990800-1757008800@thepressboxlts.com
SUMMARY:Kentucky Downs Summer Meet
DESCRIPTION:First Post: 1:20 p.m. ET \nPhoto by Coady Media
URL:https://thepressboxlts.com/event/kentucky-downs-summer-meet-2/
LOCATION:Kentucky Downs\, Franklin\, KY\, KY\, United States
ATTACH;FMTTYPE=image/jpeg:https://thepressboxlts.com/wp-content/uploads/2025/08/FLATTEN-THE-CURVE-Mountain-Dew-Bowling-Green-Gold-Cup-Invitational-Stakes-08-30-25-R07-Kentucky-Downs-Come-Back-02-Cady-Coulardot-scaled.jpg
END:VEVENT
BEGIN:VEVENT
DTSTART;TZID=America/Kentucky/Louisville:20250904T123000
DTEND;TZID=America/Kentucky/Louisville:20250904T183000
DTSTAMP:20260420T033101
CREATED:20250901T140539Z
LAST-MODIFIED:20250901T140539Z
UID:74459-1756989000-1757010600@thepressboxlts.com
SUMMARY:Colonial Downs Summer Meet
DESCRIPTION:First Post: 12:30 p.m. ET \nPhoto by Coady Media
URL:https://thepressboxlts.com/event/colonial-downs-summer-meet-37/
LOCATION:Colonial Downs
ATTACH;FMTTYPE=image/jpeg:https://thepressboxlts.com/wp-content/uploads/2025/08/FORT-WASHINGTON-The-Arlington-Million-Stakes-08-09-25-R11-Colonial-Downs-Interview-01-Nick-Phillips-scaled.jpg
END:VEVENT
BEGIN:VEVENT
DTSTART;TZID=America/Kentucky/Louisville:20250903T140000
DTEND;TZID=America/Kentucky/Louisville:20250903T190000
DTSTAMP:20260420T033101
CREATED:20250901T135907Z
LAST-MODIFIED:20250901T135907Z
UID:74451-1756908000-1756926000@thepressboxlts.com
SUMMARY:Horseshoe Indianapolis Summer Meet
DESCRIPTION:First Post: 2:10 p.m. ET \nPhoto by Coady Media
URL:https://thepressboxlts.com/event/horseshoe-indianapolis-summer-meet-165/
LOCATION:Horseshoe Indianapolis\, Shelbyville\, IN\, United States
ATTACH;FMTTYPE=image/jpeg:https://thepressboxlts.com/wp-content/uploads/2025/07/CLICQUOT-Daily-Racing-Form-Indiana-Oaks-G3-07-05-25-R11-Horseshoe-Indiana-Finish-02-Ashleigh-Schlitt-scaled.jpg
END:VEVENT
BEGIN:VEVENT
DTSTART;TZID=America/Kentucky/Louisville:20250902T140000
DTEND;TZID=America/Kentucky/Louisville:20250902T190000
DTSTAMP:20260420T033101
CREATED:20250901T135724Z
LAST-MODIFIED:20250901T135724Z
UID:74449-1756821600-1756839600@thepressboxlts.com
SUMMARY:Horseshoe Indianapolis Summer Meet
DESCRIPTION:First Post: 2:10 p.m. ET \nPhoto by Coady Media
URL:https://thepressboxlts.com/event/horseshoe-indianapolis-summer-meet-164/
LOCATION:Horseshoe Indianapolis\, Shelbyville\, IN\, United States
ATTACH;FMTTYPE=image/jpeg:https://thepressboxlts.com/wp-content/uploads/2025/07/TIP-TOP-THOMAS-Indiana-Derby-G3-07-05-25-R12-Horseshoe-Indiana-Paddock-03-Ashleigh-Schlitt-scaled.jpg
END:VEVENT
BEGIN:VEVENT
DTSTART;TZID=America/Kentucky/Louisville:20250901T123000
DTEND;TZID=America/Kentucky/Louisville:20250901T183000
DTSTAMP:20260420T033101
CREATED:20250901T140352Z
LAST-MODIFIED:20250901T140352Z
UID:74457-1756729800-1756751400@thepressboxlts.com
SUMMARY:Colonial Downs Summer Meet
DESCRIPTION:First Post: 12:30 p.m. ET \nPhoto by Coady Media
URL:https://thepressboxlts.com/event/colonial-downs-summer-meet-36/
LOCATION:Colonial Downs
ATTACH;FMTTYPE=image/jpeg:https://thepressboxlts.com/wp-content/uploads/2025/08/FORT-WASHINGTON-The-Arlington-Million-Stakes-08-09-25-R11-Colonial-Downs-Start-01-Nick-Phillips-scaled.jpg
END:VEVENT
BEGIN:VEVENT
DTSTART;TZID=America/Kentucky/Louisville:20250831T130000
DTEND;TZID=America/Kentucky/Louisville:20250831T190000
DTSTAMP:20260420T033101
CREATED:20250831T165206Z
LAST-MODIFIED:20250831T165206Z
UID:74405-1756645200-1756666800@thepressboxlts.com
SUMMARY:Kentucky Downs Summer Meet
DESCRIPTION:First Post: 1:25 p.m. ET \nPhoto by Coady Media
URL:https://thepressboxlts.com/event/kentucky-downs-summer-meet/
LOCATION:Kentucky Downs\, Franklin\, KY\, KY\, United States
ATTACH;FMTTYPE=image/jpeg:https://thepressboxlts.com/wp-content/uploads/2025/08/WIMBLEDON-HAWKEYE-DK-Horse-Nashville-Derby-Invitational-Stakes-G3-08-30-25-R10-Kentucky-Downs-Paddock-03-Renee-Torbit-scaled.jpg
END:VEVENT
BEGIN:VEVENT
DTSTART;TZID=America/Kentucky/Louisville:20250824T113000
DTEND;TZID=America/Kentucky/Louisville:20250824T183000
DTSTAMP:20260420T033101
CREATED:20250819T172635Z
LAST-MODIFIED:20250819T172635Z
UID:74198-1756035000-1756060200@thepressboxlts.com
SUMMARY:Ellis Park Summer Meet -- Final Live Day of 2025
DESCRIPTION:First Post: 11:50 a.m. CT \nPhoto by Coady Media
URL:https://thepressboxlts.com/event/ellis-park-summer-meet-final-live-day-of-2025/
LOCATION:Ellis Park\, Henderson\, KY\, United States
ATTACH;FMTTYPE=image/jpeg:https://thepressboxlts.com/wp-content/uploads/2025/08/DESTINO-DORO-The-Pucker-up-G3-08-03-25-R09-Ellis-Park-Flowers-01-scaled.jpg
END:VEVENT
END:VCALENDAR